BEGIN:VCALENDAR
VERSION:2.0
PRODID:-//Serna Solutions LLC - ECPv6.15.20//NONSGML v1.0//EN
CALSCALE:GREGORIAN
METHOD:PUBLISH
X-ORIGINAL-URL:https://sernasolutionsllc.com
X-WR-CALDESC:Events for Serna Solutions LLC
REFRESH-INTERVAL;VALUE=DURATION:PT1H
X-Robots-Tag:noindex
X-PUBLISHED-TTL:PT1H
BEGIN:VTIMEZONE
TZID:America/Denver
BEGIN:DAYLIGHT
TZOFFSETFROM:-0700
TZOFFSETTO:-0600
TZNAME:MDT
DTSTART:20230312T090000
END:DAYLIGHT
BEGIN:STANDARD
TZOFFSETFROM:-0600
TZOFFSETTO:-0700
TZNAME:MST
DTSTART:20231105T080000
END:STANDARD
BEGIN:DAYLIGHT
TZOFFSETFROM:-0700
TZOFFSETTO:-0600
TZNAME:MDT
DTSTART:20240310T090000
END:DAYLIGHT
BEGIN:STANDARD
TZOFFSETFROM:-0600
TZOFFSETTO:-0700
TZNAME:MST
DTSTART:20241103T080000
END:STANDARD
BEGIN:DAYLIGHT
TZOFFSETFROM:-0700
TZOFFSETTO:-0600
TZNAME:MDT
DTSTART:20250309T090000
END:DAYLIGHT
BEGIN:STANDARD
TZOFFSETFROM:-0600
TZOFFSETTO:-0700
TZNAME:MST
DTSTART:20251102T080000
END:STANDARD
END:VTIMEZONE
BEGIN:VEVENT
DTSTART;TZID=America/Denver:20240604T090000
DTEND;TZID=America/Denver:20240604T160000
DTSTAMP:20260421T081606
CREATED:20240410T201536Z
LAST-MODIFIED:20240410T201536Z
UID:10005949-1717491600-1717516800@sernasolutionsllc.com
SUMMARY:Cognitive Behavioral Therapy - SOR (Free)
DESCRIPTION:Cognitive Behavioral Therapy (CBT) is one of the most widely used approaches and has been demonstrated to be effective for a wide range of problems and diagnoses. Numerous research studies suggest that CBT leads to significant improvement in functioning and quality of life. CBT is based on several core principles including that challenges are based\, in part\, on learned patterns of unhelpful behavior. CBT can facilitate learning of better ways of coping and involves efforts to change thinking patterns. This workshop will be highly interactive and will provide participants with many opportunities to exercise CBT tools. This online training requires a working camera and microphone\, there will be a 1 HR lunch break from noon-1 pm MST. (6 CEUs)
URL:https://sernasolutionsllc.com/event/cognitive-behavioral-therapy-sor-free/
LOCATION:ONLINE
CATEGORIES:Training- SOR,Trainings
ATTACH;FMTTYPE=image/jpeg:https://sernasolutionsllc.com/wp-content/uploads/2024/04/Serna-Solutions-Web-Graphics.jpg
ORGANIZER;CN="Serna Solutions%2C LLC":MAILTO:training@sernasolutionsllc.com
END:VEVENT
END:VCALENDAR