BEGIN:VCALENDAR
VERSION:2.0
PRODID:-//Serna Solutions LLC - ECPv6.15.20//NONSGML v1.0//EN
CALSCALE:GREGORIAN
METHOD:PUBLISH
X-ORIGINAL-URL:https://sernasolutionsllc.com
X-WR-CALDESC:Events for Serna Solutions LLC
REFRESH-INTERVAL;VALUE=DURATION:PT1H
X-Robots-Tag:noindex
X-PUBLISHED-TTL:PT1H
BEGIN:VTIMEZONE
TZID:America/Denver
BEGIN:DAYLIGHT
TZOFFSETFROM:-0700
TZOFFSETTO:-0600
TZNAME:MDT
DTSTART:20230312T090000
END:DAYLIGHT
BEGIN:STANDARD
TZOFFSETFROM:-0600
TZOFFSETTO:-0700
TZNAME:MST
DTSTART:20231105T080000
END:STANDARD
BEGIN:DAYLIGHT
TZOFFSETFROM:-0700
TZOFFSETTO:-0600
TZNAME:MDT
DTSTART:20240310T090000
END:DAYLIGHT
BEGIN:STANDARD
TZOFFSETFROM:-0600
TZOFFSETTO:-0700
TZNAME:MST
DTSTART:20241103T080000
END:STANDARD
BEGIN:DAYLIGHT
TZOFFSETFROM:-0700
TZOFFSETTO:-0600
TZNAME:MDT
DTSTART:20250309T090000
END:DAYLIGHT
BEGIN:STANDARD
TZOFFSETFROM:-0600
TZOFFSETTO:-0700
TZNAME:MST
DTSTART:20251102T080000
END:STANDARD
END:VTIMEZONE
BEGIN:VEVENT
DTSTART;TZID=America/Denver:20240129T090000
DTEND;TZID=America/Denver:20240130T160000
DTSTAMP:20260421T183323
CREATED:20240103T220723Z
LAST-MODIFIED:20240108T161406Z
UID:10005931-1706518800-1706630400@sernasolutionsllc.com
SUMMARY:Adolescent - Community Reinforcement Approach (A-CRA) (12 CEUs)
DESCRIPTION:This 2-day online training is focused on the Adolescent – Community Reinforcement Approach (A-CRA): a comprehensive behavioral program for treating substance-abuse problems with persons ages 12-24. It is based on the belief that environmental contingencies can play a powerful role in encouraging or discouraging addictive behaviors. Consequently\, it utilizes social\, recreational\, familial\, educational\, and vocational reinforcers to assist clients in the recovery process. Its goal is to make a sober lifestyle more rewarding than the use of substances. A working camera and microphone are required to register for this training\, and the training will include a 1HR (MST) noon lunch break on both days. (12 CEUs)
URL:https://sernasolutionsllc.com/event/adolescent-community-reinforcement-approach-a-cra-12-ceus/
LOCATION:ONLINE
CATEGORIES:Trainings
ATTACH;FMTTYPE=image/jpeg:https://sernasolutionsllc.com/wp-content/uploads/2024/01/Serna-Solutions-Eventbrite-Graphic-09-1-scaled.jpg
ORGANIZER;CN="Serna Solutions%2C LLC":MAILTO:training@sernasolutionsllc.com
END:VEVENT
END:VCALENDAR