BEGIN:VCALENDAR
VERSION:2.0
PRODID:-//Serna Solutions LLC - ECPv6.15.20//NONSGML v1.0//EN
CALSCALE:GREGORIAN
METHOD:PUBLISH
X-WR-CALNAME:Serna Solutions LLC
X-ORIGINAL-URL:https://sernasolutionsllc.com
X-WR-CALDESC:Events for Serna Solutions LLC
REFRESH-INTERVAL;VALUE=DURATION:PT1H
X-Robots-Tag:noindex
X-PUBLISHED-TTL:PT1H
BEGIN:VTIMEZONE
TZID:America/Denver
BEGIN:DAYLIGHT
TZOFFSETFROM:-0700
TZOFFSETTO:-0600
TZNAME:MDT
DTSTART:20230312T090000
END:DAYLIGHT
BEGIN:STANDARD
TZOFFSETFROM:-0600
TZOFFSETTO:-0700
TZNAME:MST
DTSTART:20231105T080000
END:STANDARD
BEGIN:DAYLIGHT
TZOFFSETFROM:-0700
TZOFFSETTO:-0600
TZNAME:MDT
DTSTART:20240310T090000
END:DAYLIGHT
BEGIN:STANDARD
TZOFFSETFROM:-0600
TZOFFSETTO:-0700
TZNAME:MST
DTSTART:20241103T080000
END:STANDARD
BEGIN:DAYLIGHT
TZOFFSETFROM:-0700
TZOFFSETTO:-0600
TZNAME:MDT
DTSTART:20250309T090000
END:DAYLIGHT
BEGIN:STANDARD
TZOFFSETFROM:-0600
TZOFFSETTO:-0700
TZNAME:MST
DTSTART:20251102T080000
END:STANDARD
END:VTIMEZONE
BEGIN:VEVENT
DTSTART;TZID=America/Denver:20240903T090000
DTEND;TZID=America/Denver:20240904T160000
DTSTAMP:20260422T164947
CREATED:20240415T211947Z
LAST-MODIFIED:20240415T211947Z
UID:10005967-1725354000-1725465600@sernasolutionsllc.com
SUMMARY:Motivational Interviewing Level 2 - SOR
DESCRIPTION:Motivational Interviewing (MI) Level 2 is designed for persons who have completed an introductory training and have begun to utilize the model in their practice. This training will help participants to further develop MI skills and strategies beyond the basics in a supportive and challenging environment. Advanced strategies for eliciting change talk and advance OARS will be provided. Participants will hone their skills by participating in experiential exercises with other MI practitioners who will provide strength-based feedback. A working camera and microphone is required to attend this training\, there will be a noon-1pm lunch break\, MST\, both days. (12 CEUs)
URL:https://sernasolutionsllc.com/event/motivational-interviewing-level-2-sor-3/
LOCATION:ONLINE
CATEGORIES:Training- SOR,Trainings
ATTACH;FMTTYPE=image/jpeg:https://sernasolutionsllc.com/wp-content/uploads/2024/04/Serna-Solutions-Web-Graphics-03-2.jpg
ORGANIZER;CN="Serna Solutions%2C LLC":MAILTO:training@sernasolutionsllc.com
END:VEVENT
BEGIN:VEVENT
DTSTART;TZID=America/Denver:20240905T090000
DTEND;TZID=America/Denver:20240905T160000
DTSTAMP:20260422T164947
CREATED:20240415T212717Z
LAST-MODIFIED:20240415T212717Z
UID:10005968-1725526800-1725552000@sernasolutionsllc.com
SUMMARY:Ethics in Clinical Supervision - SOR
DESCRIPTION:This training will provide participants with critical information and hands on exercises regarding best practices for providing ethical clinical supervision. It starts with a review of ethical principles that govern the Code of Ethics for all helping professions followed by an interactive ethical dilemma exercise. We will then explore ethical considerations related to culture\, evidence-based practices and telehealth. There will be a one hour lunch break at noon MST. This training will be limited to 60 participants. (6 CEUS)\nThis training satisfies the 6 hours of Supervision Ethics requirement for behavioral health licensees in the State of New Mexico.
URL:https://sernasolutionsllc.com/event/ethics-in-clinical-supervision-sor-4/
LOCATION:CNM Workforce Training Center\, 5600 Eagle Rock Ave NE\, Albuquerque\, NM\, 87113\, United States
CATEGORIES:Training- SOR,Trainings
ATTACH;FMTTYPE=image/jpeg:https://sernasolutionsllc.com/wp-content/uploads/2024/04/Serna-Solutions-Web-Graphics-02-3.jpg
ORGANIZER;CN="Serna Solutions%2C LLC":MAILTO:training@sernasolutionsllc.com
END:VEVENT
BEGIN:VEVENT
DTSTART;TZID=America/Denver:20240906T090000
DTEND;TZID=America/Denver:20240906T160000
DTSTAMP:20260422T164947
CREATED:20240415T213353Z
LAST-MODIFIED:20240415T213353Z
UID:10005969-1725613200-1725638400@sernasolutionsllc.com
SUMMARY:Clinical Supervision and Leadership - SOR
DESCRIPTION:This training is hosted in person in ABQ\, NM. Supervision is equal parts clinical expertise\, administrative oversight and mentoring. This training will provide participants with critical information and hands-on exercises regarding best practices in Clinical Supervision while also exploring models of leadership development. Participants will be provided with outlines for case presentations\, clinical supervision documentation and a self assessment on strengths and areas of improvement as a clinical supervisor. The leadership portion focuses on connecting with others while guiding them in a particular direction. It honors autonomy and opens the door for your supervisees to use their strengths to provide the highest quality care that they can provide. The result is a clinical team that feels empowered\, proactive and even INSPIRED! There will be a noon-1pm lunch break\, MST and the training is limited to 60 participants. (6 CEUs)
URL:https://sernasolutionsllc.com/event/clinical-supervision-and-leadership-sor-3/
LOCATION:CNM Workforce Training Center\, 5600 Eagle Rock Ave NE\, Albuquerque\, NM\, 87113\, United States
CATEGORIES:Training- SOR,Trainings
ATTACH;FMTTYPE=image/jpeg:https://sernasolutionsllc.com/wp-content/uploads/2024/04/Serna-Solutions-Web-Graphics-01-4.jpg
ORGANIZER;CN="Serna Solutions%2C LLC":MAILTO:training@sernasolutionsllc.com
END:VEVENT
END:VCALENDAR