BEGIN:VCALENDAR
VERSION:2.0
PRODID:-//Serna Solutions LLC - ECPv6.15.20//NONSGML v1.0//EN
CALSCALE:GREGORIAN
METHOD:PUBLISH
X-WR-CALNAME:Serna Solutions LLC
X-ORIGINAL-URL:https://sernasolutionsllc.com
X-WR-CALDESC:Events for Serna Solutions LLC
REFRESH-INTERVAL;VALUE=DURATION:PT1H
X-Robots-Tag:noindex
X-PUBLISHED-TTL:PT1H
BEGIN:VTIMEZONE
TZID:America/Denver
BEGIN:DAYLIGHT
TZOFFSETFROM:-0700
TZOFFSETTO:-0600
TZNAME:MDT
DTSTART:20220313T090000
END:DAYLIGHT
BEGIN:STANDARD
TZOFFSETFROM:-0600
TZOFFSETTO:-0700
TZNAME:MST
DTSTART:20221106T080000
END:STANDARD
BEGIN:DAYLIGHT
TZOFFSETFROM:-0700
TZOFFSETTO:-0600
TZNAME:MDT
DTSTART:20230312T090000
END:DAYLIGHT
BEGIN:STANDARD
TZOFFSETFROM:-0600
TZOFFSETTO:-0700
TZNAME:MST
DTSTART:20231105T080000
END:STANDARD
BEGIN:DAYLIGHT
TZOFFSETFROM:-0700
TZOFFSETTO:-0600
TZNAME:MDT
DTSTART:20240310T090000
END:DAYLIGHT
BEGIN:STANDARD
TZOFFSETFROM:-0600
TZOFFSETTO:-0700
TZNAME:MST
DTSTART:20241103T080000
END:STANDARD
END:VTIMEZONE
BEGIN:VEVENT
DTSTART;TZID=America/Denver:20230601T090000
DTEND;TZID=America/Denver:20230602T160000
DTSTAMP:20260424T160539
CREATED:20230506T023539Z
LAST-MODIFIED:20230506T042650Z
UID:10004010-1685610000-1685721600@sernasolutionsllc.com
SUMMARY:Motivational Interviewing Level 1 - SOR
DESCRIPTION:This ONLINE workshop introduces participants to the spirit and strategies of Motivational Interviewing (MI.) Motivational Interviewing is one of the most heavily researched interventions in the fields of addiction\, behavioral health and medicine. Study after study has reliably demonstrated that implementing this practice with proficiency and consistency will improve outcomes for consumers of behavioral healthcare. MI is an approach that attempts to move an individual away from a state of indecision or uncertainty and towards finding motivation to making positive decisions and accomplishing established goals. MI as a directional\, consumer-centered style of interacting with the goal of eliciting behavior change by helping individuals explore and resolve ambivalence. Rather than acting in an antagonistic or combative way\, the helper engages with the consumer to explore his/her feelings\, including ambivalence about changing\, and help clients find their own motivations. This workshop provides participants with an overview of the research and theoretical base for the model. Participants will also practice MI strategies and skills in small groups throughout the day. A working camera and microphone is required to register for this event. (12 CEUs)
URL:https://sernasolutionsllc.com/event/motivational-interviewing-level-1-sor-2/
LOCATION:ONLINE
CATEGORIES:Training- SOR,Trainings
ATTACH;FMTTYPE=image/jpeg:https://sernasolutionsllc.com/wp-content/uploads/2023/05/https___cdn.evbuc_.com_images_505917569_215472727321_1_original.jpeg
ORGANIZER;CN="Serna Solutions%2C LLC":MAILTO:training@sernasolutionsllc.com
END:VEVENT
BEGIN:VEVENT
DTSTART;TZID=America/Denver:20230609T090000
DTEND;TZID=America/Denver:20230609T160000
DTSTAMP:20260424T160539
CREATED:20230506T024825Z
LAST-MODIFIED:20230506T042844Z
UID:10004275-1686301200-1686326400@sernasolutionsllc.com
SUMMARY:Ethics: Best Practices in Telehealth for Behavioral Health Providers - SOR
DESCRIPTION:This ONLINE training will provide participants with an overview of state and national requirements for providing telehealth behavioral health services. Specific areas of focus will include HIPPA and 42 CFR requirements and legal and ethical concerns including privacy\, security\, and providing services in rural and remote areas. A working camera and microphone is required to register for this event. (6 CEUs)
URL:https://sernasolutionsllc.com/event/ethics-best-practices-in-telehealth-for-behavioral-health-providers-sor/
LOCATION:ONLINE
CATEGORIES:Training- SOR,Trainings
ATTACH;FMTTYPE=image/jpeg:https://sernasolutionsllc.com/wp-content/uploads/2023/05/https___cdn.evbuc_.com_images_504987549_215472727321_1_original.jpeg
ORGANIZER;CN="Serna Solutions%2C LLC":MAILTO:training@sernasolutionsllc.com
END:VEVENT
BEGIN:VEVENT
DTSTART;TZID=America/Denver:20230613T090000
DTEND;TZID=America/Denver:20230614T160000
DTSTAMP:20260424T160539
CREATED:20230506T025613Z
LAST-MODIFIED:20230506T043010Z
UID:10004276-1686646800-1686758400@sernasolutionsllc.com
SUMMARY:Neurobiology of Trauma - SOR
DESCRIPTION:Join us for this ONLINE Neurobiology of Trauma Training. Interoceptive engagement\, the capacity to kindly witness\, engage\, and report the condition of the body\, is a skill that – when developed – can foster a direct and powerful form of psychophysiological recovery. It can form the foundation for a common language of self-expression; one less susceptible to the pitfalls of misaligned interpretation. It can improve our capacity to connect with our own experience through a compassionate lens\, while it enhances our capacity to do the same with others. Most importantly\, this skill can assist us in the achievement of these aims beneath what thoughts and words alone can provide. This training will include an exploration of neurobiological research\, experiential exercises\, and practical applications meant to support clients and ourselves in the development of such interoceptive skills. A working camera and microphone is required to register for this training. (12 CEUs)
URL:https://sernasolutionsllc.com/event/neurobiology-of-trauma-sor/
LOCATION:ONLINE
CATEGORIES:Training- SOR,Trainings
ATTACH;FMTTYPE=image/jpeg:https://sernasolutionsllc.com/wp-content/uploads/2023/05/https___cdn.evbuc_.com_images_505002489_215472727321_1_original.jpeg
ORGANIZER;CN="Serna Solutions%2C LLC":MAILTO:training@sernasolutionsllc.com
END:VEVENT
BEGIN:VEVENT
DTSTART;TZID=America/Denver:20230623T090000
DTEND;TZID=America/Denver:20230623T160000
DTSTAMP:20260424T160539
CREATED:20230506T030746Z
LAST-MODIFIED:20230506T040319Z
UID:10004277-1687510800-1687536000@sernasolutionsllc.com
SUMMARY:Ethics in Clinical Supervision - SOR
DESCRIPTION:This ONLINE training will provide participants with critical information and hands-on exercises regarding best practices for providing ethical clinical supervision. It starts with a review of ethical principles that govern the Code of Ethics for all helping professions followed by an interactive ethical dilemma exercise. We will then explore ethical considerations related to culture\, evidence-based practices\, and telehealth. A working camera and microphone are required to register for this event. There will be a one-hour lunch break at noon MST. (6 CEUS) \nThis training satisfies the 6 hours of Supervision Ethics requirement for behavioral health licensees in the State of New Mexico.
URL:https://sernasolutionsllc.com/event/ethics-in-clinical-supervision-sor-2/
LOCATION:ONLINE
CATEGORIES:Training- SOR,Trainings
ATTACH;FMTTYPE=image/jpeg:https://sernasolutionsllc.com/wp-content/uploads/2023/05/https___cdn.evbuc_.com_images_505008989_215472727321_1_original.jpeg
ORGANIZER;CN="Serna Solutions%2C LLC":MAILTO:training@sernasolutionsllc.com
END:VEVENT
BEGIN:VEVENT
DTSTART;TZID=America/Denver:20230629T090000
DTEND;TZID=America/Denver:20230630T160000
DTSTAMP:20260424T160539
CREATED:20230506T031611Z
LAST-MODIFIED:20230506T031611Z
UID:10004278-1688029200-1688140800@sernasolutionsllc.com
SUMMARY:Dialectical Behavioral Therapy - Level 1 - SOR
DESCRIPTION:This ONLINE training introduces Dialectical Behavioral Therapy or ‘DBT’ – a therapy originally created for difficult-to-manage mood and personality disorders. It is now an evidence-based practice that assists clients with mood\, personality\, anxiety\, and addictive and trauma-related disorders. DBT provides clients with skills that promote emotional regulation\, distress tolerance\, interpersonal effectiveness\, and mindfulness. This training will provide participants with an overview of this approach and its different applications. A working camera and microphone are required to register for this training. (12 CEUs)
URL:https://sernasolutionsllc.com/event/dialectical-behavioral-therapy-level-1-sor/
LOCATION:NM
CATEGORIES:Training- SOR,Trainings
ATTACH;FMTTYPE=image/jpeg:https://sernasolutionsllc.com/wp-content/uploads/2023/05/https___cdn.evbuc_.com_images_504911089_215472727321_1_original.jpeg
ORGANIZER;CN="Serna Solutions%2C LLC":MAILTO:training@sernasolutionsllc.com
END:VEVENT
END:VCALENDAR