BEGIN:VCALENDAR
VERSION:2.0
PRODID:-//Serna Solutions LLC - ECPv6.15.20//NONSGML v1.0//EN
CALSCALE:GREGORIAN
METHOD:PUBLISH
X-ORIGINAL-URL:https://sernasolutionsllc.com
X-WR-CALDESC:Events for Serna Solutions LLC
REFRESH-INTERVAL;VALUE=DURATION:PT1H
X-Robots-Tag:noindex
X-PUBLISHED-TTL:PT1H
BEGIN:VTIMEZONE
TZID:America/Denver
BEGIN:DAYLIGHT
TZOFFSETFROM:-0700
TZOFFSETTO:-0600
TZNAME:MDT
DTSTART:20220313T090000
END:DAYLIGHT
BEGIN:STANDARD
TZOFFSETFROM:-0600
TZOFFSETTO:-0700
TZNAME:MST
DTSTART:20221106T080000
END:STANDARD
BEGIN:DAYLIGHT
TZOFFSETFROM:-0700
TZOFFSETTO:-0600
TZNAME:MDT
DTSTART:20230312T090000
END:DAYLIGHT
BEGIN:STANDARD
TZOFFSETFROM:-0600
TZOFFSETTO:-0700
TZNAME:MST
DTSTART:20231105T080000
END:STANDARD
BEGIN:DAYLIGHT
TZOFFSETFROM:-0700
TZOFFSETTO:-0600
TZNAME:MDT
DTSTART:20240310T090000
END:DAYLIGHT
BEGIN:STANDARD
TZOFFSETFROM:-0600
TZOFFSETTO:-0700
TZNAME:MST
DTSTART:20241103T080000
END:STANDARD
END:VTIMEZONE
BEGIN:VEVENT
DTSTART;TZID=America/Denver:20230711T173000
DTEND;TZID=America/Denver:20230711T183000
DTSTAMP:20260425T084243
CREATED:20230417T175311Z
LAST-MODIFIED:20230418T161528Z
UID:10001589-1689096600-1689100200@sernasolutionsllc.com
SUMMARY:Grief Support Group
DESCRIPTION:Tuesday – Grief Support Group Online from 5:30 – 6:30 PM MST
URL:https://sernasolutionsllc.com/event/grief-support-group/2023-07-11/
CATEGORIES:Groups
ATTACH;FMTTYPE=image/png:https://sernasolutionsllc.com/wp-content/uploads/2023/04/Grief-Support-Group.png
ORGANIZER;CN="Serna Solutions%2C LLC":MAILTO:training@sernasolutionsllc.com
END:VEVENT
BEGIN:VEVENT
DTSTART;TZID=America/Denver:20230712T100000
DTEND;TZID=America/Denver:20230712T113000
DTSTAMP:20260425T084243
CREATED:20230710T164641Z
LAST-MODIFIED:20230710T164641Z
UID:10005874-1689156000-1689161400@sernasolutionsllc.com
SUMMARY:Teen DBT Group Therapy
DESCRIPTION:Wednesday – Teen DBT Therapy from 10:00 – 11:30 AM at our office in Santa Fe. \nThis group will start on July 12th and run through August 16th
URL:https://sernasolutionsllc.com/event/teen-dbt-group-therapy/2023-07-12/
CATEGORIES:Groups
ATTACH;FMTTYPE=image/jpeg:https://sernasolutionsllc.com/wp-content/uploads/2022/07/young-hispanic-guy.jpg
ORGANIZER;CN="Serna Solutions%2C LLC":MAILTO:training@sernasolutionsllc.com
END:VEVENT
BEGIN:VEVENT
DTSTART;TZID=America/Denver:20230713T140000
DTEND;TZID=America/Denver:20230713T150000
DTSTAMP:20260425T084243
CREATED:20230417T184616Z
LAST-MODIFIED:20230417T225222Z
UID:10003740-1689256800-1689260400@sernasolutionsllc.com
SUMMARY:Grief Support Group
DESCRIPTION:Thursday – Grief Support Group: online from 2:00-3:00 PM MST.
URL:https://sernasolutionsllc.com/event/grief-support-group-2/2023-07-13/
CATEGORIES:Groups
ATTACH;FMTTYPE=image/png:https://sernasolutionsllc.com/wp-content/uploads/2023/04/Grief-Support-Group.png
ORGANIZER;CN="Serna Solutions%2C LLC":MAILTO:training@sernasolutionsllc.com
END:VEVENT
BEGIN:VEVENT
DTSTART;TZID=America/Denver:20230717T173000
DTEND;TZID=America/Denver:20230717T183000
DTSTAMP:20260425T084243
CREATED:20230531T004709Z
LAST-MODIFIED:20230531T004709Z
UID:10004557-1689615000-1689618600@sernasolutionsllc.com
SUMMARY:Kundalini Yoga Therapy
DESCRIPTION:Wednesday – Kundalini Yoga Therapy from 5:30-6:30 PM on the Southside of Santa Fe. Please call (505) 207-8929 for location. \nThis group will be on a break the week of June 11\, 2023\, and when we come back\, we will be meeting on Mondays\, starting June 19th – be sure to mark your calendars!
URL:https://sernasolutionsllc.com/event/kundalini-yoga-therapy-2/2023-07-17/
CATEGORIES:Groups
ATTACH;FMTTYPE=image/png:https://sernasolutionsllc.com/wp-content/uploads/2023/04/Kundalini-Yoga-Therapy.png
ORGANIZER;CN="Serna Solutions%2C LLC":MAILTO:training@sernasolutionsllc.com
END:VEVENT
BEGIN:VEVENT
DTSTART;TZID=America/Denver:20230718T173000
DTEND;TZID=America/Denver:20230718T183000
DTSTAMP:20260425T084243
CREATED:20230417T175311Z
LAST-MODIFIED:20230418T161528Z
UID:10001590-1689701400-1689705000@sernasolutionsllc.com
SUMMARY:Grief Support Group
DESCRIPTION:Tuesday – Grief Support Group Online from 5:30 – 6:30 PM MST
URL:https://sernasolutionsllc.com/event/grief-support-group/2023-07-18/
CATEGORIES:Groups
ATTACH;FMTTYPE=image/png:https://sernasolutionsllc.com/wp-content/uploads/2023/04/Grief-Support-Group.png
ORGANIZER;CN="Serna Solutions%2C LLC":MAILTO:training@sernasolutionsllc.com
END:VEVENT
BEGIN:VEVENT
DTSTART;TZID=America/Denver:20230719T100000
DTEND;TZID=America/Denver:20230719T113000
DTSTAMP:20260425T084243
CREATED:20230710T164641Z
LAST-MODIFIED:20230710T164641Z
UID:10005875-1689760800-1689766200@sernasolutionsllc.com
SUMMARY:Teen DBT Group Therapy
DESCRIPTION:Wednesday – Teen DBT Therapy from 10:00 – 11:30 AM at our office in Santa Fe. \nThis group will start on July 12th and run through August 16th
URL:https://sernasolutionsllc.com/event/teen-dbt-group-therapy/2023-07-19/
CATEGORIES:Groups
ATTACH;FMTTYPE=image/jpeg:https://sernasolutionsllc.com/wp-content/uploads/2022/07/young-hispanic-guy.jpg
ORGANIZER;CN="Serna Solutions%2C LLC":MAILTO:training@sernasolutionsllc.com
END:VEVENT
BEGIN:VEVENT
DTSTART;TZID=America/Denver:20230719T173000
DTEND;TZID=America/Denver:20230719T190000
DTSTAMP:20260425T084243
CREATED:20230417T184526Z
LAST-MODIFIED:20230417T225249Z
UID:10003410-1689787800-1689793200@sernasolutionsllc.com
SUMMARY:DBT for Parents
DESCRIPTION:Third Wednesday of each month – DBT for Parents 5:30-7:00 online via Zoom. Please call (505) 230-4949 for more information.
URL:https://sernasolutionsllc.com/event/dbt-for-parents/2023-07-19/
CATEGORIES:Groups
ATTACH;FMTTYPE=image/png:https://sernasolutionsllc.com/wp-content/uploads/2023/04/DBT-for-Parents.png
ORGANIZER;CN="Serna Solutions%2C LLC":MAILTO:training@sernasolutionsllc.com
END:VEVENT
BEGIN:VEVENT
DTSTART;TZID=America/Denver:20230719T174500
DTEND;TZID=America/Denver:20230719T191500
DTSTAMP:20260425T084243
CREATED:20230710T212949Z
LAST-MODIFIED:20230710T221838Z
UID:10005887-1689788700-1689794100@sernasolutionsllc.com
SUMMARY:Dialectical Behavioral Therapy Group
DESCRIPTION:Wednesday – DBT Therapy from 5:45 – 7:15 PM online. \nThis group will start on July 19th and run through August 23rd
URL:https://sernasolutionsllc.com/event/dialectical-behavioral-therapy-group/2023-07-19/
LOCATION:ONLINE
CATEGORIES:Groups
ATTACH;FMTTYPE=image/png:https://sernasolutionsllc.com/wp-content/uploads/2023/07/SernaSolutions_DBT_Flyer_FNL.png
ORGANIZER;CN="Serna Solutions%2C LLC":MAILTO:training@sernasolutionsllc.com
END:VEVENT
BEGIN:VEVENT
DTSTART;TZID=America/Denver:20230720T140000
DTEND;TZID=America/Denver:20230720T150000
DTSTAMP:20260425T084243
CREATED:20230417T184616Z
LAST-MODIFIED:20230417T225222Z
UID:10003741-1689861600-1689865200@sernasolutionsllc.com
SUMMARY:Grief Support Group
DESCRIPTION:Thursday – Grief Support Group: online from 2:00-3:00 PM MST.
URL:https://sernasolutionsllc.com/event/grief-support-group-2/2023-07-20/
CATEGORIES:Groups
ATTACH;FMTTYPE=image/png:https://sernasolutionsllc.com/wp-content/uploads/2023/04/Grief-Support-Group.png
ORGANIZER;CN="Serna Solutions%2C LLC":MAILTO:training@sernasolutionsllc.com
END:VEVENT
BEGIN:VEVENT
DTSTART;TZID=America/Denver:20230724T173000
DTEND;TZID=America/Denver:20230724T183000
DTSTAMP:20260425T084243
CREATED:20230531T004709Z
LAST-MODIFIED:20230531T004709Z
UID:10004558-1690219800-1690223400@sernasolutionsllc.com
SUMMARY:Kundalini Yoga Therapy
DESCRIPTION:Wednesday – Kundalini Yoga Therapy from 5:30-6:30 PM on the Southside of Santa Fe. Please call (505) 207-8929 for location. \nThis group will be on a break the week of June 11\, 2023\, and when we come back\, we will be meeting on Mondays\, starting June 19th – be sure to mark your calendars!
URL:https://sernasolutionsllc.com/event/kundalini-yoga-therapy-2/2023-07-24/
CATEGORIES:Groups
ATTACH;FMTTYPE=image/png:https://sernasolutionsllc.com/wp-content/uploads/2023/04/Kundalini-Yoga-Therapy.png
ORGANIZER;CN="Serna Solutions%2C LLC":MAILTO:training@sernasolutionsllc.com
END:VEVENT
BEGIN:VEVENT
DTSTART;TZID=America/Denver:20230725T173000
DTEND;TZID=America/Denver:20230725T183000
DTSTAMP:20260425T084243
CREATED:20230417T175311Z
LAST-MODIFIED:20230418T161528Z
UID:10001591-1690306200-1690309800@sernasolutionsllc.com
SUMMARY:Grief Support Group
DESCRIPTION:Tuesday – Grief Support Group Online from 5:30 – 6:30 PM MST
URL:https://sernasolutionsllc.com/event/grief-support-group/2023-07-25/
CATEGORIES:Groups
ATTACH;FMTTYPE=image/png:https://sernasolutionsllc.com/wp-content/uploads/2023/04/Grief-Support-Group.png
ORGANIZER;CN="Serna Solutions%2C LLC":MAILTO:training@sernasolutionsllc.com
END:VEVENT
BEGIN:VEVENT
DTSTART;TZID=America/Denver:20230726T100000
DTEND;TZID=America/Denver:20230726T113000
DTSTAMP:20260425T084243
CREATED:20230710T164641Z
LAST-MODIFIED:20230710T164641Z
UID:10005876-1690365600-1690371000@sernasolutionsllc.com
SUMMARY:Teen DBT Group Therapy
DESCRIPTION:Wednesday – Teen DBT Therapy from 10:00 – 11:30 AM at our office in Santa Fe. \nThis group will start on July 12th and run through August 16th
URL:https://sernasolutionsllc.com/event/teen-dbt-group-therapy/2023-07-26/
CATEGORIES:Groups
ATTACH;FMTTYPE=image/jpeg:https://sernasolutionsllc.com/wp-content/uploads/2022/07/young-hispanic-guy.jpg
ORGANIZER;CN="Serna Solutions%2C LLC":MAILTO:training@sernasolutionsllc.com
END:VEVENT
BEGIN:VEVENT
DTSTART;TZID=America/Denver:20230726T174500
DTEND;TZID=America/Denver:20230726T191500
DTSTAMP:20260425T084243
CREATED:20230710T212949Z
LAST-MODIFIED:20230710T221838Z
UID:10005888-1690393500-1690398900@sernasolutionsllc.com
SUMMARY:Dialectical Behavioral Therapy Group
DESCRIPTION:Wednesday – DBT Therapy from 5:45 – 7:15 PM online. \nThis group will start on July 19th and run through August 23rd
URL:https://sernasolutionsllc.com/event/dialectical-behavioral-therapy-group/2023-07-26/
LOCATION:ONLINE
CATEGORIES:Groups
ATTACH;FMTTYPE=image/png:https://sernasolutionsllc.com/wp-content/uploads/2023/07/SernaSolutions_DBT_Flyer_FNL.png
ORGANIZER;CN="Serna Solutions%2C LLC":MAILTO:training@sernasolutionsllc.com
END:VEVENT
BEGIN:VEVENT
DTSTART;TZID=America/Denver:20230727T140000
DTEND;TZID=America/Denver:20230727T150000
DTSTAMP:20260425T084243
CREATED:20230417T184616Z
LAST-MODIFIED:20230417T225222Z
UID:10003742-1690466400-1690470000@sernasolutionsllc.com
SUMMARY:Grief Support Group
DESCRIPTION:Thursday – Grief Support Group: online from 2:00-3:00 PM MST.
URL:https://sernasolutionsllc.com/event/grief-support-group-2/2023-07-27/
CATEGORIES:Groups
ATTACH;FMTTYPE=image/png:https://sernasolutionsllc.com/wp-content/uploads/2023/04/Grief-Support-Group.png
ORGANIZER;CN="Serna Solutions%2C LLC":MAILTO:training@sernasolutionsllc.com
END:VEVENT
BEGIN:VEVENT
DTSTART;TZID=America/Denver:20230731T173000
DTEND;TZID=America/Denver:20230731T183000
DTSTAMP:20260425T084243
CREATED:20230531T004709Z
LAST-MODIFIED:20230531T004709Z
UID:10004559-1690824600-1690828200@sernasolutionsllc.com
SUMMARY:Kundalini Yoga Therapy
DESCRIPTION:Wednesday – Kundalini Yoga Therapy from 5:30-6:30 PM on the Southside of Santa Fe. Please call (505) 207-8929 for location. \nThis group will be on a break the week of June 11\, 2023\, and when we come back\, we will be meeting on Mondays\, starting June 19th – be sure to mark your calendars!
URL:https://sernasolutionsllc.com/event/kundalini-yoga-therapy-2/2023-07-31/
CATEGORIES:Groups
ATTACH;FMTTYPE=image/png:https://sernasolutionsllc.com/wp-content/uploads/2023/04/Kundalini-Yoga-Therapy.png
ORGANIZER;CN="Serna Solutions%2C LLC":MAILTO:training@sernasolutionsllc.com
END:VEVENT
BEGIN:VEVENT
DTSTART;TZID=America/Denver:20230801T173000
DTEND;TZID=America/Denver:20230801T183000
DTSTAMP:20260425T084243
CREATED:20230417T175311Z
LAST-MODIFIED:20230418T161528Z
UID:10001592-1690911000-1690914600@sernasolutionsllc.com
SUMMARY:Grief Support Group
DESCRIPTION:Tuesday – Grief Support Group Online from 5:30 – 6:30 PM MST
URL:https://sernasolutionsllc.com/event/grief-support-group/2023-08-01/
CATEGORIES:Groups
ATTACH;FMTTYPE=image/png:https://sernasolutionsllc.com/wp-content/uploads/2023/04/Grief-Support-Group.png
ORGANIZER;CN="Serna Solutions%2C LLC":MAILTO:training@sernasolutionsllc.com
END:VEVENT
BEGIN:VEVENT
DTSTART;TZID=America/Denver:20230802T100000
DTEND;TZID=America/Denver:20230802T113000
DTSTAMP:20260425T084243
CREATED:20230710T164641Z
LAST-MODIFIED:20230710T164641Z
UID:10005877-1690970400-1690975800@sernasolutionsllc.com
SUMMARY:Teen DBT Group Therapy
DESCRIPTION:Wednesday – Teen DBT Therapy from 10:00 – 11:30 AM at our office in Santa Fe. \nThis group will start on July 12th and run through August 16th
URL:https://sernasolutionsllc.com/event/teen-dbt-group-therapy/2023-08-02/
CATEGORIES:Groups
ATTACH;FMTTYPE=image/jpeg:https://sernasolutionsllc.com/wp-content/uploads/2022/07/young-hispanic-guy.jpg
ORGANIZER;CN="Serna Solutions%2C LLC":MAILTO:training@sernasolutionsllc.com
END:VEVENT
BEGIN:VEVENT
DTSTART;TZID=America/Denver:20230802T174500
DTEND;TZID=America/Denver:20230802T191500
DTSTAMP:20260425T084243
CREATED:20230710T212949Z
LAST-MODIFIED:20230710T221838Z
UID:10005889-1690998300-1691003700@sernasolutionsllc.com
SUMMARY:Dialectical Behavioral Therapy Group
DESCRIPTION:Wednesday – DBT Therapy from 5:45 – 7:15 PM online. \nThis group will start on July 19th and run through August 23rd
URL:https://sernasolutionsllc.com/event/dialectical-behavioral-therapy-group/2023-08-02/
LOCATION:ONLINE
CATEGORIES:Groups
ATTACH;FMTTYPE=image/png:https://sernasolutionsllc.com/wp-content/uploads/2023/07/SernaSolutions_DBT_Flyer_FNL.png
ORGANIZER;CN="Serna Solutions%2C LLC":MAILTO:training@sernasolutionsllc.com
END:VEVENT
BEGIN:VEVENT
DTSTART;TZID=America/Denver:20230803T140000
DTEND;TZID=America/Denver:20230803T150000
DTSTAMP:20260425T084243
CREATED:20230417T184616Z
LAST-MODIFIED:20230417T225222Z
UID:10003743-1691071200-1691074800@sernasolutionsllc.com
SUMMARY:Grief Support Group
DESCRIPTION:Thursday – Grief Support Group: online from 2:00-3:00 PM MST.
URL:https://sernasolutionsllc.com/event/grief-support-group-2/2023-08-03/
CATEGORIES:Groups
ATTACH;FMTTYPE=image/png:https://sernasolutionsllc.com/wp-content/uploads/2023/04/Grief-Support-Group.png
ORGANIZER;CN="Serna Solutions%2C LLC":MAILTO:training@sernasolutionsllc.com
END:VEVENT
BEGIN:VEVENT
DTSTART;TZID=America/Denver:20230807T173000
DTEND;TZID=America/Denver:20230807T183000
DTSTAMP:20260425T084243
CREATED:20230531T004709Z
LAST-MODIFIED:20230531T004709Z
UID:10004560-1691429400-1691433000@sernasolutionsllc.com
SUMMARY:Kundalini Yoga Therapy
DESCRIPTION:Wednesday – Kundalini Yoga Therapy from 5:30-6:30 PM on the Southside of Santa Fe. Please call (505) 207-8929 for location. \nThis group will be on a break the week of June 11\, 2023\, and when we come back\, we will be meeting on Mondays\, starting June 19th – be sure to mark your calendars!
URL:https://sernasolutionsllc.com/event/kundalini-yoga-therapy-2/2023-08-07/
CATEGORIES:Groups
ATTACH;FMTTYPE=image/png:https://sernasolutionsllc.com/wp-content/uploads/2023/04/Kundalini-Yoga-Therapy.png
ORGANIZER;CN="Serna Solutions%2C LLC":MAILTO:training@sernasolutionsllc.com
END:VEVENT
BEGIN:VEVENT
DTSTART;TZID=America/Denver:20230808T173000
DTEND;TZID=America/Denver:20230808T183000
DTSTAMP:20260425T084243
CREATED:20230417T175311Z
LAST-MODIFIED:20230418T161528Z
UID:10001593-1691515800-1691519400@sernasolutionsllc.com
SUMMARY:Grief Support Group
DESCRIPTION:Tuesday – Grief Support Group Online from 5:30 – 6:30 PM MST
URL:https://sernasolutionsllc.com/event/grief-support-group/2023-08-08/
CATEGORIES:Groups
ATTACH;FMTTYPE=image/png:https://sernasolutionsllc.com/wp-content/uploads/2023/04/Grief-Support-Group.png
ORGANIZER;CN="Serna Solutions%2C LLC":MAILTO:training@sernasolutionsllc.com
END:VEVENT
BEGIN:VEVENT
DTSTART;TZID=America/Denver:20230809T100000
DTEND;TZID=America/Denver:20230809T113000
DTSTAMP:20260425T084243
CREATED:20230710T164641Z
LAST-MODIFIED:20230710T164641Z
UID:10005878-1691575200-1691580600@sernasolutionsllc.com
SUMMARY:Teen DBT Group Therapy
DESCRIPTION:Wednesday – Teen DBT Therapy from 10:00 – 11:30 AM at our office in Santa Fe. \nThis group will start on July 12th and run through August 16th
URL:https://sernasolutionsllc.com/event/teen-dbt-group-therapy/2023-08-09/
CATEGORIES:Groups
ATTACH;FMTTYPE=image/jpeg:https://sernasolutionsllc.com/wp-content/uploads/2022/07/young-hispanic-guy.jpg
ORGANIZER;CN="Serna Solutions%2C LLC":MAILTO:training@sernasolutionsllc.com
END:VEVENT
BEGIN:VEVENT
DTSTART;TZID=America/Denver:20230809T174500
DTEND;TZID=America/Denver:20230809T191500
DTSTAMP:20260425T084243
CREATED:20230710T212949Z
LAST-MODIFIED:20230710T221838Z
UID:10005890-1691603100-1691608500@sernasolutionsllc.com
SUMMARY:Dialectical Behavioral Therapy Group
DESCRIPTION:Wednesday – DBT Therapy from 5:45 – 7:15 PM online. \nThis group will start on July 19th and run through August 23rd
URL:https://sernasolutionsllc.com/event/dialectical-behavioral-therapy-group/2023-08-09/
LOCATION:ONLINE
CATEGORIES:Groups
ATTACH;FMTTYPE=image/png:https://sernasolutionsllc.com/wp-content/uploads/2023/07/SernaSolutions_DBT_Flyer_FNL.png
ORGANIZER;CN="Serna Solutions%2C LLC":MAILTO:training@sernasolutionsllc.com
END:VEVENT
BEGIN:VEVENT
DTSTART;TZID=America/Denver:20230810T140000
DTEND;TZID=America/Denver:20230810T150000
DTSTAMP:20260425T084243
CREATED:20230417T184616Z
LAST-MODIFIED:20230417T225222Z
UID:10003744-1691676000-1691679600@sernasolutionsllc.com
SUMMARY:Grief Support Group
DESCRIPTION:Thursday – Grief Support Group: online from 2:00-3:00 PM MST.
URL:https://sernasolutionsllc.com/event/grief-support-group-2/2023-08-10/
CATEGORIES:Groups
ATTACH;FMTTYPE=image/png:https://sernasolutionsllc.com/wp-content/uploads/2023/04/Grief-Support-Group.png
ORGANIZER;CN="Serna Solutions%2C LLC":MAILTO:training@sernasolutionsllc.com
END:VEVENT
BEGIN:VEVENT
DTSTART;TZID=America/Denver:20230814T173000
DTEND;TZID=America/Denver:20230814T183000
DTSTAMP:20260425T084243
CREATED:20230531T004709Z
LAST-MODIFIED:20230531T004709Z
UID:10004561-1692034200-1692037800@sernasolutionsllc.com
SUMMARY:Kundalini Yoga Therapy
DESCRIPTION:Wednesday – Kundalini Yoga Therapy from 5:30-6:30 PM on the Southside of Santa Fe. Please call (505) 207-8929 for location. \nThis group will be on a break the week of June 11\, 2023\, and when we come back\, we will be meeting on Mondays\, starting June 19th – be sure to mark your calendars!
URL:https://sernasolutionsllc.com/event/kundalini-yoga-therapy-2/2023-08-14/
CATEGORIES:Groups
ATTACH;FMTTYPE=image/png:https://sernasolutionsllc.com/wp-content/uploads/2023/04/Kundalini-Yoga-Therapy.png
ORGANIZER;CN="Serna Solutions%2C LLC":MAILTO:training@sernasolutionsllc.com
END:VEVENT
BEGIN:VEVENT
DTSTART;TZID=America/Denver:20230815T173000
DTEND;TZID=America/Denver:20230815T183000
DTSTAMP:20260425T084243
CREATED:20230417T175311Z
LAST-MODIFIED:20230418T161528Z
UID:10001594-1692120600-1692124200@sernasolutionsllc.com
SUMMARY:Grief Support Group
DESCRIPTION:Tuesday – Grief Support Group Online from 5:30 – 6:30 PM MST
URL:https://sernasolutionsllc.com/event/grief-support-group/2023-08-15/
CATEGORIES:Groups
ATTACH;FMTTYPE=image/png:https://sernasolutionsllc.com/wp-content/uploads/2023/04/Grief-Support-Group.png
ORGANIZER;CN="Serna Solutions%2C LLC":MAILTO:training@sernasolutionsllc.com
END:VEVENT
BEGIN:VEVENT
DTSTART;TZID=America/Denver:20230816T100000
DTEND;TZID=America/Denver:20230816T113000
DTSTAMP:20260425T084243
CREATED:20230710T164641Z
LAST-MODIFIED:20230710T164641Z
UID:10005879-1692180000-1692185400@sernasolutionsllc.com
SUMMARY:Teen DBT Group Therapy
DESCRIPTION:Wednesday – Teen DBT Therapy from 10:00 – 11:30 AM at our office in Santa Fe. \nThis group will start on July 12th and run through August 16th
URL:https://sernasolutionsllc.com/event/teen-dbt-group-therapy/2023-08-16/
CATEGORIES:Groups
ATTACH;FMTTYPE=image/jpeg:https://sernasolutionsllc.com/wp-content/uploads/2022/07/young-hispanic-guy.jpg
ORGANIZER;CN="Serna Solutions%2C LLC":MAILTO:training@sernasolutionsllc.com
END:VEVENT
BEGIN:VEVENT
DTSTART;TZID=America/Denver:20230816T173000
DTEND;TZID=America/Denver:20230816T190000
DTSTAMP:20260425T084243
CREATED:20230417T184526Z
LAST-MODIFIED:20230417T225249Z
UID:10003411-1692207000-1692212400@sernasolutionsllc.com
SUMMARY:DBT for Parents
DESCRIPTION:Third Wednesday of each month – DBT for Parents 5:30-7:00 online via Zoom. Please call (505) 230-4949 for more information.
URL:https://sernasolutionsllc.com/event/dbt-for-parents/2023-08-16/
CATEGORIES:Groups
ATTACH;FMTTYPE=image/png:https://sernasolutionsllc.com/wp-content/uploads/2023/04/DBT-for-Parents.png
ORGANIZER;CN="Serna Solutions%2C LLC":MAILTO:training@sernasolutionsllc.com
END:VEVENT
BEGIN:VEVENT
DTSTART;TZID=America/Denver:20230816T174500
DTEND;TZID=America/Denver:20230816T191500
DTSTAMP:20260425T084243
CREATED:20230710T212949Z
LAST-MODIFIED:20230710T221838Z
UID:10005891-1692207900-1692213300@sernasolutionsllc.com
SUMMARY:Dialectical Behavioral Therapy Group
DESCRIPTION:Wednesday – DBT Therapy from 5:45 – 7:15 PM online. \nThis group will start on July 19th and run through August 23rd
URL:https://sernasolutionsllc.com/event/dialectical-behavioral-therapy-group/2023-08-16/
LOCATION:ONLINE
CATEGORIES:Groups
ATTACH;FMTTYPE=image/png:https://sernasolutionsllc.com/wp-content/uploads/2023/07/SernaSolutions_DBT_Flyer_FNL.png
ORGANIZER;CN="Serna Solutions%2C LLC":MAILTO:training@sernasolutionsllc.com
END:VEVENT
BEGIN:VEVENT
DTSTART;TZID=America/Denver:20230817T140000
DTEND;TZID=America/Denver:20230817T150000
DTSTAMP:20260425T084243
CREATED:20230417T184616Z
LAST-MODIFIED:20230417T225222Z
UID:10003745-1692280800-1692284400@sernasolutionsllc.com
SUMMARY:Grief Support Group
DESCRIPTION:Thursday – Grief Support Group: online from 2:00-3:00 PM MST.
URL:https://sernasolutionsllc.com/event/grief-support-group-2/2023-08-17/
CATEGORIES:Groups
ATTACH;FMTTYPE=image/png:https://sernasolutionsllc.com/wp-content/uploads/2023/04/Grief-Support-Group.png
ORGANIZER;CN="Serna Solutions%2C LLC":MAILTO:training@sernasolutionsllc.com
END:VEVENT
END:VCALENDAR