BEGIN:VCALENDAR
VERSION:2.0
PRODID:-//Serna Solutions LLC - ECPv6.15.20//NONSGML v1.0//EN
CALSCALE:GREGORIAN
METHOD:PUBLISH
X-WR-CALNAME:Serna Solutions LLC
X-ORIGINAL-URL:https://sernasolutionsllc.com
X-WR-CALDESC:Events for Serna Solutions LLC
REFRESH-INTERVAL;VALUE=DURATION:PT1H
X-Robots-Tag:noindex
X-PUBLISHED-TTL:PT1H
BEGIN:VTIMEZONE
TZID:America/Denver
BEGIN:DAYLIGHT
TZOFFSETFROM:-0700
TZOFFSETTO:-0600
TZNAME:MDT
DTSTART:20220313T090000
END:DAYLIGHT
BEGIN:STANDARD
TZOFFSETFROM:-0600
TZOFFSETTO:-0700
TZNAME:MST
DTSTART:20221106T080000
END:STANDARD
BEGIN:DAYLIGHT
TZOFFSETFROM:-0700
TZOFFSETTO:-0600
TZNAME:MDT
DTSTART:20230312T090000
END:DAYLIGHT
BEGIN:STANDARD
TZOFFSETFROM:-0600
TZOFFSETTO:-0700
TZNAME:MST
DTSTART:20231105T080000
END:STANDARD
BEGIN:DAYLIGHT
TZOFFSETFROM:-0700
TZOFFSETTO:-0600
TZNAME:MDT
DTSTART:20240310T090000
END:DAYLIGHT
BEGIN:STANDARD
TZOFFSETFROM:-0600
TZOFFSETTO:-0700
TZNAME:MST
DTSTART:20241103T080000
END:STANDARD
END:VTIMEZONE
BEGIN:VEVENT
DTSTART;TZID=America/Denver:20230808T173000
DTEND;TZID=America/Denver:20230808T183000
DTSTAMP:20260425T084832
CREATED:20230417T175311Z
LAST-MODIFIED:20230418T161528Z
UID:10001593-1691515800-1691519400@sernasolutionsllc.com
SUMMARY:Grief Support Group
DESCRIPTION:Tuesday – Grief Support Group Online from 5:30 – 6:30 PM MST
URL:https://sernasolutionsllc.com/event/grief-support-group/2023-08-08/
CATEGORIES:Groups
ATTACH;FMTTYPE=image/png:https://sernasolutionsllc.com/wp-content/uploads/2023/04/Grief-Support-Group.png
ORGANIZER;CN="Serna Solutions%2C LLC":MAILTO:training@sernasolutionsllc.com
END:VEVENT
BEGIN:VEVENT
DTSTART;TZID=America/Denver:20230809T100000
DTEND;TZID=America/Denver:20230809T113000
DTSTAMP:20260425T084832
CREATED:20230710T164641Z
LAST-MODIFIED:20230710T164641Z
UID:10005878-1691575200-1691580600@sernasolutionsllc.com
SUMMARY:Teen DBT Group Therapy
DESCRIPTION:Wednesday – Teen DBT Therapy from 10:00 – 11:30 AM at our office in Santa Fe. \nThis group will start on July 12th and run through August 16th
URL:https://sernasolutionsllc.com/event/teen-dbt-group-therapy/2023-08-09/
CATEGORIES:Groups
ATTACH;FMTTYPE=image/jpeg:https://sernasolutionsllc.com/wp-content/uploads/2022/07/young-hispanic-guy.jpg
ORGANIZER;CN="Serna Solutions%2C LLC":MAILTO:training@sernasolutionsllc.com
END:VEVENT
BEGIN:VEVENT
DTSTART;TZID=America/Denver:20230809T174500
DTEND;TZID=America/Denver:20230809T191500
DTSTAMP:20260425T084832
CREATED:20230710T212949Z
LAST-MODIFIED:20230710T221838Z
UID:10005890-1691603100-1691608500@sernasolutionsllc.com
SUMMARY:Dialectical Behavioral Therapy Group
DESCRIPTION:Wednesday – DBT Therapy from 5:45 – 7:15 PM online. \nThis group will start on July 19th and run through August 23rd
URL:https://sernasolutionsllc.com/event/dialectical-behavioral-therapy-group/2023-08-09/
LOCATION:ONLINE
CATEGORIES:Groups
ATTACH;FMTTYPE=image/png:https://sernasolutionsllc.com/wp-content/uploads/2023/07/SernaSolutions_DBT_Flyer_FNL.png
ORGANIZER;CN="Serna Solutions%2C LLC":MAILTO:training@sernasolutionsllc.com
END:VEVENT
BEGIN:VEVENT
DTSTART;TZID=America/Denver:20230810T140000
DTEND;TZID=America/Denver:20230810T150000
DTSTAMP:20260425T084832
CREATED:20230417T184616Z
LAST-MODIFIED:20230417T225222Z
UID:10003744-1691676000-1691679600@sernasolutionsllc.com
SUMMARY:Grief Support Group
DESCRIPTION:Thursday – Grief Support Group: online from 2:00-3:00 PM MST.
URL:https://sernasolutionsllc.com/event/grief-support-group-2/2023-08-10/
CATEGORIES:Groups
ATTACH;FMTTYPE=image/png:https://sernasolutionsllc.com/wp-content/uploads/2023/04/Grief-Support-Group.png
ORGANIZER;CN="Serna Solutions%2C LLC":MAILTO:training@sernasolutionsllc.com
END:VEVENT
BEGIN:VEVENT
DTSTART;TZID=America/Denver:20230814T173000
DTEND;TZID=America/Denver:20230814T183000
DTSTAMP:20260425T084832
CREATED:20230531T004709Z
LAST-MODIFIED:20230531T004709Z
UID:10004561-1692034200-1692037800@sernasolutionsllc.com
SUMMARY:Kundalini Yoga Therapy
DESCRIPTION:Wednesday – Kundalini Yoga Therapy from 5:30-6:30 PM on the Southside of Santa Fe. Please call (505) 207-8929 for location. \nThis group will be on a break the week of June 11\, 2023\, and when we come back\, we will be meeting on Mondays\, starting June 19th – be sure to mark your calendars!
URL:https://sernasolutionsllc.com/event/kundalini-yoga-therapy-2/2023-08-14/
CATEGORIES:Groups
ATTACH;FMTTYPE=image/png:https://sernasolutionsllc.com/wp-content/uploads/2023/04/Kundalini-Yoga-Therapy.png
ORGANIZER;CN="Serna Solutions%2C LLC":MAILTO:training@sernasolutionsllc.com
END:VEVENT
BEGIN:VEVENT
DTSTART;TZID=America/Denver:20230815T173000
DTEND;TZID=America/Denver:20230815T183000
DTSTAMP:20260425T084832
CREATED:20230417T175311Z
LAST-MODIFIED:20230418T161528Z
UID:10001594-1692120600-1692124200@sernasolutionsllc.com
SUMMARY:Grief Support Group
DESCRIPTION:Tuesday – Grief Support Group Online from 5:30 – 6:30 PM MST
URL:https://sernasolutionsllc.com/event/grief-support-group/2023-08-15/
CATEGORIES:Groups
ATTACH;FMTTYPE=image/png:https://sernasolutionsllc.com/wp-content/uploads/2023/04/Grief-Support-Group.png
ORGANIZER;CN="Serna Solutions%2C LLC":MAILTO:training@sernasolutionsllc.com
END:VEVENT
BEGIN:VEVENT
DTSTART;TZID=America/Denver:20230816T100000
DTEND;TZID=America/Denver:20230816T113000
DTSTAMP:20260425T084832
CREATED:20230710T164641Z
LAST-MODIFIED:20230710T164641Z
UID:10005879-1692180000-1692185400@sernasolutionsllc.com
SUMMARY:Teen DBT Group Therapy
DESCRIPTION:Wednesday – Teen DBT Therapy from 10:00 – 11:30 AM at our office in Santa Fe. \nThis group will start on July 12th and run through August 16th
URL:https://sernasolutionsllc.com/event/teen-dbt-group-therapy/2023-08-16/
CATEGORIES:Groups
ATTACH;FMTTYPE=image/jpeg:https://sernasolutionsllc.com/wp-content/uploads/2022/07/young-hispanic-guy.jpg
ORGANIZER;CN="Serna Solutions%2C LLC":MAILTO:training@sernasolutionsllc.com
END:VEVENT
BEGIN:VEVENT
DTSTART;TZID=America/Denver:20230816T173000
DTEND;TZID=America/Denver:20230816T190000
DTSTAMP:20260425T084832
CREATED:20230417T184526Z
LAST-MODIFIED:20230417T225249Z
UID:10003411-1692207000-1692212400@sernasolutionsllc.com
SUMMARY:DBT for Parents
DESCRIPTION:Third Wednesday of each month – DBT for Parents 5:30-7:00 online via Zoom. Please call (505) 230-4949 for more information.
URL:https://sernasolutionsllc.com/event/dbt-for-parents/2023-08-16/
CATEGORIES:Groups
ATTACH;FMTTYPE=image/png:https://sernasolutionsllc.com/wp-content/uploads/2023/04/DBT-for-Parents.png
ORGANIZER;CN="Serna Solutions%2C LLC":MAILTO:training@sernasolutionsllc.com
END:VEVENT
BEGIN:VEVENT
DTSTART;TZID=America/Denver:20230816T174500
DTEND;TZID=America/Denver:20230816T191500
DTSTAMP:20260425T084832
CREATED:20230710T212949Z
LAST-MODIFIED:20230710T221838Z
UID:10005891-1692207900-1692213300@sernasolutionsllc.com
SUMMARY:Dialectical Behavioral Therapy Group
DESCRIPTION:Wednesday – DBT Therapy from 5:45 – 7:15 PM online. \nThis group will start on July 19th and run through August 23rd
URL:https://sernasolutionsllc.com/event/dialectical-behavioral-therapy-group/2023-08-16/
LOCATION:ONLINE
CATEGORIES:Groups
ATTACH;FMTTYPE=image/png:https://sernasolutionsllc.com/wp-content/uploads/2023/07/SernaSolutions_DBT_Flyer_FNL.png
ORGANIZER;CN="Serna Solutions%2C LLC":MAILTO:training@sernasolutionsllc.com
END:VEVENT
BEGIN:VEVENT
DTSTART;TZID=America/Denver:20230817T140000
DTEND;TZID=America/Denver:20230817T150000
DTSTAMP:20260425T084832
CREATED:20230417T184616Z
LAST-MODIFIED:20230417T225222Z
UID:10003745-1692280800-1692284400@sernasolutionsllc.com
SUMMARY:Grief Support Group
DESCRIPTION:Thursday – Grief Support Group: online from 2:00-3:00 PM MST.
URL:https://sernasolutionsllc.com/event/grief-support-group-2/2023-08-17/
CATEGORIES:Groups
ATTACH;FMTTYPE=image/png:https://sernasolutionsllc.com/wp-content/uploads/2023/04/Grief-Support-Group.png
ORGANIZER;CN="Serna Solutions%2C LLC":MAILTO:training@sernasolutionsllc.com
END:VEVENT
BEGIN:VEVENT
DTSTART;TZID=America/Denver:20230821T173000
DTEND;TZID=America/Denver:20230821T183000
DTSTAMP:20260425T084832
CREATED:20230531T004709Z
LAST-MODIFIED:20230531T004709Z
UID:10004562-1692639000-1692642600@sernasolutionsllc.com
SUMMARY:Kundalini Yoga Therapy
DESCRIPTION:Wednesday – Kundalini Yoga Therapy from 5:30-6:30 PM on the Southside of Santa Fe. Please call (505) 207-8929 for location. \nThis group will be on a break the week of June 11\, 2023\, and when we come back\, we will be meeting on Mondays\, starting June 19th – be sure to mark your calendars!
URL:https://sernasolutionsllc.com/event/kundalini-yoga-therapy-2/2023-08-21/
CATEGORIES:Groups
ATTACH;FMTTYPE=image/png:https://sernasolutionsllc.com/wp-content/uploads/2023/04/Kundalini-Yoga-Therapy.png
ORGANIZER;CN="Serna Solutions%2C LLC":MAILTO:training@sernasolutionsllc.com
END:VEVENT
BEGIN:VEVENT
DTSTART;TZID=America/Denver:20230822T173000
DTEND;TZID=America/Denver:20230822T183000
DTSTAMP:20260425T084832
CREATED:20230417T175311Z
LAST-MODIFIED:20230418T161528Z
UID:10001595-1692725400-1692729000@sernasolutionsllc.com
SUMMARY:Grief Support Group
DESCRIPTION:Tuesday – Grief Support Group Online from 5:30 – 6:30 PM MST
URL:https://sernasolutionsllc.com/event/grief-support-group/2023-08-22/
CATEGORIES:Groups
ATTACH;FMTTYPE=image/png:https://sernasolutionsllc.com/wp-content/uploads/2023/04/Grief-Support-Group.png
ORGANIZER;CN="Serna Solutions%2C LLC":MAILTO:training@sernasolutionsllc.com
END:VEVENT
BEGIN:VEVENT
DTSTART;TZID=America/Denver:20230823T174500
DTEND;TZID=America/Denver:20230823T191500
DTSTAMP:20260425T084832
CREATED:20230710T212949Z
LAST-MODIFIED:20230710T221838Z
UID:10005892-1692812700-1692818100@sernasolutionsllc.com
SUMMARY:Dialectical Behavioral Therapy Group
DESCRIPTION:Wednesday – DBT Therapy from 5:45 – 7:15 PM online. \nThis group will start on July 19th and run through August 23rd
URL:https://sernasolutionsllc.com/event/dialectical-behavioral-therapy-group/2023-08-23/
LOCATION:ONLINE
CATEGORIES:Groups
ATTACH;FMTTYPE=image/png:https://sernasolutionsllc.com/wp-content/uploads/2023/07/SernaSolutions_DBT_Flyer_FNL.png
ORGANIZER;CN="Serna Solutions%2C LLC":MAILTO:training@sernasolutionsllc.com
END:VEVENT
BEGIN:VEVENT
DTSTART;TZID=America/Denver:20230824T140000
DTEND;TZID=America/Denver:20230824T150000
DTSTAMP:20260425T084832
CREATED:20230417T184616Z
LAST-MODIFIED:20230417T225222Z
UID:10003746-1692885600-1692889200@sernasolutionsllc.com
SUMMARY:Grief Support Group
DESCRIPTION:Thursday – Grief Support Group: online from 2:00-3:00 PM MST.
URL:https://sernasolutionsllc.com/event/grief-support-group-2/2023-08-24/
CATEGORIES:Groups
ATTACH;FMTTYPE=image/png:https://sernasolutionsllc.com/wp-content/uploads/2023/04/Grief-Support-Group.png
ORGANIZER;CN="Serna Solutions%2C LLC":MAILTO:training@sernasolutionsllc.com
END:VEVENT
BEGIN:VEVENT
DTSTART;TZID=America/Denver:20230828T173000
DTEND;TZID=America/Denver:20230828T183000
DTSTAMP:20260425T084832
CREATED:20230531T004709Z
LAST-MODIFIED:20230531T004709Z
UID:10004563-1693243800-1693247400@sernasolutionsllc.com
SUMMARY:Kundalini Yoga Therapy
DESCRIPTION:Wednesday – Kundalini Yoga Therapy from 5:30-6:30 PM on the Southside of Santa Fe. Please call (505) 207-8929 for location. \nThis group will be on a break the week of June 11\, 2023\, and when we come back\, we will be meeting on Mondays\, starting June 19th – be sure to mark your calendars!
URL:https://sernasolutionsllc.com/event/kundalini-yoga-therapy-2/2023-08-28/
CATEGORIES:Groups
ATTACH;FMTTYPE=image/png:https://sernasolutionsllc.com/wp-content/uploads/2023/04/Kundalini-Yoga-Therapy.png
ORGANIZER;CN="Serna Solutions%2C LLC":MAILTO:training@sernasolutionsllc.com
END:VEVENT
BEGIN:VEVENT
DTSTART;TZID=America/Denver:20230829T173000
DTEND;TZID=America/Denver:20230829T183000
DTSTAMP:20260425T084832
CREATED:20230417T175311Z
LAST-MODIFIED:20230418T161528Z
UID:10001596-1693330200-1693333800@sernasolutionsllc.com
SUMMARY:Grief Support Group
DESCRIPTION:Tuesday – Grief Support Group Online from 5:30 – 6:30 PM MST
URL:https://sernasolutionsllc.com/event/grief-support-group/2023-08-29/
CATEGORIES:Groups
ATTACH;FMTTYPE=image/png:https://sernasolutionsllc.com/wp-content/uploads/2023/04/Grief-Support-Group.png
ORGANIZER;CN="Serna Solutions%2C LLC":MAILTO:training@sernasolutionsllc.com
END:VEVENT
BEGIN:VEVENT
DTSTART;TZID=America/Denver:20230831T140000
DTEND;TZID=America/Denver:20230831T150000
DTSTAMP:20260425T084832
CREATED:20230417T184616Z
LAST-MODIFIED:20230417T225222Z
UID:10003747-1693490400-1693494000@sernasolutionsllc.com
SUMMARY:Grief Support Group
DESCRIPTION:Thursday – Grief Support Group: online from 2:00-3:00 PM MST.
URL:https://sernasolutionsllc.com/event/grief-support-group-2/2023-08-31/
CATEGORIES:Groups
ATTACH;FMTTYPE=image/png:https://sernasolutionsllc.com/wp-content/uploads/2023/04/Grief-Support-Group.png
ORGANIZER;CN="Serna Solutions%2C LLC":MAILTO:training@sernasolutionsllc.com
END:VEVENT
BEGIN:VEVENT
DTSTART;TZID=America/Denver:20230904T173000
DTEND;TZID=America/Denver:20230904T183000
DTSTAMP:20260425T084832
CREATED:20230531T004709Z
LAST-MODIFIED:20230531T004709Z
UID:10004564-1693848600-1693852200@sernasolutionsllc.com
SUMMARY:Kundalini Yoga Therapy
DESCRIPTION:Wednesday – Kundalini Yoga Therapy from 5:30-6:30 PM on the Southside of Santa Fe. Please call (505) 207-8929 for location. \nThis group will be on a break the week of June 11\, 2023\, and when we come back\, we will be meeting on Mondays\, starting June 19th – be sure to mark your calendars!
URL:https://sernasolutionsllc.com/event/kundalini-yoga-therapy-2/2023-09-04/
CATEGORIES:Groups
ATTACH;FMTTYPE=image/png:https://sernasolutionsllc.com/wp-content/uploads/2023/04/Kundalini-Yoga-Therapy.png
ORGANIZER;CN="Serna Solutions%2C LLC":MAILTO:training@sernasolutionsllc.com
END:VEVENT
BEGIN:VEVENT
DTSTART;TZID=America/Denver:20230905T173000
DTEND;TZID=America/Denver:20230905T183000
DTSTAMP:20260425T084832
CREATED:20230417T175311Z
LAST-MODIFIED:20230418T161528Z
UID:10001597-1693935000-1693938600@sernasolutionsllc.com
SUMMARY:Grief Support Group
DESCRIPTION:Tuesday – Grief Support Group Online from 5:30 – 6:30 PM MST
URL:https://sernasolutionsllc.com/event/grief-support-group/2023-09-05/
CATEGORIES:Groups
ATTACH;FMTTYPE=image/png:https://sernasolutionsllc.com/wp-content/uploads/2023/04/Grief-Support-Group.png
ORGANIZER;CN="Serna Solutions%2C LLC":MAILTO:training@sernasolutionsllc.com
END:VEVENT
BEGIN:VEVENT
DTSTART;TZID=America/Denver:20230907T140000
DTEND;TZID=America/Denver:20230907T150000
DTSTAMP:20260425T084832
CREATED:20230417T184616Z
LAST-MODIFIED:20230417T225222Z
UID:10003748-1694095200-1694098800@sernasolutionsllc.com
SUMMARY:Grief Support Group
DESCRIPTION:Thursday – Grief Support Group: online from 2:00-3:00 PM MST.
URL:https://sernasolutionsllc.com/event/grief-support-group-2/2023-09-07/
CATEGORIES:Groups
ATTACH;FMTTYPE=image/png:https://sernasolutionsllc.com/wp-content/uploads/2023/04/Grief-Support-Group.png
ORGANIZER;CN="Serna Solutions%2C LLC":MAILTO:training@sernasolutionsllc.com
END:VEVENT
BEGIN:VEVENT
DTSTART;TZID=America/Denver:20230911T173000
DTEND;TZID=America/Denver:20230911T183000
DTSTAMP:20260425T084832
CREATED:20230531T004709Z
LAST-MODIFIED:20230531T004709Z
UID:10004565-1694453400-1694457000@sernasolutionsllc.com
SUMMARY:Kundalini Yoga Therapy
DESCRIPTION:Wednesday – Kundalini Yoga Therapy from 5:30-6:30 PM on the Southside of Santa Fe. Please call (505) 207-8929 for location. \nThis group will be on a break the week of June 11\, 2023\, and when we come back\, we will be meeting on Mondays\, starting June 19th – be sure to mark your calendars!
URL:https://sernasolutionsllc.com/event/kundalini-yoga-therapy-2/2023-09-11/
CATEGORIES:Groups
ATTACH;FMTTYPE=image/png:https://sernasolutionsllc.com/wp-content/uploads/2023/04/Kundalini-Yoga-Therapy.png
ORGANIZER;CN="Serna Solutions%2C LLC":MAILTO:training@sernasolutionsllc.com
END:VEVENT
BEGIN:VEVENT
DTSTART;TZID=America/Denver:20230912T173000
DTEND;TZID=America/Denver:20230912T183000
DTSTAMP:20260425T084832
CREATED:20230417T175311Z
LAST-MODIFIED:20230418T161528Z
UID:10001598-1694539800-1694543400@sernasolutionsllc.com
SUMMARY:Grief Support Group
DESCRIPTION:Tuesday – Grief Support Group Online from 5:30 – 6:30 PM MST
URL:https://sernasolutionsllc.com/event/grief-support-group/2023-09-12/
CATEGORIES:Groups
ATTACH;FMTTYPE=image/png:https://sernasolutionsllc.com/wp-content/uploads/2023/04/Grief-Support-Group.png
ORGANIZER;CN="Serna Solutions%2C LLC":MAILTO:training@sernasolutionsllc.com
END:VEVENT
BEGIN:VEVENT
DTSTART;TZID=America/Denver:20230914T140000
DTEND;TZID=America/Denver:20230914T150000
DTSTAMP:20260425T084832
CREATED:20230417T184616Z
LAST-MODIFIED:20230417T225222Z
UID:10003749-1694700000-1694703600@sernasolutionsllc.com
SUMMARY:Grief Support Group
DESCRIPTION:Thursday – Grief Support Group: online from 2:00-3:00 PM MST.
URL:https://sernasolutionsllc.com/event/grief-support-group-2/2023-09-14/
CATEGORIES:Groups
ATTACH;FMTTYPE=image/png:https://sernasolutionsllc.com/wp-content/uploads/2023/04/Grief-Support-Group.png
ORGANIZER;CN="Serna Solutions%2C LLC":MAILTO:training@sernasolutionsllc.com
END:VEVENT
BEGIN:VEVENT
DTSTART;TZID=America/Denver:20230918T173000
DTEND;TZID=America/Denver:20230918T183000
DTSTAMP:20260425T084832
CREATED:20230531T004709Z
LAST-MODIFIED:20230531T004709Z
UID:10004566-1695058200-1695061800@sernasolutionsllc.com
SUMMARY:Kundalini Yoga Therapy
DESCRIPTION:Wednesday – Kundalini Yoga Therapy from 5:30-6:30 PM on the Southside of Santa Fe. Please call (505) 207-8929 for location. \nThis group will be on a break the week of June 11\, 2023\, and when we come back\, we will be meeting on Mondays\, starting June 19th – be sure to mark your calendars!
URL:https://sernasolutionsllc.com/event/kundalini-yoga-therapy-2/2023-09-18/
CATEGORIES:Groups
ATTACH;FMTTYPE=image/png:https://sernasolutionsllc.com/wp-content/uploads/2023/04/Kundalini-Yoga-Therapy.png
ORGANIZER;CN="Serna Solutions%2C LLC":MAILTO:training@sernasolutionsllc.com
END:VEVENT
BEGIN:VEVENT
DTSTART;TZID=America/Denver:20230919T173000
DTEND;TZID=America/Denver:20230919T183000
DTSTAMP:20260425T084832
CREATED:20230417T175311Z
LAST-MODIFIED:20230418T161528Z
UID:10001599-1695144600-1695148200@sernasolutionsllc.com
SUMMARY:Grief Support Group
DESCRIPTION:Tuesday – Grief Support Group Online from 5:30 – 6:30 PM MST
URL:https://sernasolutionsllc.com/event/grief-support-group/2023-09-19/
CATEGORIES:Groups
ATTACH;FMTTYPE=image/png:https://sernasolutionsllc.com/wp-content/uploads/2023/04/Grief-Support-Group.png
ORGANIZER;CN="Serna Solutions%2C LLC":MAILTO:training@sernasolutionsllc.com
END:VEVENT
BEGIN:VEVENT
DTSTART;TZID=America/Denver:20230920T173000
DTEND;TZID=America/Denver:20230920T190000
DTSTAMP:20260425T084832
CREATED:20230417T184526Z
LAST-MODIFIED:20230417T225249Z
UID:10003412-1695231000-1695236400@sernasolutionsllc.com
SUMMARY:DBT for Parents
DESCRIPTION:Third Wednesday of each month – DBT for Parents 5:30-7:00 online via Zoom. Please call (505) 230-4949 for more information.
URL:https://sernasolutionsllc.com/event/dbt-for-parents/2023-09-20/
CATEGORIES:Groups
ATTACH;FMTTYPE=image/png:https://sernasolutionsllc.com/wp-content/uploads/2023/04/DBT-for-Parents.png
ORGANIZER;CN="Serna Solutions%2C LLC":MAILTO:training@sernasolutionsllc.com
END:VEVENT
BEGIN:VEVENT
DTSTART;TZID=America/Denver:20230921T140000
DTEND;TZID=America/Denver:20230921T150000
DTSTAMP:20260425T084832
CREATED:20230417T184616Z
LAST-MODIFIED:20230417T225222Z
UID:10003750-1695304800-1695308400@sernasolutionsllc.com
SUMMARY:Grief Support Group
DESCRIPTION:Thursday – Grief Support Group: online from 2:00-3:00 PM MST.
URL:https://sernasolutionsllc.com/event/grief-support-group-2/2023-09-21/
CATEGORIES:Groups
ATTACH;FMTTYPE=image/png:https://sernasolutionsllc.com/wp-content/uploads/2023/04/Grief-Support-Group.png
ORGANIZER;CN="Serna Solutions%2C LLC":MAILTO:training@sernasolutionsllc.com
END:VEVENT
BEGIN:VEVENT
DTSTART;TZID=America/Denver:20230925T173000
DTEND;TZID=America/Denver:20230925T183000
DTSTAMP:20260425T084832
CREATED:20230531T004709Z
LAST-MODIFIED:20230531T004709Z
UID:10004567-1695663000-1695666600@sernasolutionsllc.com
SUMMARY:Kundalini Yoga Therapy
DESCRIPTION:Wednesday – Kundalini Yoga Therapy from 5:30-6:30 PM on the Southside of Santa Fe. Please call (505) 207-8929 for location. \nThis group will be on a break the week of June 11\, 2023\, and when we come back\, we will be meeting on Mondays\, starting June 19th – be sure to mark your calendars!
URL:https://sernasolutionsllc.com/event/kundalini-yoga-therapy-2/2023-09-25/
CATEGORIES:Groups
ATTACH;FMTTYPE=image/png:https://sernasolutionsllc.com/wp-content/uploads/2023/04/Kundalini-Yoga-Therapy.png
ORGANIZER;CN="Serna Solutions%2C LLC":MAILTO:training@sernasolutionsllc.com
END:VEVENT
BEGIN:VEVENT
DTSTART;TZID=America/Denver:20230926T173000
DTEND;TZID=America/Denver:20230926T183000
DTSTAMP:20260425T084832
CREATED:20230417T175311Z
LAST-MODIFIED:20230418T161528Z
UID:10001600-1695749400-1695753000@sernasolutionsllc.com
SUMMARY:Grief Support Group
DESCRIPTION:Tuesday – Grief Support Group Online from 5:30 – 6:30 PM MST
URL:https://sernasolutionsllc.com/event/grief-support-group/2023-09-26/
CATEGORIES:Groups
ATTACH;FMTTYPE=image/png:https://sernasolutionsllc.com/wp-content/uploads/2023/04/Grief-Support-Group.png
ORGANIZER;CN="Serna Solutions%2C LLC":MAILTO:training@sernasolutionsllc.com
END:VEVENT
BEGIN:VEVENT
DTSTART;TZID=America/Denver:20230928T140000
DTEND;TZID=America/Denver:20230928T150000
DTSTAMP:20260425T084832
CREATED:20230417T184616Z
LAST-MODIFIED:20230417T225222Z
UID:10003751-1695909600-1695913200@sernasolutionsllc.com
SUMMARY:Grief Support Group
DESCRIPTION:Thursday – Grief Support Group: online from 2:00-3:00 PM MST.
URL:https://sernasolutionsllc.com/event/grief-support-group-2/2023-09-28/
CATEGORIES:Groups
ATTACH;FMTTYPE=image/png:https://sernasolutionsllc.com/wp-content/uploads/2023/04/Grief-Support-Group.png
ORGANIZER;CN="Serna Solutions%2C LLC":MAILTO:training@sernasolutionsllc.com
END:VEVENT
END:VCALENDAR