BEGIN:VCALENDAR
VERSION:2.0
PRODID:-//Serna Solutions LLC - ECPv6.15.20//NONSGML v1.0//EN
CALSCALE:GREGORIAN
METHOD:PUBLISH
X-ORIGINAL-URL:https://sernasolutionsllc.com
X-WR-CALDESC:Events for Serna Solutions LLC
REFRESH-INTERVAL;VALUE=DURATION:PT1H
X-Robots-Tag:noindex
X-PUBLISHED-TTL:PT1H
BEGIN:VTIMEZONE
TZID:America/Denver
BEGIN:DAYLIGHT
TZOFFSETFROM:-0700
TZOFFSETTO:-0600
TZNAME:MDT
DTSTART:20230312T090000
END:DAYLIGHT
BEGIN:STANDARD
TZOFFSETFROM:-0600
TZOFFSETTO:-0700
TZNAME:MST
DTSTART:20231105T080000
END:STANDARD
BEGIN:DAYLIGHT
TZOFFSETFROM:-0700
TZOFFSETTO:-0600
TZNAME:MDT
DTSTART:20240310T090000
END:DAYLIGHT
BEGIN:STANDARD
TZOFFSETFROM:-0600
TZOFFSETTO:-0700
TZNAME:MST
DTSTART:20241103T080000
END:STANDARD
BEGIN:DAYLIGHT
TZOFFSETFROM:-0700
TZOFFSETTO:-0600
TZNAME:MDT
DTSTART:20250309T090000
END:DAYLIGHT
BEGIN:STANDARD
TZOFFSETFROM:-0600
TZOFFSETTO:-0700
TZNAME:MST
DTSTART:20251102T080000
END:STANDARD
END:VTIMEZONE
BEGIN:VEVENT
DTSTART;TZID=America/Denver:20240702T120000
DTEND;TZID=America/Denver:20240702T133000
DTSTAMP:20260422T184706
CREATED:20240909T195329Z
LAST-MODIFIED:20240912T154501Z
UID:10006332-1719921600-1719927000@sernasolutionsllc.com
SUMMARY:Dialectical Behavioral Therapy (DBT) Skills Group for adults
DESCRIPTION:Tuesday – Dialectical Behavioral Therapy (DBT) Skills Group for adults: 12:00-1:30 PM MST online via Zoom.
URL:https://sernasolutionsllc.com/event/dialectical-behavioral-therapy-dbt-skills-group-for-adults-2/2024-07-02/2/
CATEGORIES:Groups
ATTACH;FMTTYPE=image/png:https://sernasolutionsllc.com/wp-content/uploads/2023/04/Dialectical-Behavioral-Therapy-Skills-Group-for-adults.png
ORGANIZER;CN="Serna Solutions%2C LLC":MAILTO:training@sernasolutionsllc.com
END:VEVENT
BEGIN:VEVENT
DTSTART;TZID=America/Denver:20240702T173000
DTEND;TZID=America/Denver:20240702T183000
DTSTAMP:20260422T184706
CREATED:20230417T175311Z
LAST-MODIFIED:20230418T161528Z
UID:10001640-1719941400-1719945000@sernasolutionsllc.com
SUMMARY:Grief Support Group
DESCRIPTION:Tuesday – Grief Support Group Online from 5:30 – 6:30 PM MST
URL:https://sernasolutionsllc.com/event/grief-support-group/2024-07-02/
CATEGORIES:Groups
ATTACH;FMTTYPE=image/png:https://sernasolutionsllc.com/wp-content/uploads/2023/04/Grief-Support-Group.png
ORGANIZER;CN="Serna Solutions%2C LLC":MAILTO:training@sernasolutionsllc.com
END:VEVENT
BEGIN:VEVENT
DTSTART;TZID=America/Denver:20240704T140000
DTEND;TZID=America/Denver:20240704T150000
DTSTAMP:20260422T184706
CREATED:20230417T184616Z
LAST-MODIFIED:20230417T225222Z
UID:10003791-1720101600-1720105200@sernasolutionsllc.com
SUMMARY:Grief Support Group
DESCRIPTION:Thursday – Grief Support Group: online from 2:00-3:00 PM MST.
URL:https://sernasolutionsllc.com/event/grief-support-group-2/2024-07-04/
CATEGORIES:Groups
ATTACH;FMTTYPE=image/png:https://sernasolutionsllc.com/wp-content/uploads/2023/04/Grief-Support-Group.png
ORGANIZER;CN="Serna Solutions%2C LLC":MAILTO:training@sernasolutionsllc.com
END:VEVENT
BEGIN:VEVENT
DTSTART;TZID=America/Denver:20240708T173000
DTEND;TZID=America/Denver:20240708T183000
DTSTAMP:20260422T184706
CREATED:20230531T004709Z
LAST-MODIFIED:20230531T004709Z
UID:10004608-1720459800-1720463400@sernasolutionsllc.com
SUMMARY:Kundalini Yoga Therapy
DESCRIPTION:Wednesday – Kundalini Yoga Therapy from 5:30-6:30 PM on the Southside of Santa Fe. Please call (505) 207-8929 for location. \nThis group will be on a break the week of June 11\, 2023\, and when we come back\, we will be meeting on Mondays\, starting June 19th – be sure to mark your calendars!
URL:https://sernasolutionsllc.com/event/kundalini-yoga-therapy-2/2024-07-08/
CATEGORIES:Groups
ATTACH;FMTTYPE=image/png:https://sernasolutionsllc.com/wp-content/uploads/2023/04/Kundalini-Yoga-Therapy.png
ORGANIZER;CN="Serna Solutions%2C LLC":MAILTO:training@sernasolutionsllc.com
END:VEVENT
BEGIN:VEVENT
DTSTART;TZID=America/Denver:20240709T113000
DTEND;TZID=America/Denver:20240709T123000
DTSTAMP:20260422T184706
CREATED:20240531T214010Z
LAST-MODIFIED:20240531T214010Z
UID:10006048-1720524600-1720528200@sernasolutionsllc.com
SUMMARY:Dialectical Behavior Therapy for Teens (A-DBT)
DESCRIPTION:Runs June 4th\, 2024 – August 6th\, 2024 \nA-DBT Flyer 2024
URL:https://sernasolutionsllc.com/event/dialectical-behavior-therapy-for-teens-a-dbt/2024-07-09/
LOCATION:4001 Office Ct Dr STE 607\, Santa Fe\, NM\, 4001 Office Ct Dr STE 607\, Santa Fe\, NM
CATEGORIES:Groups
ORGANIZER;CN="Serna Solutions%2C LLC":MAILTO:training@sernasolutionsllc.com
END:VEVENT
BEGIN:VEVENT
DTSTART;TZID=America/Denver:20240709T173000
DTEND;TZID=America/Denver:20240709T183000
DTSTAMP:20260422T184706
CREATED:20230417T175311Z
LAST-MODIFIED:20230418T161528Z
UID:10001641-1720546200-1720549800@sernasolutionsllc.com
SUMMARY:Grief Support Group
DESCRIPTION:Tuesday – Grief Support Group Online from 5:30 – 6:30 PM MST
URL:https://sernasolutionsllc.com/event/grief-support-group/2024-07-09/
CATEGORIES:Groups
ATTACH;FMTTYPE=image/png:https://sernasolutionsllc.com/wp-content/uploads/2023/04/Grief-Support-Group.png
ORGANIZER;CN="Serna Solutions%2C LLC":MAILTO:training@sernasolutionsllc.com
END:VEVENT
BEGIN:VEVENT
DTSTART;TZID=America/Denver:20240711T140000
DTEND;TZID=America/Denver:20240711T150000
DTSTAMP:20260422T184706
CREATED:20230417T184616Z
LAST-MODIFIED:20230417T225222Z
UID:10003792-1720706400-1720710000@sernasolutionsllc.com
SUMMARY:Grief Support Group
DESCRIPTION:Thursday – Grief Support Group: online from 2:00-3:00 PM MST.
URL:https://sernasolutionsllc.com/event/grief-support-group-2/2024-07-11/
CATEGORIES:Groups
ATTACH;FMTTYPE=image/png:https://sernasolutionsllc.com/wp-content/uploads/2023/04/Grief-Support-Group.png
ORGANIZER;CN="Serna Solutions%2C LLC":MAILTO:training@sernasolutionsllc.com
END:VEVENT
BEGIN:VEVENT
DTSTART;TZID=America/Denver:20240715T173000
DTEND;TZID=America/Denver:20240715T183000
DTSTAMP:20260422T184706
CREATED:20230531T004709Z
LAST-MODIFIED:20230531T004709Z
UID:10004609-1721064600-1721068200@sernasolutionsllc.com
SUMMARY:Kundalini Yoga Therapy
DESCRIPTION:Wednesday – Kundalini Yoga Therapy from 5:30-6:30 PM on the Southside of Santa Fe. Please call (505) 207-8929 for location. \nThis group will be on a break the week of June 11\, 2023\, and when we come back\, we will be meeting on Mondays\, starting June 19th – be sure to mark your calendars!
URL:https://sernasolutionsllc.com/event/kundalini-yoga-therapy-2/2024-07-15/
CATEGORIES:Groups
ATTACH;FMTTYPE=image/png:https://sernasolutionsllc.com/wp-content/uploads/2023/04/Kundalini-Yoga-Therapy.png
ORGANIZER;CN="Serna Solutions%2C LLC":MAILTO:training@sernasolutionsllc.com
END:VEVENT
BEGIN:VEVENT
DTSTART;TZID=America/Denver:20240716T113000
DTEND;TZID=America/Denver:20240716T123000
DTSTAMP:20260422T184706
CREATED:20240531T214010Z
LAST-MODIFIED:20240531T214010Z
UID:10006049-1721129400-1721133000@sernasolutionsllc.com
SUMMARY:Dialectical Behavior Therapy for Teens (A-DBT)
DESCRIPTION:Runs June 4th\, 2024 – August 6th\, 2024 \nA-DBT Flyer 2024
URL:https://sernasolutionsllc.com/event/dialectical-behavior-therapy-for-teens-a-dbt/2024-07-16/
LOCATION:4001 Office Ct Dr STE 607\, Santa Fe\, NM\, 4001 Office Ct Dr STE 607\, Santa Fe\, NM
CATEGORIES:Groups
ORGANIZER;CN="Serna Solutions%2C LLC":MAILTO:training@sernasolutionsllc.com
END:VEVENT
BEGIN:VEVENT
DTSTART;TZID=America/Denver:20240716T173000
DTEND;TZID=America/Denver:20240716T183000
DTSTAMP:20260422T184706
CREATED:20230417T175311Z
LAST-MODIFIED:20230418T161528Z
UID:10001642-1721151000-1721154600@sernasolutionsllc.com
SUMMARY:Grief Support Group
DESCRIPTION:Tuesday – Grief Support Group Online from 5:30 – 6:30 PM MST
URL:https://sernasolutionsllc.com/event/grief-support-group/2024-07-16/
CATEGORIES:Groups
ATTACH;FMTTYPE=image/png:https://sernasolutionsllc.com/wp-content/uploads/2023/04/Grief-Support-Group.png
ORGANIZER;CN="Serna Solutions%2C LLC":MAILTO:training@sernasolutionsllc.com
END:VEVENT
BEGIN:VEVENT
DTSTART;TZID=America/Denver:20240718T140000
DTEND;TZID=America/Denver:20240718T150000
DTSTAMP:20260422T184706
CREATED:20230417T184616Z
LAST-MODIFIED:20230417T225222Z
UID:10003793-1721311200-1721314800@sernasolutionsllc.com
SUMMARY:Grief Support Group
DESCRIPTION:Thursday – Grief Support Group: online from 2:00-3:00 PM MST.
URL:https://sernasolutionsllc.com/event/grief-support-group-2/2024-07-18/
CATEGORIES:Groups
ATTACH;FMTTYPE=image/png:https://sernasolutionsllc.com/wp-content/uploads/2023/04/Grief-Support-Group.png
ORGANIZER;CN="Serna Solutions%2C LLC":MAILTO:training@sernasolutionsllc.com
END:VEVENT
BEGIN:VEVENT
DTSTART;TZID=America/Denver:20240722T173000
DTEND;TZID=America/Denver:20240722T183000
DTSTAMP:20260422T184706
CREATED:20230531T004709Z
LAST-MODIFIED:20230531T004709Z
UID:10004610-1721669400-1721673000@sernasolutionsllc.com
SUMMARY:Kundalini Yoga Therapy
DESCRIPTION:Wednesday – Kundalini Yoga Therapy from 5:30-6:30 PM on the Southside of Santa Fe. Please call (505) 207-8929 for location. \nThis group will be on a break the week of June 11\, 2023\, and when we come back\, we will be meeting on Mondays\, starting June 19th – be sure to mark your calendars!
URL:https://sernasolutionsllc.com/event/kundalini-yoga-therapy-2/2024-07-22/
CATEGORIES:Groups
ATTACH;FMTTYPE=image/png:https://sernasolutionsllc.com/wp-content/uploads/2023/04/Kundalini-Yoga-Therapy.png
ORGANIZER;CN="Serna Solutions%2C LLC":MAILTO:training@sernasolutionsllc.com
END:VEVENT
BEGIN:VEVENT
DTSTART;TZID=America/Denver:20240723T113000
DTEND;TZID=America/Denver:20240723T123000
DTSTAMP:20260422T184706
CREATED:20240531T214010Z
LAST-MODIFIED:20240531T214010Z
UID:10006050-1721734200-1721737800@sernasolutionsllc.com
SUMMARY:Dialectical Behavior Therapy for Teens (A-DBT)
DESCRIPTION:Runs June 4th\, 2024 – August 6th\, 2024 \nA-DBT Flyer 2024
URL:https://sernasolutionsllc.com/event/dialectical-behavior-therapy-for-teens-a-dbt/2024-07-23/
LOCATION:4001 Office Ct Dr STE 607\, Santa Fe\, NM\, 4001 Office Ct Dr STE 607\, Santa Fe\, NM
CATEGORIES:Groups
ORGANIZER;CN="Serna Solutions%2C LLC":MAILTO:training@sernasolutionsllc.com
END:VEVENT
BEGIN:VEVENT
DTSTART;TZID=America/Denver:20240723T173000
DTEND;TZID=America/Denver:20240723T183000
DTSTAMP:20260422T184706
CREATED:20230417T175311Z
LAST-MODIFIED:20230418T161528Z
UID:10001643-1721755800-1721759400@sernasolutionsllc.com
SUMMARY:Grief Support Group
DESCRIPTION:Tuesday – Grief Support Group Online from 5:30 – 6:30 PM MST
URL:https://sernasolutionsllc.com/event/grief-support-group/2024-07-23/
CATEGORIES:Groups
ATTACH;FMTTYPE=image/png:https://sernasolutionsllc.com/wp-content/uploads/2023/04/Grief-Support-Group.png
ORGANIZER;CN="Serna Solutions%2C LLC":MAILTO:training@sernasolutionsllc.com
END:VEVENT
BEGIN:VEVENT
DTSTART;TZID=America/Denver:20240725T140000
DTEND;TZID=America/Denver:20240725T150000
DTSTAMP:20260422T184706
CREATED:20230417T184616Z
LAST-MODIFIED:20230417T225222Z
UID:10003794-1721916000-1721919600@sernasolutionsllc.com
SUMMARY:Grief Support Group
DESCRIPTION:Thursday – Grief Support Group: online from 2:00-3:00 PM MST.
URL:https://sernasolutionsllc.com/event/grief-support-group-2/2024-07-25/
CATEGORIES:Groups
ATTACH;FMTTYPE=image/png:https://sernasolutionsllc.com/wp-content/uploads/2023/04/Grief-Support-Group.png
ORGANIZER;CN="Serna Solutions%2C LLC":MAILTO:training@sernasolutionsllc.com
END:VEVENT
BEGIN:VEVENT
DTSTART;TZID=America/Denver:20240729T173000
DTEND;TZID=America/Denver:20240729T183000
DTSTAMP:20260422T184706
CREATED:20230531T004709Z
LAST-MODIFIED:20230531T004709Z
UID:10004611-1722274200-1722277800@sernasolutionsllc.com
SUMMARY:Kundalini Yoga Therapy
DESCRIPTION:Wednesday – Kundalini Yoga Therapy from 5:30-6:30 PM on the Southside of Santa Fe. Please call (505) 207-8929 for location. \nThis group will be on a break the week of June 11\, 2023\, and when we come back\, we will be meeting on Mondays\, starting June 19th – be sure to mark your calendars!
URL:https://sernasolutionsllc.com/event/kundalini-yoga-therapy-2/2024-07-29/
CATEGORIES:Groups
ATTACH;FMTTYPE=image/png:https://sernasolutionsllc.com/wp-content/uploads/2023/04/Kundalini-Yoga-Therapy.png
ORGANIZER;CN="Serna Solutions%2C LLC":MAILTO:training@sernasolutionsllc.com
END:VEVENT
BEGIN:VEVENT
DTSTART;TZID=America/Denver:20240730T113000
DTEND;TZID=America/Denver:20240730T123000
DTSTAMP:20260422T184706
CREATED:20240531T214010Z
LAST-MODIFIED:20240531T214010Z
UID:10006051-1722339000-1722342600@sernasolutionsllc.com
SUMMARY:Dialectical Behavior Therapy for Teens (A-DBT)
DESCRIPTION:Runs June 4th\, 2024 – August 6th\, 2024 \nA-DBT Flyer 2024
URL:https://sernasolutionsllc.com/event/dialectical-behavior-therapy-for-teens-a-dbt/2024-07-30/
LOCATION:4001 Office Ct Dr STE 607\, Santa Fe\, NM\, 4001 Office Ct Dr STE 607\, Santa Fe\, NM
CATEGORIES:Groups
ORGANIZER;CN="Serna Solutions%2C LLC":MAILTO:training@sernasolutionsllc.com
END:VEVENT
BEGIN:VEVENT
DTSTART;TZID=America/Denver:20240730T173000
DTEND;TZID=America/Denver:20240730T183000
DTSTAMP:20260422T184706
CREATED:20230417T175311Z
LAST-MODIFIED:20230418T161528Z
UID:10001644-1722360600-1722364200@sernasolutionsllc.com
SUMMARY:Grief Support Group
DESCRIPTION:Tuesday – Grief Support Group Online from 5:30 – 6:30 PM MST
URL:https://sernasolutionsllc.com/event/grief-support-group/2024-07-30/
CATEGORIES:Groups
ATTACH;FMTTYPE=image/png:https://sernasolutionsllc.com/wp-content/uploads/2023/04/Grief-Support-Group.png
ORGANIZER;CN="Serna Solutions%2C LLC":MAILTO:training@sernasolutionsllc.com
END:VEVENT
BEGIN:VEVENT
DTSTART;TZID=America/Denver:20240801T140000
DTEND;TZID=America/Denver:20240801T150000
DTSTAMP:20260422T184706
CREATED:20230417T184616Z
LAST-MODIFIED:20230417T225222Z
UID:10003795-1722520800-1722524400@sernasolutionsllc.com
SUMMARY:Grief Support Group
DESCRIPTION:Thursday – Grief Support Group: online from 2:00-3:00 PM MST.
URL:https://sernasolutionsllc.com/event/grief-support-group-2/2024-08-01/
CATEGORIES:Groups
ATTACH;FMTTYPE=image/png:https://sernasolutionsllc.com/wp-content/uploads/2023/04/Grief-Support-Group.png
ORGANIZER;CN="Serna Solutions%2C LLC":MAILTO:training@sernasolutionsllc.com
END:VEVENT
BEGIN:VEVENT
DTSTART;TZID=America/Denver:20240805T173000
DTEND;TZID=America/Denver:20240805T183000
DTSTAMP:20260422T184706
CREATED:20230531T004709Z
LAST-MODIFIED:20230531T004709Z
UID:10004612-1722879000-1722882600@sernasolutionsllc.com
SUMMARY:Kundalini Yoga Therapy
DESCRIPTION:Wednesday – Kundalini Yoga Therapy from 5:30-6:30 PM on the Southside of Santa Fe. Please call (505) 207-8929 for location. \nThis group will be on a break the week of June 11\, 2023\, and when we come back\, we will be meeting on Mondays\, starting June 19th – be sure to mark your calendars!
URL:https://sernasolutionsllc.com/event/kundalini-yoga-therapy-2/2024-08-05/
CATEGORIES:Groups
ATTACH;FMTTYPE=image/png:https://sernasolutionsllc.com/wp-content/uploads/2023/04/Kundalini-Yoga-Therapy.png
ORGANIZER;CN="Serna Solutions%2C LLC":MAILTO:training@sernasolutionsllc.com
END:VEVENT
BEGIN:VEVENT
DTSTART;TZID=America/Denver:20240806T113000
DTEND;TZID=America/Denver:20240806T123000
DTSTAMP:20260422T184706
CREATED:20240531T214010Z
LAST-MODIFIED:20240531T214010Z
UID:10006052-1722943800-1722947400@sernasolutionsllc.com
SUMMARY:Dialectical Behavior Therapy for Teens (A-DBT)
DESCRIPTION:Runs June 4th\, 2024 – August 6th\, 2024 \nA-DBT Flyer 2024
URL:https://sernasolutionsllc.com/event/dialectical-behavior-therapy-for-teens-a-dbt/2024-08-06/
LOCATION:4001 Office Ct Dr STE 607\, Santa Fe\, NM\, 4001 Office Ct Dr STE 607\, Santa Fe\, NM
CATEGORIES:Groups
ORGANIZER;CN="Serna Solutions%2C LLC":MAILTO:training@sernasolutionsllc.com
END:VEVENT
BEGIN:VEVENT
DTSTART;TZID=America/Denver:20240806T173000
DTEND;TZID=America/Denver:20240806T183000
DTSTAMP:20260422T184706
CREATED:20230417T175311Z
LAST-MODIFIED:20230418T161528Z
UID:10001645-1722965400-1722969000@sernasolutionsllc.com
SUMMARY:Grief Support Group
DESCRIPTION:Tuesday – Grief Support Group Online from 5:30 – 6:30 PM MST
URL:https://sernasolutionsllc.com/event/grief-support-group/2024-08-06/
CATEGORIES:Groups
ATTACH;FMTTYPE=image/png:https://sernasolutionsllc.com/wp-content/uploads/2023/04/Grief-Support-Group.png
ORGANIZER;CN="Serna Solutions%2C LLC":MAILTO:training@sernasolutionsllc.com
END:VEVENT
BEGIN:VEVENT
DTSTART;TZID=America/Denver:20240808T140000
DTEND;TZID=America/Denver:20240808T150000
DTSTAMP:20260422T184706
CREATED:20230417T184616Z
LAST-MODIFIED:20230417T225222Z
UID:10003796-1723125600-1723129200@sernasolutionsllc.com
SUMMARY:Grief Support Group
DESCRIPTION:Thursday – Grief Support Group: online from 2:00-3:00 PM MST.
URL:https://sernasolutionsllc.com/event/grief-support-group-2/2024-08-08/
CATEGORIES:Groups
ATTACH;FMTTYPE=image/png:https://sernasolutionsllc.com/wp-content/uploads/2023/04/Grief-Support-Group.png
ORGANIZER;CN="Serna Solutions%2C LLC":MAILTO:training@sernasolutionsllc.com
END:VEVENT
BEGIN:VEVENT
DTSTART;TZID=America/Denver:20240812T173000
DTEND;TZID=America/Denver:20240812T183000
DTSTAMP:20260422T184706
CREATED:20230531T004709Z
LAST-MODIFIED:20230531T004709Z
UID:10004613-1723483800-1723487400@sernasolutionsllc.com
SUMMARY:Kundalini Yoga Therapy
DESCRIPTION:Wednesday – Kundalini Yoga Therapy from 5:30-6:30 PM on the Southside of Santa Fe. Please call (505) 207-8929 for location. \nThis group will be on a break the week of June 11\, 2023\, and when we come back\, we will be meeting on Mondays\, starting June 19th – be sure to mark your calendars!
URL:https://sernasolutionsllc.com/event/kundalini-yoga-therapy-2/2024-08-12/
CATEGORIES:Groups
ATTACH;FMTTYPE=image/png:https://sernasolutionsllc.com/wp-content/uploads/2023/04/Kundalini-Yoga-Therapy.png
ORGANIZER;CN="Serna Solutions%2C LLC":MAILTO:training@sernasolutionsllc.com
END:VEVENT
BEGIN:VEVENT
DTSTART;TZID=America/Denver:20240813T173000
DTEND;TZID=America/Denver:20240813T183000
DTSTAMP:20260422T184706
CREATED:20230417T175311Z
LAST-MODIFIED:20230418T161528Z
UID:10001646-1723570200-1723573800@sernasolutionsllc.com
SUMMARY:Grief Support Group
DESCRIPTION:Tuesday – Grief Support Group Online from 5:30 – 6:30 PM MST
URL:https://sernasolutionsllc.com/event/grief-support-group/2024-08-13/
CATEGORIES:Groups
ATTACH;FMTTYPE=image/png:https://sernasolutionsllc.com/wp-content/uploads/2023/04/Grief-Support-Group.png
ORGANIZER;CN="Serna Solutions%2C LLC":MAILTO:training@sernasolutionsllc.com
END:VEVENT
BEGIN:VEVENT
DTSTART;TZID=America/Denver:20240815T140000
DTEND;TZID=America/Denver:20240815T150000
DTSTAMP:20260422T184706
CREATED:20230417T184616Z
LAST-MODIFIED:20230417T225222Z
UID:10003797-1723730400-1723734000@sernasolutionsllc.com
SUMMARY:Grief Support Group
DESCRIPTION:Thursday – Grief Support Group: online from 2:00-3:00 PM MST.
URL:https://sernasolutionsllc.com/event/grief-support-group-2/2024-08-15/
CATEGORIES:Groups
ATTACH;FMTTYPE=image/png:https://sernasolutionsllc.com/wp-content/uploads/2023/04/Grief-Support-Group.png
ORGANIZER;CN="Serna Solutions%2C LLC":MAILTO:training@sernasolutionsllc.com
END:VEVENT
BEGIN:VEVENT
DTSTART;TZID=America/Denver:20240819T173000
DTEND;TZID=America/Denver:20240819T183000
DTSTAMP:20260422T184706
CREATED:20230531T004709Z
LAST-MODIFIED:20230531T004709Z
UID:10004614-1724088600-1724092200@sernasolutionsllc.com
SUMMARY:Kundalini Yoga Therapy
DESCRIPTION:Wednesday – Kundalini Yoga Therapy from 5:30-6:30 PM on the Southside of Santa Fe. Please call (505) 207-8929 for location. \nThis group will be on a break the week of June 11\, 2023\, and when we come back\, we will be meeting on Mondays\, starting June 19th – be sure to mark your calendars!
URL:https://sernasolutionsllc.com/event/kundalini-yoga-therapy-2/2024-08-19/
CATEGORIES:Groups
ATTACH;FMTTYPE=image/png:https://sernasolutionsllc.com/wp-content/uploads/2023/04/Kundalini-Yoga-Therapy.png
ORGANIZER;CN="Serna Solutions%2C LLC":MAILTO:training@sernasolutionsllc.com
END:VEVENT
BEGIN:VEVENT
DTSTART;TZID=America/Denver:20240820T120000
DTEND;TZID=America/Denver:20240820T133000
DTSTAMP:20260422T184707
CREATED:20240904T154314Z
LAST-MODIFIED:20240912T154715Z
UID:10006186-1724155200-1724160600@sernasolutionsllc.com
SUMMARY:DBT Skills Group For Adults
DESCRIPTION:DBT is a proven intervention that helps individuals learn coping skills for intense\, unmanageable emotions and urges\, and to develop more effective communication. This group meets weekly online and is open to adults 18 or older who want to be more mindful\, improve relationships\, and build a life worth living. Skills modules include Mindfulness\, Distress Tolerance\, Emotion Regulation\, and Interpersonal Effectiveness. Sessions will use the DBT Skills Training Manual which includes weekly worksheets designed to help members practice their skills. \nIf interested contact: Mary Evans at mary@sernasolutionsllc.com and Sophia Archibald at sophia@sernasolutionsllc.co
URL:https://sernasolutionsllc.com/event/dbt-skills-group-for-adults/2024-08-20/
LOCATION:ONLINE
CATEGORIES:Groups
ATTACH;FMTTYPE=image/png:https://sernasolutionsllc.com/wp-content/uploads/2024/09/Screenshot-2024-09-04-at-9.39.14 AM.png
ORGANIZER;CN="Serna Solutions%2C LLC":MAILTO:training@sernasolutionsllc.com
END:VEVENT
BEGIN:VEVENT
DTSTART;TZID=America/Denver:20240820T173000
DTEND;TZID=America/Denver:20240820T183000
DTSTAMP:20260422T184707
CREATED:20230417T175311Z
LAST-MODIFIED:20230418T161528Z
UID:10001647-1724175000-1724178600@sernasolutionsllc.com
SUMMARY:Grief Support Group
DESCRIPTION:Tuesday – Grief Support Group Online from 5:30 – 6:30 PM MST
URL:https://sernasolutionsllc.com/event/grief-support-group/2024-08-20/
CATEGORIES:Groups
ATTACH;FMTTYPE=image/png:https://sernasolutionsllc.com/wp-content/uploads/2023/04/Grief-Support-Group.png
ORGANIZER;CN="Serna Solutions%2C LLC":MAILTO:training@sernasolutionsllc.com
END:VEVENT
BEGIN:VEVENT
DTSTART;TZID=America/Denver:20240822T140000
DTEND;TZID=America/Denver:20240822T150000
DTSTAMP:20260422T184707
CREATED:20230417T184616Z
LAST-MODIFIED:20230417T225222Z
UID:10003798-1724335200-1724338800@sernasolutionsllc.com
SUMMARY:Grief Support Group
DESCRIPTION:Thursday – Grief Support Group: online from 2:00-3:00 PM MST.
URL:https://sernasolutionsllc.com/event/grief-support-group-2/2024-08-22/
CATEGORIES:Groups
ATTACH;FMTTYPE=image/png:https://sernasolutionsllc.com/wp-content/uploads/2023/04/Grief-Support-Group.png
ORGANIZER;CN="Serna Solutions%2C LLC":MAILTO:training@sernasolutionsllc.com
END:VEVENT
END:VCALENDAR