BEGIN:VCALENDAR
VERSION:2.0
PRODID:-//Serna Solutions LLC - ECPv6.15.20//NONSGML v1.0//EN
CALSCALE:GREGORIAN
METHOD:PUBLISH
X-ORIGINAL-URL:https://sernasolutionsllc.com
X-WR-CALDESC:Events for Serna Solutions LLC
REFRESH-INTERVAL;VALUE=DURATION:PT1H
X-Robots-Tag:noindex
X-PUBLISHED-TTL:PT1H
BEGIN:VTIMEZONE
TZID:America/Denver
BEGIN:DAYLIGHT
TZOFFSETFROM:-0700
TZOFFSETTO:-0600
TZNAME:MDT
DTSTART:20230312T090000
END:DAYLIGHT
BEGIN:STANDARD
TZOFFSETFROM:-0600
TZOFFSETTO:-0700
TZNAME:MST
DTSTART:20231105T080000
END:STANDARD
BEGIN:DAYLIGHT
TZOFFSETFROM:-0700
TZOFFSETTO:-0600
TZNAME:MDT
DTSTART:20240310T090000
END:DAYLIGHT
BEGIN:STANDARD
TZOFFSETFROM:-0600
TZOFFSETTO:-0700
TZNAME:MST
DTSTART:20241103T080000
END:STANDARD
BEGIN:DAYLIGHT
TZOFFSETFROM:-0700
TZOFFSETTO:-0600
TZNAME:MDT
DTSTART:20250309T090000
END:DAYLIGHT
BEGIN:STANDARD
TZOFFSETFROM:-0600
TZOFFSETTO:-0700
TZNAME:MST
DTSTART:20251102T080000
END:STANDARD
END:VTIMEZONE
BEGIN:VEVENT
DTSTART;TZID=America/Denver:20240422T173000
DTEND;TZID=America/Denver:20240422T183000
DTSTAMP:20260423T055930
CREATED:20230531T004709Z
LAST-MODIFIED:20230531T004709Z
UID:10004597-1713807000-1713810600@sernasolutionsllc.com
SUMMARY:Kundalini Yoga Therapy
DESCRIPTION:Wednesday – Kundalini Yoga Therapy from 5:30-6:30 PM on the Southside of Santa Fe. Please call (505) 207-8929 for location. \nThis group will be on a break the week of June 11\, 2023\, and when we come back\, we will be meeting on Mondays\, starting June 19th – be sure to mark your calendars!
URL:https://sernasolutionsllc.com/event/kundalini-yoga-therapy-2/2024-04-22/
CATEGORIES:Groups
ATTACH;FMTTYPE=image/png:https://sernasolutionsllc.com/wp-content/uploads/2023/04/Kundalini-Yoga-Therapy.png
ORGANIZER;CN="Serna Solutions%2C LLC":MAILTO:training@sernasolutionsllc.com
END:VEVENT
BEGIN:VEVENT
DTSTART;TZID=America/Denver:20240423T173000
DTEND;TZID=America/Denver:20240423T183000
DTSTAMP:20260423T055930
CREATED:20230417T175311Z
LAST-MODIFIED:20230418T161528Z
UID:10001630-1713893400-1713897000@sernasolutionsllc.com
SUMMARY:Grief Support Group
DESCRIPTION:Tuesday – Grief Support Group Online from 5:30 – 6:30 PM MST
URL:https://sernasolutionsllc.com/event/grief-support-group/2024-04-23/
CATEGORIES:Groups
ATTACH;FMTTYPE=image/png:https://sernasolutionsllc.com/wp-content/uploads/2023/04/Grief-Support-Group.png
ORGANIZER;CN="Serna Solutions%2C LLC":MAILTO:training@sernasolutionsllc.com
END:VEVENT
BEGIN:VEVENT
DTSTART;TZID=America/Denver:20240425T140000
DTEND;TZID=America/Denver:20240425T150000
DTSTAMP:20260423T055930
CREATED:20230417T184616Z
LAST-MODIFIED:20230417T225222Z
UID:10003781-1714053600-1714057200@sernasolutionsllc.com
SUMMARY:Grief Support Group
DESCRIPTION:Thursday – Grief Support Group: online from 2:00-3:00 PM MST.
URL:https://sernasolutionsllc.com/event/grief-support-group-2/2024-04-25/
CATEGORIES:Groups
ATTACH;FMTTYPE=image/png:https://sernasolutionsllc.com/wp-content/uploads/2023/04/Grief-Support-Group.png
ORGANIZER;CN="Serna Solutions%2C LLC":MAILTO:training@sernasolutionsllc.com
END:VEVENT
BEGIN:VEVENT
DTSTART;TZID=America/Denver:20240429T173000
DTEND;TZID=America/Denver:20240429T183000
DTSTAMP:20260423T055930
CREATED:20230531T004709Z
LAST-MODIFIED:20230531T004709Z
UID:10004598-1714411800-1714415400@sernasolutionsllc.com
SUMMARY:Kundalini Yoga Therapy
DESCRIPTION:Wednesday – Kundalini Yoga Therapy from 5:30-6:30 PM on the Southside of Santa Fe. Please call (505) 207-8929 for location. \nThis group will be on a break the week of June 11\, 2023\, and when we come back\, we will be meeting on Mondays\, starting June 19th – be sure to mark your calendars!
URL:https://sernasolutionsllc.com/event/kundalini-yoga-therapy-2/2024-04-29/
CATEGORIES:Groups
ATTACH;FMTTYPE=image/png:https://sernasolutionsllc.com/wp-content/uploads/2023/04/Kundalini-Yoga-Therapy.png
ORGANIZER;CN="Serna Solutions%2C LLC":MAILTO:training@sernasolutionsllc.com
END:VEVENT
BEGIN:VEVENT
DTSTART;TZID=America/Denver:20240430T173000
DTEND;TZID=America/Denver:20240430T183000
DTSTAMP:20260423T055930
CREATED:20230417T175311Z
LAST-MODIFIED:20230418T161528Z
UID:10001631-1714498200-1714501800@sernasolutionsllc.com
SUMMARY:Grief Support Group
DESCRIPTION:Tuesday – Grief Support Group Online from 5:30 – 6:30 PM MST
URL:https://sernasolutionsllc.com/event/grief-support-group/2024-04-30/
CATEGORIES:Groups
ATTACH;FMTTYPE=image/png:https://sernasolutionsllc.com/wp-content/uploads/2023/04/Grief-Support-Group.png
ORGANIZER;CN="Serna Solutions%2C LLC":MAILTO:training@sernasolutionsllc.com
END:VEVENT
BEGIN:VEVENT
DTSTART;TZID=America/Denver:20240502T140000
DTEND;TZID=America/Denver:20240502T150000
DTSTAMP:20260423T055930
CREATED:20230417T184616Z
LAST-MODIFIED:20230417T225222Z
UID:10003782-1714658400-1714662000@sernasolutionsllc.com
SUMMARY:Grief Support Group
DESCRIPTION:Thursday – Grief Support Group: online from 2:00-3:00 PM MST.
URL:https://sernasolutionsllc.com/event/grief-support-group-2/2024-05-02/
CATEGORIES:Groups
ATTACH;FMTTYPE=image/png:https://sernasolutionsllc.com/wp-content/uploads/2023/04/Grief-Support-Group.png
ORGANIZER;CN="Serna Solutions%2C LLC":MAILTO:training@sernasolutionsllc.com
END:VEVENT
BEGIN:VEVENT
DTSTART;TZID=America/Denver:20240506T173000
DTEND;TZID=America/Denver:20240506T183000
DTSTAMP:20260423T055930
CREATED:20230531T004709Z
LAST-MODIFIED:20230531T004709Z
UID:10004599-1715016600-1715020200@sernasolutionsllc.com
SUMMARY:Kundalini Yoga Therapy
DESCRIPTION:Wednesday – Kundalini Yoga Therapy from 5:30-6:30 PM on the Southside of Santa Fe. Please call (505) 207-8929 for location. \nThis group will be on a break the week of June 11\, 2023\, and when we come back\, we will be meeting on Mondays\, starting June 19th – be sure to mark your calendars!
URL:https://sernasolutionsllc.com/event/kundalini-yoga-therapy-2/2024-05-06/
CATEGORIES:Groups
ATTACH;FMTTYPE=image/png:https://sernasolutionsllc.com/wp-content/uploads/2023/04/Kundalini-Yoga-Therapy.png
ORGANIZER;CN="Serna Solutions%2C LLC":MAILTO:training@sernasolutionsllc.com
END:VEVENT
BEGIN:VEVENT
DTSTART;TZID=America/Denver:20240507T173000
DTEND;TZID=America/Denver:20240507T183000
DTSTAMP:20260423T055930
CREATED:20230417T175311Z
LAST-MODIFIED:20230418T161528Z
UID:10001632-1715103000-1715106600@sernasolutionsllc.com
SUMMARY:Grief Support Group
DESCRIPTION:Tuesday – Grief Support Group Online from 5:30 – 6:30 PM MST
URL:https://sernasolutionsllc.com/event/grief-support-group/2024-05-07/
CATEGORIES:Groups
ATTACH;FMTTYPE=image/png:https://sernasolutionsllc.com/wp-content/uploads/2023/04/Grief-Support-Group.png
ORGANIZER;CN="Serna Solutions%2C LLC":MAILTO:training@sernasolutionsllc.com
END:VEVENT
BEGIN:VEVENT
DTSTART;TZID=America/Denver:20240509T140000
DTEND;TZID=America/Denver:20240509T150000
DTSTAMP:20260423T055930
CREATED:20230417T184616Z
LAST-MODIFIED:20230417T225222Z
UID:10003783-1715263200-1715266800@sernasolutionsllc.com
SUMMARY:Grief Support Group
DESCRIPTION:Thursday – Grief Support Group: online from 2:00-3:00 PM MST.
URL:https://sernasolutionsllc.com/event/grief-support-group-2/2024-05-09/
CATEGORIES:Groups
ATTACH;FMTTYPE=image/png:https://sernasolutionsllc.com/wp-content/uploads/2023/04/Grief-Support-Group.png
ORGANIZER;CN="Serna Solutions%2C LLC":MAILTO:training@sernasolutionsllc.com
END:VEVENT
BEGIN:VEVENT
DTSTART;TZID=America/Denver:20240513T173000
DTEND;TZID=America/Denver:20240513T183000
DTSTAMP:20260423T055930
CREATED:20230531T004709Z
LAST-MODIFIED:20230531T004709Z
UID:10004600-1715621400-1715625000@sernasolutionsllc.com
SUMMARY:Kundalini Yoga Therapy
DESCRIPTION:Wednesday – Kundalini Yoga Therapy from 5:30-6:30 PM on the Southside of Santa Fe. Please call (505) 207-8929 for location. \nThis group will be on a break the week of June 11\, 2023\, and when we come back\, we will be meeting on Mondays\, starting June 19th – be sure to mark your calendars!
URL:https://sernasolutionsllc.com/event/kundalini-yoga-therapy-2/2024-05-13/
CATEGORIES:Groups
ATTACH;FMTTYPE=image/png:https://sernasolutionsllc.com/wp-content/uploads/2023/04/Kundalini-Yoga-Therapy.png
ORGANIZER;CN="Serna Solutions%2C LLC":MAILTO:training@sernasolutionsllc.com
END:VEVENT
BEGIN:VEVENT
DTSTART;TZID=America/Denver:20240514T173000
DTEND;TZID=America/Denver:20240514T183000
DTSTAMP:20260423T055930
CREATED:20230417T175311Z
LAST-MODIFIED:20230418T161528Z
UID:10001633-1715707800-1715711400@sernasolutionsllc.com
SUMMARY:Grief Support Group
DESCRIPTION:Tuesday – Grief Support Group Online from 5:30 – 6:30 PM MST
URL:https://sernasolutionsllc.com/event/grief-support-group/2024-05-14/
CATEGORIES:Groups
ATTACH;FMTTYPE=image/png:https://sernasolutionsllc.com/wp-content/uploads/2023/04/Grief-Support-Group.png
ORGANIZER;CN="Serna Solutions%2C LLC":MAILTO:training@sernasolutionsllc.com
END:VEVENT
BEGIN:VEVENT
DTSTART;TZID=America/Denver:20240516T140000
DTEND;TZID=America/Denver:20240516T150000
DTSTAMP:20260423T055930
CREATED:20230417T184616Z
LAST-MODIFIED:20230417T225222Z
UID:10003784-1715868000-1715871600@sernasolutionsllc.com
SUMMARY:Grief Support Group
DESCRIPTION:Thursday – Grief Support Group: online from 2:00-3:00 PM MST.
URL:https://sernasolutionsllc.com/event/grief-support-group-2/2024-05-16/
CATEGORIES:Groups
ATTACH;FMTTYPE=image/png:https://sernasolutionsllc.com/wp-content/uploads/2023/04/Grief-Support-Group.png
ORGANIZER;CN="Serna Solutions%2C LLC":MAILTO:training@sernasolutionsllc.com
END:VEVENT
BEGIN:VEVENT
DTSTART;TZID=America/Denver:20240520T173000
DTEND;TZID=America/Denver:20240520T183000
DTSTAMP:20260423T055930
CREATED:20230531T004709Z
LAST-MODIFIED:20230531T004709Z
UID:10004601-1716226200-1716229800@sernasolutionsllc.com
SUMMARY:Kundalini Yoga Therapy
DESCRIPTION:Wednesday – Kundalini Yoga Therapy from 5:30-6:30 PM on the Southside of Santa Fe. Please call (505) 207-8929 for location. \nThis group will be on a break the week of June 11\, 2023\, and when we come back\, we will be meeting on Mondays\, starting June 19th – be sure to mark your calendars!
URL:https://sernasolutionsllc.com/event/kundalini-yoga-therapy-2/2024-05-20/
CATEGORIES:Groups
ATTACH;FMTTYPE=image/png:https://sernasolutionsllc.com/wp-content/uploads/2023/04/Kundalini-Yoga-Therapy.png
ORGANIZER;CN="Serna Solutions%2C LLC":MAILTO:training@sernasolutionsllc.com
END:VEVENT
BEGIN:VEVENT
DTSTART;TZID=America/Denver:20240521T173000
DTEND;TZID=America/Denver:20240521T183000
DTSTAMP:20260423T055930
CREATED:20230417T175311Z
LAST-MODIFIED:20230418T161528Z
UID:10001634-1716312600-1716316200@sernasolutionsllc.com
SUMMARY:Grief Support Group
DESCRIPTION:Tuesday – Grief Support Group Online from 5:30 – 6:30 PM MST
URL:https://sernasolutionsllc.com/event/grief-support-group/2024-05-21/
CATEGORIES:Groups
ATTACH;FMTTYPE=image/png:https://sernasolutionsllc.com/wp-content/uploads/2023/04/Grief-Support-Group.png
ORGANIZER;CN="Serna Solutions%2C LLC":MAILTO:training@sernasolutionsllc.com
END:VEVENT
BEGIN:VEVENT
DTSTART;TZID=America/Denver:20240523T140000
DTEND;TZID=America/Denver:20240523T150000
DTSTAMP:20260423T055930
CREATED:20230417T184616Z
LAST-MODIFIED:20230417T225222Z
UID:10003785-1716472800-1716476400@sernasolutionsllc.com
SUMMARY:Grief Support Group
DESCRIPTION:Thursday – Grief Support Group: online from 2:00-3:00 PM MST.
URL:https://sernasolutionsllc.com/event/grief-support-group-2/2024-05-23/
CATEGORIES:Groups
ATTACH;FMTTYPE=image/png:https://sernasolutionsllc.com/wp-content/uploads/2023/04/Grief-Support-Group.png
ORGANIZER;CN="Serna Solutions%2C LLC":MAILTO:training@sernasolutionsllc.com
END:VEVENT
BEGIN:VEVENT
DTSTART;TZID=America/Denver:20240527T173000
DTEND;TZID=America/Denver:20240527T183000
DTSTAMP:20260423T055930
CREATED:20230531T004709Z
LAST-MODIFIED:20230531T004709Z
UID:10004602-1716831000-1716834600@sernasolutionsllc.com
SUMMARY:Kundalini Yoga Therapy
DESCRIPTION:Wednesday – Kundalini Yoga Therapy from 5:30-6:30 PM on the Southside of Santa Fe. Please call (505) 207-8929 for location. \nThis group will be on a break the week of June 11\, 2023\, and when we come back\, we will be meeting on Mondays\, starting June 19th – be sure to mark your calendars!
URL:https://sernasolutionsllc.com/event/kundalini-yoga-therapy-2/2024-05-27/
CATEGORIES:Groups
ATTACH;FMTTYPE=image/png:https://sernasolutionsllc.com/wp-content/uploads/2023/04/Kundalini-Yoga-Therapy.png
ORGANIZER;CN="Serna Solutions%2C LLC":MAILTO:training@sernasolutionsllc.com
END:VEVENT
BEGIN:VEVENT
DTSTART;TZID=America/Denver:20240528T173000
DTEND;TZID=America/Denver:20240528T183000
DTSTAMP:20260423T055930
CREATED:20230417T175311Z
LAST-MODIFIED:20230418T161528Z
UID:10001635-1716917400-1716921000@sernasolutionsllc.com
SUMMARY:Grief Support Group
DESCRIPTION:Tuesday – Grief Support Group Online from 5:30 – 6:30 PM MST
URL:https://sernasolutionsllc.com/event/grief-support-group/2024-05-28/
CATEGORIES:Groups
ATTACH;FMTTYPE=image/png:https://sernasolutionsllc.com/wp-content/uploads/2023/04/Grief-Support-Group.png
ORGANIZER;CN="Serna Solutions%2C LLC":MAILTO:training@sernasolutionsllc.com
END:VEVENT
BEGIN:VEVENT
DTSTART;TZID=America/Denver:20240530T140000
DTEND;TZID=America/Denver:20240530T150000
DTSTAMP:20260423T055930
CREATED:20230417T184616Z
LAST-MODIFIED:20230417T225222Z
UID:10003786-1717077600-1717081200@sernasolutionsllc.com
SUMMARY:Grief Support Group
DESCRIPTION:Thursday – Grief Support Group: online from 2:00-3:00 PM MST.
URL:https://sernasolutionsllc.com/event/grief-support-group-2/2024-05-30/
CATEGORIES:Groups
ATTACH;FMTTYPE=image/png:https://sernasolutionsllc.com/wp-content/uploads/2023/04/Grief-Support-Group.png
ORGANIZER;CN="Serna Solutions%2C LLC":MAILTO:training@sernasolutionsllc.com
END:VEVENT
BEGIN:VEVENT
DTSTART;TZID=America/Denver:20240603T173000
DTEND;TZID=America/Denver:20240603T183000
DTSTAMP:20260423T055930
CREATED:20230531T004709Z
LAST-MODIFIED:20230531T004709Z
UID:10004603-1717435800-1717439400@sernasolutionsllc.com
SUMMARY:Kundalini Yoga Therapy
DESCRIPTION:Wednesday – Kundalini Yoga Therapy from 5:30-6:30 PM on the Southside of Santa Fe. Please call (505) 207-8929 for location. \nThis group will be on a break the week of June 11\, 2023\, and when we come back\, we will be meeting on Mondays\, starting June 19th – be sure to mark your calendars!
URL:https://sernasolutionsllc.com/event/kundalini-yoga-therapy-2/2024-06-03/
CATEGORIES:Groups
ATTACH;FMTTYPE=image/png:https://sernasolutionsllc.com/wp-content/uploads/2023/04/Kundalini-Yoga-Therapy.png
ORGANIZER;CN="Serna Solutions%2C LLC":MAILTO:training@sernasolutionsllc.com
END:VEVENT
BEGIN:VEVENT
DTSTART;TZID=America/Denver:20240604T113000
DTEND;TZID=America/Denver:20240604T123000
DTSTAMP:20260423T055930
CREATED:20240531T214010Z
LAST-MODIFIED:20240531T214010Z
UID:10006043-1717500600-1717504200@sernasolutionsllc.com
SUMMARY:Dialectical Behavior Therapy for Teens (A-DBT)
DESCRIPTION:Runs June 4th\, 2024 – August 6th\, 2024 \nA-DBT Flyer 2024
URL:https://sernasolutionsllc.com/event/dialectical-behavior-therapy-for-teens-a-dbt/2024-06-04/
LOCATION:4001 Office Ct Dr STE 607\, Santa Fe\, NM\, 4001 Office Ct Dr STE 607\, Santa Fe\, NM
CATEGORIES:Groups
ORGANIZER;CN="Serna Solutions%2C LLC":MAILTO:training@sernasolutionsllc.com
END:VEVENT
BEGIN:VEVENT
DTSTART;TZID=America/Denver:20240604T173000
DTEND;TZID=America/Denver:20240604T183000
DTSTAMP:20260423T055930
CREATED:20230417T175311Z
LAST-MODIFIED:20230418T161528Z
UID:10001636-1717522200-1717525800@sernasolutionsllc.com
SUMMARY:Grief Support Group
DESCRIPTION:Tuesday – Grief Support Group Online from 5:30 – 6:30 PM MST
URL:https://sernasolutionsllc.com/event/grief-support-group/2024-06-04/
CATEGORIES:Groups
ATTACH;FMTTYPE=image/png:https://sernasolutionsllc.com/wp-content/uploads/2023/04/Grief-Support-Group.png
ORGANIZER;CN="Serna Solutions%2C LLC":MAILTO:training@sernasolutionsllc.com
END:VEVENT
BEGIN:VEVENT
DTSTART;TZID=America/Denver:20240606T140000
DTEND;TZID=America/Denver:20240606T150000
DTSTAMP:20260423T055930
CREATED:20230417T184616Z
LAST-MODIFIED:20230417T225222Z
UID:10003787-1717682400-1717686000@sernasolutionsllc.com
SUMMARY:Grief Support Group
DESCRIPTION:Thursday – Grief Support Group: online from 2:00-3:00 PM MST.
URL:https://sernasolutionsllc.com/event/grief-support-group-2/2024-06-06/
CATEGORIES:Groups
ATTACH;FMTTYPE=image/png:https://sernasolutionsllc.com/wp-content/uploads/2023/04/Grief-Support-Group.png
ORGANIZER;CN="Serna Solutions%2C LLC":MAILTO:training@sernasolutionsllc.com
END:VEVENT
BEGIN:VEVENT
DTSTART;TZID=America/Denver:20240610T173000
DTEND;TZID=America/Denver:20240610T183000
DTSTAMP:20260423T055930
CREATED:20230531T004709Z
LAST-MODIFIED:20230531T004709Z
UID:10004604-1718040600-1718044200@sernasolutionsllc.com
SUMMARY:Kundalini Yoga Therapy
DESCRIPTION:Wednesday – Kundalini Yoga Therapy from 5:30-6:30 PM on the Southside of Santa Fe. Please call (505) 207-8929 for location. \nThis group will be on a break the week of June 11\, 2023\, and when we come back\, we will be meeting on Mondays\, starting June 19th – be sure to mark your calendars!
URL:https://sernasolutionsllc.com/event/kundalini-yoga-therapy-2/2024-06-10/
CATEGORIES:Groups
ATTACH;FMTTYPE=image/png:https://sernasolutionsllc.com/wp-content/uploads/2023/04/Kundalini-Yoga-Therapy.png
ORGANIZER;CN="Serna Solutions%2C LLC":MAILTO:training@sernasolutionsllc.com
END:VEVENT
BEGIN:VEVENT
DTSTART;TZID=America/Denver:20240611T113000
DTEND;TZID=America/Denver:20240611T123000
DTSTAMP:20260423T055930
CREATED:20240531T214010Z
LAST-MODIFIED:20240531T214010Z
UID:10006044-1718105400-1718109000@sernasolutionsllc.com
SUMMARY:Dialectical Behavior Therapy for Teens (A-DBT)
DESCRIPTION:Runs June 4th\, 2024 – August 6th\, 2024 \nA-DBT Flyer 2024
URL:https://sernasolutionsllc.com/event/dialectical-behavior-therapy-for-teens-a-dbt/2024-06-11/
LOCATION:4001 Office Ct Dr STE 607\, Santa Fe\, NM\, 4001 Office Ct Dr STE 607\, Santa Fe\, NM
CATEGORIES:Groups
ORGANIZER;CN="Serna Solutions%2C LLC":MAILTO:training@sernasolutionsllc.com
END:VEVENT
BEGIN:VEVENT
DTSTART;TZID=America/Denver:20240611T173000
DTEND;TZID=America/Denver:20240611T183000
DTSTAMP:20260423T055930
CREATED:20230417T175311Z
LAST-MODIFIED:20230418T161528Z
UID:10001637-1718127000-1718130600@sernasolutionsllc.com
SUMMARY:Grief Support Group
DESCRIPTION:Tuesday – Grief Support Group Online from 5:30 – 6:30 PM MST
URL:https://sernasolutionsllc.com/event/grief-support-group/2024-06-11/
CATEGORIES:Groups
ATTACH;FMTTYPE=image/png:https://sernasolutionsllc.com/wp-content/uploads/2023/04/Grief-Support-Group.png
ORGANIZER;CN="Serna Solutions%2C LLC":MAILTO:training@sernasolutionsllc.com
END:VEVENT
BEGIN:VEVENT
DTSTART;TZID=America/Denver:20240613T140000
DTEND;TZID=America/Denver:20240613T150000
DTSTAMP:20260423T055930
CREATED:20230417T184616Z
LAST-MODIFIED:20230417T225222Z
UID:10003788-1718287200-1718290800@sernasolutionsllc.com
SUMMARY:Grief Support Group
DESCRIPTION:Thursday – Grief Support Group: online from 2:00-3:00 PM MST.
URL:https://sernasolutionsllc.com/event/grief-support-group-2/2024-06-13/
CATEGORIES:Groups
ATTACH;FMTTYPE=image/png:https://sernasolutionsllc.com/wp-content/uploads/2023/04/Grief-Support-Group.png
ORGANIZER;CN="Serna Solutions%2C LLC":MAILTO:training@sernasolutionsllc.com
END:VEVENT
BEGIN:VEVENT
DTSTART;TZID=America/Denver:20240617T173000
DTEND;TZID=America/Denver:20240617T183000
DTSTAMP:20260423T055930
CREATED:20230531T004709Z
LAST-MODIFIED:20230531T004709Z
UID:10004605-1718645400-1718649000@sernasolutionsllc.com
SUMMARY:Kundalini Yoga Therapy
DESCRIPTION:Wednesday – Kundalini Yoga Therapy from 5:30-6:30 PM on the Southside of Santa Fe. Please call (505) 207-8929 for location. \nThis group will be on a break the week of June 11\, 2023\, and when we come back\, we will be meeting on Mondays\, starting June 19th – be sure to mark your calendars!
URL:https://sernasolutionsllc.com/event/kundalini-yoga-therapy-2/2024-06-17/
CATEGORIES:Groups
ATTACH;FMTTYPE=image/png:https://sernasolutionsllc.com/wp-content/uploads/2023/04/Kundalini-Yoga-Therapy.png
ORGANIZER;CN="Serna Solutions%2C LLC":MAILTO:training@sernasolutionsllc.com
END:VEVENT
BEGIN:VEVENT
DTSTART;TZID=America/Denver:20240618T113000
DTEND;TZID=America/Denver:20240618T123000
DTSTAMP:20260423T055930
CREATED:20240531T214010Z
LAST-MODIFIED:20240531T214010Z
UID:10006045-1718710200-1718713800@sernasolutionsllc.com
SUMMARY:Dialectical Behavior Therapy for Teens (A-DBT)
DESCRIPTION:Runs June 4th\, 2024 – August 6th\, 2024 \nA-DBT Flyer 2024
URL:https://sernasolutionsllc.com/event/dialectical-behavior-therapy-for-teens-a-dbt/2024-06-18/
LOCATION:4001 Office Ct Dr STE 607\, Santa Fe\, NM\, 4001 Office Ct Dr STE 607\, Santa Fe\, NM
CATEGORIES:Groups
ORGANIZER;CN="Serna Solutions%2C LLC":MAILTO:training@sernasolutionsllc.com
END:VEVENT
BEGIN:VEVENT
DTSTART;TZID=America/Denver:20240618T173000
DTEND;TZID=America/Denver:20240618T183000
DTSTAMP:20260423T055930
CREATED:20230417T175311Z
LAST-MODIFIED:20230418T161528Z
UID:10001638-1718731800-1718735400@sernasolutionsllc.com
SUMMARY:Grief Support Group
DESCRIPTION:Tuesday – Grief Support Group Online from 5:30 – 6:30 PM MST
URL:https://sernasolutionsllc.com/event/grief-support-group/2024-06-18/
CATEGORIES:Groups
ATTACH;FMTTYPE=image/png:https://sernasolutionsllc.com/wp-content/uploads/2023/04/Grief-Support-Group.png
ORGANIZER;CN="Serna Solutions%2C LLC":MAILTO:training@sernasolutionsllc.com
END:VEVENT
BEGIN:VEVENT
DTSTART;TZID=America/Denver:20240620T140000
DTEND;TZID=America/Denver:20240620T150000
DTSTAMP:20260423T055930
CREATED:20230417T184616Z
LAST-MODIFIED:20230417T225222Z
UID:10003789-1718892000-1718895600@sernasolutionsllc.com
SUMMARY:Grief Support Group
DESCRIPTION:Thursday – Grief Support Group: online from 2:00-3:00 PM MST.
URL:https://sernasolutionsllc.com/event/grief-support-group-2/2024-06-20/
CATEGORIES:Groups
ATTACH;FMTTYPE=image/png:https://sernasolutionsllc.com/wp-content/uploads/2023/04/Grief-Support-Group.png
ORGANIZER;CN="Serna Solutions%2C LLC":MAILTO:training@sernasolutionsllc.com
END:VEVENT
END:VCALENDAR