BEGIN:VCALENDAR
VERSION:2.0
PRODID:-//Serna Solutions LLC - ECPv6.15.20//NONSGML v1.0//EN
CALSCALE:GREGORIAN
METHOD:PUBLISH
X-ORIGINAL-URL:https://sernasolutionsllc.com
X-WR-CALDESC:Events for Serna Solutions LLC
REFRESH-INTERVAL;VALUE=DURATION:PT1H
X-Robots-Tag:noindex
X-PUBLISHED-TTL:PT1H
BEGIN:VTIMEZONE
TZID:America/Denver
BEGIN:DAYLIGHT
TZOFFSETFROM:-0700
TZOFFSETTO:-0600
TZNAME:MDT
DTSTART:20230312T090000
END:DAYLIGHT
BEGIN:STANDARD
TZOFFSETFROM:-0600
TZOFFSETTO:-0700
TZNAME:MST
DTSTART:20231105T080000
END:STANDARD
BEGIN:DAYLIGHT
TZOFFSETFROM:-0700
TZOFFSETTO:-0600
TZNAME:MDT
DTSTART:20240310T090000
END:DAYLIGHT
BEGIN:STANDARD
TZOFFSETFROM:-0600
TZOFFSETTO:-0700
TZNAME:MST
DTSTART:20241103T080000
END:STANDARD
BEGIN:DAYLIGHT
TZOFFSETFROM:-0700
TZOFFSETTO:-0600
TZNAME:MDT
DTSTART:20250309T090000
END:DAYLIGHT
BEGIN:STANDARD
TZOFFSETFROM:-0600
TZOFFSETTO:-0700
TZNAME:MST
DTSTART:20251102T080000
END:STANDARD
END:VTIMEZONE
BEGIN:VEVENT
DTSTART;TZID=America/Denver:20240401T173000
DTEND;TZID=America/Denver:20240401T183000
DTSTAMP:20260422T171737
CREATED:20230531T004709Z
LAST-MODIFIED:20230531T004709Z
UID:10004594-1711992600-1711996200@sernasolutionsllc.com
SUMMARY:Kundalini Yoga Therapy
DESCRIPTION:Wednesday – Kundalini Yoga Therapy from 5:30-6:30 PM on the Southside of Santa Fe. Please call (505) 207-8929 for location. \nThis group will be on a break the week of June 11\, 2023\, and when we come back\, we will be meeting on Mondays\, starting June 19th – be sure to mark your calendars!
URL:https://sernasolutionsllc.com/event/kundalini-yoga-therapy-2/2024-04-01/
CATEGORIES:Groups
ATTACH;FMTTYPE=image/png:https://sernasolutionsllc.com/wp-content/uploads/2023/04/Kundalini-Yoga-Therapy.png
ORGANIZER;CN="Serna Solutions%2C LLC":MAILTO:training@sernasolutionsllc.com
END:VEVENT
BEGIN:VEVENT
DTSTART;TZID=America/Denver:20240402T173000
DTEND;TZID=America/Denver:20240402T183000
DTSTAMP:20260422T171737
CREATED:20230417T175311Z
LAST-MODIFIED:20230418T161528Z
UID:10001627-1712079000-1712082600@sernasolutionsllc.com
SUMMARY:Grief Support Group
DESCRIPTION:Tuesday – Grief Support Group Online from 5:30 – 6:30 PM MST
URL:https://sernasolutionsllc.com/event/grief-support-group/2024-04-02/
CATEGORIES:Groups
ATTACH;FMTTYPE=image/png:https://sernasolutionsllc.com/wp-content/uploads/2023/04/Grief-Support-Group.png
ORGANIZER;CN="Serna Solutions%2C LLC":MAILTO:training@sernasolutionsllc.com
END:VEVENT
BEGIN:VEVENT
DTSTART;TZID=America/Denver:20240404T140000
DTEND;TZID=America/Denver:20240404T150000
DTSTAMP:20260422T171737
CREATED:20230417T184616Z
LAST-MODIFIED:20230417T225222Z
UID:10003778-1712239200-1712242800@sernasolutionsllc.com
SUMMARY:Grief Support Group
DESCRIPTION:Thursday – Grief Support Group: online from 2:00-3:00 PM MST.
URL:https://sernasolutionsllc.com/event/grief-support-group-2/2024-04-04/
CATEGORIES:Groups
ATTACH;FMTTYPE=image/png:https://sernasolutionsllc.com/wp-content/uploads/2023/04/Grief-Support-Group.png
ORGANIZER;CN="Serna Solutions%2C LLC":MAILTO:training@sernasolutionsllc.com
END:VEVENT
BEGIN:VEVENT
DTSTART;TZID=America/Denver:20240408T173000
DTEND;TZID=America/Denver:20240408T183000
DTSTAMP:20260422T171737
CREATED:20230531T004709Z
LAST-MODIFIED:20230531T004709Z
UID:10004595-1712597400-1712601000@sernasolutionsllc.com
SUMMARY:Kundalini Yoga Therapy
DESCRIPTION:Wednesday – Kundalini Yoga Therapy from 5:30-6:30 PM on the Southside of Santa Fe. Please call (505) 207-8929 for location. \nThis group will be on a break the week of June 11\, 2023\, and when we come back\, we will be meeting on Mondays\, starting June 19th – be sure to mark your calendars!
URL:https://sernasolutionsllc.com/event/kundalini-yoga-therapy-2/2024-04-08/
CATEGORIES:Groups
ATTACH;FMTTYPE=image/png:https://sernasolutionsllc.com/wp-content/uploads/2023/04/Kundalini-Yoga-Therapy.png
ORGANIZER;CN="Serna Solutions%2C LLC":MAILTO:training@sernasolutionsllc.com
END:VEVENT
BEGIN:VEVENT
DTSTART;TZID=America/Denver:20240409T173000
DTEND;TZID=America/Denver:20240409T183000
DTSTAMP:20260422T171737
CREATED:20230417T175311Z
LAST-MODIFIED:20230418T161528Z
UID:10001628-1712683800-1712687400@sernasolutionsllc.com
SUMMARY:Grief Support Group
DESCRIPTION:Tuesday – Grief Support Group Online from 5:30 – 6:30 PM MST
URL:https://sernasolutionsllc.com/event/grief-support-group/2024-04-09/
CATEGORIES:Groups
ATTACH;FMTTYPE=image/png:https://sernasolutionsllc.com/wp-content/uploads/2023/04/Grief-Support-Group.png
ORGANIZER;CN="Serna Solutions%2C LLC":MAILTO:training@sernasolutionsllc.com
END:VEVENT
BEGIN:VEVENT
DTSTART;TZID=America/Denver:20240411T140000
DTEND;TZID=America/Denver:20240411T150000
DTSTAMP:20260422T171737
CREATED:20230417T184616Z
LAST-MODIFIED:20230417T225222Z
UID:10003779-1712844000-1712847600@sernasolutionsllc.com
SUMMARY:Grief Support Group
DESCRIPTION:Thursday – Grief Support Group: online from 2:00-3:00 PM MST.
URL:https://sernasolutionsllc.com/event/grief-support-group-2/2024-04-11/
CATEGORIES:Groups
ATTACH;FMTTYPE=image/png:https://sernasolutionsllc.com/wp-content/uploads/2023/04/Grief-Support-Group.png
ORGANIZER;CN="Serna Solutions%2C LLC":MAILTO:training@sernasolutionsllc.com
END:VEVENT
BEGIN:VEVENT
DTSTART;TZID=America/Denver:20240415T173000
DTEND;TZID=America/Denver:20240415T183000
DTSTAMP:20260422T171737
CREATED:20230531T004709Z
LAST-MODIFIED:20230531T004709Z
UID:10004596-1713202200-1713205800@sernasolutionsllc.com
SUMMARY:Kundalini Yoga Therapy
DESCRIPTION:Wednesday – Kundalini Yoga Therapy from 5:30-6:30 PM on the Southside of Santa Fe. Please call (505) 207-8929 for location. \nThis group will be on a break the week of June 11\, 2023\, and when we come back\, we will be meeting on Mondays\, starting June 19th – be sure to mark your calendars!
URL:https://sernasolutionsllc.com/event/kundalini-yoga-therapy-2/2024-04-15/
CATEGORIES:Groups
ATTACH;FMTTYPE=image/png:https://sernasolutionsllc.com/wp-content/uploads/2023/04/Kundalini-Yoga-Therapy.png
ORGANIZER;CN="Serna Solutions%2C LLC":MAILTO:training@sernasolutionsllc.com
END:VEVENT
BEGIN:VEVENT
DTSTART;TZID=America/Denver:20240416T173000
DTEND;TZID=America/Denver:20240416T183000
DTSTAMP:20260422T171737
CREATED:20230417T175311Z
LAST-MODIFIED:20230418T161528Z
UID:10001629-1713288600-1713292200@sernasolutionsllc.com
SUMMARY:Grief Support Group
DESCRIPTION:Tuesday – Grief Support Group Online from 5:30 – 6:30 PM MST
URL:https://sernasolutionsllc.com/event/grief-support-group/2024-04-16/
CATEGORIES:Groups
ATTACH;FMTTYPE=image/png:https://sernasolutionsllc.com/wp-content/uploads/2023/04/Grief-Support-Group.png
ORGANIZER;CN="Serna Solutions%2C LLC":MAILTO:training@sernasolutionsllc.com
END:VEVENT
BEGIN:VEVENT
DTSTART;TZID=America/Denver:20240418T140000
DTEND;TZID=America/Denver:20240418T150000
DTSTAMP:20260422T171737
CREATED:20230417T184616Z
LAST-MODIFIED:20230417T225222Z
UID:10003780-1713448800-1713452400@sernasolutionsllc.com
SUMMARY:Grief Support Group
DESCRIPTION:Thursday – Grief Support Group: online from 2:00-3:00 PM MST.
URL:https://sernasolutionsllc.com/event/grief-support-group-2/2024-04-18/
CATEGORIES:Groups
ATTACH;FMTTYPE=image/png:https://sernasolutionsllc.com/wp-content/uploads/2023/04/Grief-Support-Group.png
ORGANIZER;CN="Serna Solutions%2C LLC":MAILTO:training@sernasolutionsllc.com
END:VEVENT
BEGIN:VEVENT
DTSTART;TZID=America/Denver:20240422T173000
DTEND;TZID=America/Denver:20240422T183000
DTSTAMP:20260422T171737
CREATED:20230531T004709Z
LAST-MODIFIED:20230531T004709Z
UID:10004597-1713807000-1713810600@sernasolutionsllc.com
SUMMARY:Kundalini Yoga Therapy
DESCRIPTION:Wednesday – Kundalini Yoga Therapy from 5:30-6:30 PM on the Southside of Santa Fe. Please call (505) 207-8929 for location. \nThis group will be on a break the week of June 11\, 2023\, and when we come back\, we will be meeting on Mondays\, starting June 19th – be sure to mark your calendars!
URL:https://sernasolutionsllc.com/event/kundalini-yoga-therapy-2/2024-04-22/
CATEGORIES:Groups
ATTACH;FMTTYPE=image/png:https://sernasolutionsllc.com/wp-content/uploads/2023/04/Kundalini-Yoga-Therapy.png
ORGANIZER;CN="Serna Solutions%2C LLC":MAILTO:training@sernasolutionsllc.com
END:VEVENT
BEGIN:VEVENT
DTSTART;TZID=America/Denver:20240423T173000
DTEND;TZID=America/Denver:20240423T183000
DTSTAMP:20260422T171737
CREATED:20230417T175311Z
LAST-MODIFIED:20230418T161528Z
UID:10001630-1713893400-1713897000@sernasolutionsllc.com
SUMMARY:Grief Support Group
DESCRIPTION:Tuesday – Grief Support Group Online from 5:30 – 6:30 PM MST
URL:https://sernasolutionsllc.com/event/grief-support-group/2024-04-23/
CATEGORIES:Groups
ATTACH;FMTTYPE=image/png:https://sernasolutionsllc.com/wp-content/uploads/2023/04/Grief-Support-Group.png
ORGANIZER;CN="Serna Solutions%2C LLC":MAILTO:training@sernasolutionsllc.com
END:VEVENT
BEGIN:VEVENT
DTSTART;TZID=America/Denver:20240425T140000
DTEND;TZID=America/Denver:20240425T150000
DTSTAMP:20260422T171737
CREATED:20230417T184616Z
LAST-MODIFIED:20230417T225222Z
UID:10003781-1714053600-1714057200@sernasolutionsllc.com
SUMMARY:Grief Support Group
DESCRIPTION:Thursday – Grief Support Group: online from 2:00-3:00 PM MST.
URL:https://sernasolutionsllc.com/event/grief-support-group-2/2024-04-25/
CATEGORIES:Groups
ATTACH;FMTTYPE=image/png:https://sernasolutionsllc.com/wp-content/uploads/2023/04/Grief-Support-Group.png
ORGANIZER;CN="Serna Solutions%2C LLC":MAILTO:training@sernasolutionsllc.com
END:VEVENT
BEGIN:VEVENT
DTSTART;TZID=America/Denver:20240429T173000
DTEND;TZID=America/Denver:20240429T183000
DTSTAMP:20260422T171737
CREATED:20230531T004709Z
LAST-MODIFIED:20230531T004709Z
UID:10004598-1714411800-1714415400@sernasolutionsllc.com
SUMMARY:Kundalini Yoga Therapy
DESCRIPTION:Wednesday – Kundalini Yoga Therapy from 5:30-6:30 PM on the Southside of Santa Fe. Please call (505) 207-8929 for location. \nThis group will be on a break the week of June 11\, 2023\, and when we come back\, we will be meeting on Mondays\, starting June 19th – be sure to mark your calendars!
URL:https://sernasolutionsllc.com/event/kundalini-yoga-therapy-2/2024-04-29/
CATEGORIES:Groups
ATTACH;FMTTYPE=image/png:https://sernasolutionsllc.com/wp-content/uploads/2023/04/Kundalini-Yoga-Therapy.png
ORGANIZER;CN="Serna Solutions%2C LLC":MAILTO:training@sernasolutionsllc.com
END:VEVENT
BEGIN:VEVENT
DTSTART;TZID=America/Denver:20240430T173000
DTEND;TZID=America/Denver:20240430T183000
DTSTAMP:20260422T171737
CREATED:20230417T175311Z
LAST-MODIFIED:20230418T161528Z
UID:10001631-1714498200-1714501800@sernasolutionsllc.com
SUMMARY:Grief Support Group
DESCRIPTION:Tuesday – Grief Support Group Online from 5:30 – 6:30 PM MST
URL:https://sernasolutionsllc.com/event/grief-support-group/2024-04-30/
CATEGORIES:Groups
ATTACH;FMTTYPE=image/png:https://sernasolutionsllc.com/wp-content/uploads/2023/04/Grief-Support-Group.png
ORGANIZER;CN="Serna Solutions%2C LLC":MAILTO:training@sernasolutionsllc.com
END:VEVENT
END:VCALENDAR