BEGIN:VCALENDAR
VERSION:2.0
PRODID:-//Serna Solutions LLC - ECPv6.15.20//NONSGML v1.0//EN
CALSCALE:GREGORIAN
METHOD:PUBLISH
X-WR-CALNAME:Serna Solutions LLC
X-ORIGINAL-URL:https://sernasolutionsllc.com
X-WR-CALDESC:Events for Serna Solutions LLC
REFRESH-INTERVAL;VALUE=DURATION:PT1H
X-Robots-Tag:noindex
X-PUBLISHED-TTL:PT1H
BEGIN:VTIMEZONE
TZID:America/Denver
BEGIN:DAYLIGHT
TZOFFSETFROM:-0700
TZOFFSETTO:-0600
TZNAME:MDT
DTSTART:20230312T090000
END:DAYLIGHT
BEGIN:STANDARD
TZOFFSETFROM:-0600
TZOFFSETTO:-0700
TZNAME:MST
DTSTART:20231105T080000
END:STANDARD
BEGIN:DAYLIGHT
TZOFFSETFROM:-0700
TZOFFSETTO:-0600
TZNAME:MDT
DTSTART:20240310T090000
END:DAYLIGHT
BEGIN:STANDARD
TZOFFSETFROM:-0600
TZOFFSETTO:-0700
TZNAME:MST
DTSTART:20241103T080000
END:STANDARD
BEGIN:DAYLIGHT
TZOFFSETFROM:-0700
TZOFFSETTO:-0600
TZNAME:MDT
DTSTART:20250309T090000
END:DAYLIGHT
BEGIN:STANDARD
TZOFFSETFROM:-0600
TZOFFSETTO:-0700
TZNAME:MST
DTSTART:20251102T080000
END:STANDARD
END:VTIMEZONE
BEGIN:VEVENT
DTSTART;TZID=America/Denver:20240101T173000
DTEND;TZID=America/Denver:20240101T183000
DTSTAMP:20260423T025542
CREATED:20230531T004709Z
LAST-MODIFIED:20230531T004709Z
UID:10004581-1704130200-1704133800@sernasolutionsllc.com
SUMMARY:Kundalini Yoga Therapy
DESCRIPTION:Wednesday – Kundalini Yoga Therapy from 5:30-6:30 PM on the Southside of Santa Fe. Please call (505) 207-8929 for location. \nThis group will be on a break the week of June 11\, 2023\, and when we come back\, we will be meeting on Mondays\, starting June 19th – be sure to mark your calendars!
URL:https://sernasolutionsllc.com/event/kundalini-yoga-therapy-2/2024-01-01/
CATEGORIES:Groups
ATTACH;FMTTYPE=image/png:https://sernasolutionsllc.com/wp-content/uploads/2023/04/Kundalini-Yoga-Therapy.png
ORGANIZER;CN="Serna Solutions%2C LLC":MAILTO:training@sernasolutionsllc.com
END:VEVENT
BEGIN:VEVENT
DTSTART;TZID=America/Denver:20240102T173000
DTEND;TZID=America/Denver:20240102T183000
DTSTAMP:20260423T025542
CREATED:20230417T175311Z
LAST-MODIFIED:20230418T161528Z
UID:10001614-1704216600-1704220200@sernasolutionsllc.com
SUMMARY:Grief Support Group
DESCRIPTION:Tuesday – Grief Support Group Online from 5:30 – 6:30 PM MST
URL:https://sernasolutionsllc.com/event/grief-support-group/2024-01-02/
CATEGORIES:Groups
ATTACH;FMTTYPE=image/png:https://sernasolutionsllc.com/wp-content/uploads/2023/04/Grief-Support-Group.png
ORGANIZER;CN="Serna Solutions%2C LLC":MAILTO:training@sernasolutionsllc.com
END:VEVENT
BEGIN:VEVENT
DTSTART;TZID=America/Denver:20240104T140000
DTEND;TZID=America/Denver:20240104T150000
DTSTAMP:20260423T025542
CREATED:20230417T184616Z
LAST-MODIFIED:20230417T225222Z
UID:10003765-1704376800-1704380400@sernasolutionsllc.com
SUMMARY:Grief Support Group
DESCRIPTION:Thursday – Grief Support Group: online from 2:00-3:00 PM MST.
URL:https://sernasolutionsllc.com/event/grief-support-group-2/2024-01-04/
CATEGORIES:Groups
ATTACH;FMTTYPE=image/png:https://sernasolutionsllc.com/wp-content/uploads/2023/04/Grief-Support-Group.png
ORGANIZER;CN="Serna Solutions%2C LLC":MAILTO:training@sernasolutionsllc.com
END:VEVENT
BEGIN:VEVENT
DTSTART;TZID=America/Denver:20240108T173000
DTEND;TZID=America/Denver:20240108T183000
DTSTAMP:20260423T025542
CREATED:20230531T004709Z
LAST-MODIFIED:20230531T004709Z
UID:10004582-1704735000-1704738600@sernasolutionsllc.com
SUMMARY:Kundalini Yoga Therapy
DESCRIPTION:Wednesday – Kundalini Yoga Therapy from 5:30-6:30 PM on the Southside of Santa Fe. Please call (505) 207-8929 for location. \nThis group will be on a break the week of June 11\, 2023\, and when we come back\, we will be meeting on Mondays\, starting June 19th – be sure to mark your calendars!
URL:https://sernasolutionsllc.com/event/kundalini-yoga-therapy-2/2024-01-08/
CATEGORIES:Groups
ATTACH;FMTTYPE=image/png:https://sernasolutionsllc.com/wp-content/uploads/2023/04/Kundalini-Yoga-Therapy.png
ORGANIZER;CN="Serna Solutions%2C LLC":MAILTO:training@sernasolutionsllc.com
END:VEVENT
BEGIN:VEVENT
DTSTART;TZID=America/Denver:20240109T173000
DTEND;TZID=America/Denver:20240109T183000
DTSTAMP:20260423T025542
CREATED:20230417T175311Z
LAST-MODIFIED:20230418T161528Z
UID:10001615-1704821400-1704825000@sernasolutionsllc.com
SUMMARY:Grief Support Group
DESCRIPTION:Tuesday – Grief Support Group Online from 5:30 – 6:30 PM MST
URL:https://sernasolutionsllc.com/event/grief-support-group/2024-01-09/
CATEGORIES:Groups
ATTACH;FMTTYPE=image/png:https://sernasolutionsllc.com/wp-content/uploads/2023/04/Grief-Support-Group.png
ORGANIZER;CN="Serna Solutions%2C LLC":MAILTO:training@sernasolutionsllc.com
END:VEVENT
BEGIN:VEVENT
DTSTART;TZID=America/Denver:20240111T140000
DTEND;TZID=America/Denver:20240111T150000
DTSTAMP:20260423T025542
CREATED:20230417T184616Z
LAST-MODIFIED:20230417T225222Z
UID:10003766-1704981600-1704985200@sernasolutionsllc.com
SUMMARY:Grief Support Group
DESCRIPTION:Thursday – Grief Support Group: online from 2:00-3:00 PM MST.
URL:https://sernasolutionsllc.com/event/grief-support-group-2/2024-01-11/
CATEGORIES:Groups
ATTACH;FMTTYPE=image/png:https://sernasolutionsllc.com/wp-content/uploads/2023/04/Grief-Support-Group.png
ORGANIZER;CN="Serna Solutions%2C LLC":MAILTO:training@sernasolutionsllc.com
END:VEVENT
BEGIN:VEVENT
DTSTART;TZID=America/Denver:20240115T173000
DTEND;TZID=America/Denver:20240115T183000
DTSTAMP:20260423T025542
CREATED:20230531T004709Z
LAST-MODIFIED:20230531T004709Z
UID:10004583-1705339800-1705343400@sernasolutionsllc.com
SUMMARY:Kundalini Yoga Therapy
DESCRIPTION:Wednesday – Kundalini Yoga Therapy from 5:30-6:30 PM on the Southside of Santa Fe. Please call (505) 207-8929 for location. \nThis group will be on a break the week of June 11\, 2023\, and when we come back\, we will be meeting on Mondays\, starting June 19th – be sure to mark your calendars!
URL:https://sernasolutionsllc.com/event/kundalini-yoga-therapy-2/2024-01-15/
CATEGORIES:Groups
ATTACH;FMTTYPE=image/png:https://sernasolutionsllc.com/wp-content/uploads/2023/04/Kundalini-Yoga-Therapy.png
ORGANIZER;CN="Serna Solutions%2C LLC":MAILTO:training@sernasolutionsllc.com
END:VEVENT
BEGIN:VEVENT
DTSTART;TZID=America/Denver:20240116T173000
DTEND;TZID=America/Denver:20240116T183000
DTSTAMP:20260423T025542
CREATED:20230417T175311Z
LAST-MODIFIED:20230418T161528Z
UID:10001616-1705426200-1705429800@sernasolutionsllc.com
SUMMARY:Grief Support Group
DESCRIPTION:Tuesday – Grief Support Group Online from 5:30 – 6:30 PM MST
URL:https://sernasolutionsllc.com/event/grief-support-group/2024-01-16/
CATEGORIES:Groups
ATTACH;FMTTYPE=image/png:https://sernasolutionsllc.com/wp-content/uploads/2023/04/Grief-Support-Group.png
ORGANIZER;CN="Serna Solutions%2C LLC":MAILTO:training@sernasolutionsllc.com
END:VEVENT
BEGIN:VEVENT
DTSTART;TZID=America/Denver:20240118T140000
DTEND;TZID=America/Denver:20240118T150000
DTSTAMP:20260423T025542
CREATED:20230417T184616Z
LAST-MODIFIED:20230417T225222Z
UID:10003767-1705586400-1705590000@sernasolutionsllc.com
SUMMARY:Grief Support Group
DESCRIPTION:Thursday – Grief Support Group: online from 2:00-3:00 PM MST.
URL:https://sernasolutionsllc.com/event/grief-support-group-2/2024-01-18/
CATEGORIES:Groups
ATTACH;FMTTYPE=image/png:https://sernasolutionsllc.com/wp-content/uploads/2023/04/Grief-Support-Group.png
ORGANIZER;CN="Serna Solutions%2C LLC":MAILTO:training@sernasolutionsllc.com
END:VEVENT
BEGIN:VEVENT
DTSTART;TZID=America/Denver:20240122T173000
DTEND;TZID=America/Denver:20240122T183000
DTSTAMP:20260423T025542
CREATED:20230531T004709Z
LAST-MODIFIED:20230531T004709Z
UID:10004584-1705944600-1705948200@sernasolutionsllc.com
SUMMARY:Kundalini Yoga Therapy
DESCRIPTION:Wednesday – Kundalini Yoga Therapy from 5:30-6:30 PM on the Southside of Santa Fe. Please call (505) 207-8929 for location. \nThis group will be on a break the week of June 11\, 2023\, and when we come back\, we will be meeting on Mondays\, starting June 19th – be sure to mark your calendars!
URL:https://sernasolutionsllc.com/event/kundalini-yoga-therapy-2/2024-01-22/
CATEGORIES:Groups
ATTACH;FMTTYPE=image/png:https://sernasolutionsllc.com/wp-content/uploads/2023/04/Kundalini-Yoga-Therapy.png
ORGANIZER;CN="Serna Solutions%2C LLC":MAILTO:training@sernasolutionsllc.com
END:VEVENT
BEGIN:VEVENT
DTSTART;TZID=America/Denver:20240123T173000
DTEND;TZID=America/Denver:20240123T183000
DTSTAMP:20260423T025542
CREATED:20230417T175311Z
LAST-MODIFIED:20230418T161528Z
UID:10001617-1706031000-1706034600@sernasolutionsllc.com
SUMMARY:Grief Support Group
DESCRIPTION:Tuesday – Grief Support Group Online from 5:30 – 6:30 PM MST
URL:https://sernasolutionsllc.com/event/grief-support-group/2024-01-23/
CATEGORIES:Groups
ATTACH;FMTTYPE=image/png:https://sernasolutionsllc.com/wp-content/uploads/2023/04/Grief-Support-Group.png
ORGANIZER;CN="Serna Solutions%2C LLC":MAILTO:training@sernasolutionsllc.com
END:VEVENT
BEGIN:VEVENT
DTSTART;TZID=America/Denver:20240125T140000
DTEND;TZID=America/Denver:20240125T150000
DTSTAMP:20260423T025542
CREATED:20230417T184616Z
LAST-MODIFIED:20230417T225222Z
UID:10003768-1706191200-1706194800@sernasolutionsllc.com
SUMMARY:Grief Support Group
DESCRIPTION:Thursday – Grief Support Group: online from 2:00-3:00 PM MST.
URL:https://sernasolutionsllc.com/event/grief-support-group-2/2024-01-25/
CATEGORIES:Groups
ATTACH;FMTTYPE=image/png:https://sernasolutionsllc.com/wp-content/uploads/2023/04/Grief-Support-Group.png
ORGANIZER;CN="Serna Solutions%2C LLC":MAILTO:training@sernasolutionsllc.com
END:VEVENT
BEGIN:VEVENT
DTSTART;TZID=America/Denver:20240129T173000
DTEND;TZID=America/Denver:20240129T183000
DTSTAMP:20260423T025542
CREATED:20230531T004709Z
LAST-MODIFIED:20230531T004709Z
UID:10004585-1706549400-1706553000@sernasolutionsllc.com
SUMMARY:Kundalini Yoga Therapy
DESCRIPTION:Wednesday – Kundalini Yoga Therapy from 5:30-6:30 PM on the Southside of Santa Fe. Please call (505) 207-8929 for location. \nThis group will be on a break the week of June 11\, 2023\, and when we come back\, we will be meeting on Mondays\, starting June 19th – be sure to mark your calendars!
URL:https://sernasolutionsllc.com/event/kundalini-yoga-therapy-2/2024-01-29/
CATEGORIES:Groups
ATTACH;FMTTYPE=image/png:https://sernasolutionsllc.com/wp-content/uploads/2023/04/Kundalini-Yoga-Therapy.png
ORGANIZER;CN="Serna Solutions%2C LLC":MAILTO:training@sernasolutionsllc.com
END:VEVENT
BEGIN:VEVENT
DTSTART;TZID=America/Denver:20240130T173000
DTEND;TZID=America/Denver:20240130T183000
DTSTAMP:20260423T025542
CREATED:20230417T175311Z
LAST-MODIFIED:20230418T161528Z
UID:10001618-1706635800-1706639400@sernasolutionsllc.com
SUMMARY:Grief Support Group
DESCRIPTION:Tuesday – Grief Support Group Online from 5:30 – 6:30 PM MST
URL:https://sernasolutionsllc.com/event/grief-support-group/2024-01-30/
CATEGORIES:Groups
ATTACH;FMTTYPE=image/png:https://sernasolutionsllc.com/wp-content/uploads/2023/04/Grief-Support-Group.png
ORGANIZER;CN="Serna Solutions%2C LLC":MAILTO:training@sernasolutionsllc.com
END:VEVENT
END:VCALENDAR