BEGIN:VCALENDAR
VERSION:2.0
PRODID:-//Serna Solutions LLC - ECPv6.15.20//NONSGML v1.0//EN
CALSCALE:GREGORIAN
METHOD:PUBLISH
X-ORIGINAL-URL:https://sernasolutionsllc.com
X-WR-CALDESC:Events for Serna Solutions LLC
REFRESH-INTERVAL;VALUE=DURATION:PT1H
X-Robots-Tag:noindex
X-PUBLISHED-TTL:PT1H
BEGIN:VTIMEZONE
TZID:America/Denver
BEGIN:DAYLIGHT
TZOFFSETFROM:-0700
TZOFFSETTO:-0600
TZNAME:MDT
DTSTART:20220313T090000
END:DAYLIGHT
BEGIN:STANDARD
TZOFFSETFROM:-0600
TZOFFSETTO:-0700
TZNAME:MST
DTSTART:20221106T080000
END:STANDARD
BEGIN:DAYLIGHT
TZOFFSETFROM:-0700
TZOFFSETTO:-0600
TZNAME:MDT
DTSTART:20230312T090000
END:DAYLIGHT
BEGIN:STANDARD
TZOFFSETFROM:-0600
TZOFFSETTO:-0700
TZNAME:MST
DTSTART:20231105T080000
END:STANDARD
BEGIN:DAYLIGHT
TZOFFSETFROM:-0700
TZOFFSETTO:-0600
TZNAME:MDT
DTSTART:20240310T090000
END:DAYLIGHT
BEGIN:STANDARD
TZOFFSETFROM:-0600
TZOFFSETTO:-0700
TZNAME:MST
DTSTART:20241103T080000
END:STANDARD
END:VTIMEZONE
BEGIN:VEVENT
DTSTART;TZID=America/Denver:20230502T173000
DTEND;TZID=America/Denver:20230502T183000
DTSTAMP:20260424T071034
CREATED:20230417T175311Z
LAST-MODIFIED:20230418T161528Z
UID:10001579-1683048600-1683052200@sernasolutionsllc.com
SUMMARY:Grief Support Group
DESCRIPTION:Tuesday – Grief Support Group Online from 5:30 – 6:30 PM MST
URL:https://sernasolutionsllc.com/event/grief-support-group/2023-05-02/
CATEGORIES:Groups
ATTACH;FMTTYPE=image/png:https://sernasolutionsllc.com/wp-content/uploads/2023/04/Grief-Support-Group.png
ORGANIZER;CN="Serna Solutions%2C LLC":MAILTO:training@sernasolutionsllc.com
END:VEVENT
BEGIN:VEVENT
DTSTART;TZID=America/Denver:20230503T173000
DTEND;TZID=America/Denver:20230503T183000
DTSTAMP:20260424T071034
CREATED:20230417T183951Z
LAST-MODIFIED:20230531T004514Z
UID:10002625-1683135000-1683138600@sernasolutionsllc.com
SUMMARY:Kundalini Yoga Therapy
DESCRIPTION:Wednesday – Kundalini Yoga Therapy from 5:30-6:30 PM on the Southside of Santa Fe. Please call (505) 207-8929 for location. \nThis group will be on a break the week of June 11\, 2023\, and when we come back\, we will be meeting on Mondays\, starting June 19th – be sure to mark your calendars!
URL:https://sernasolutionsllc.com/event/kundalini-yoga-therapy/2023-05-03/
CATEGORIES:Groups
ATTACH;FMTTYPE=image/png:https://sernasolutionsllc.com/wp-content/uploads/2023/04/Kundalini-Yoga-Therapy.png
ORGANIZER;CN="Serna Solutions%2C LLC":MAILTO:training@sernasolutionsllc.com
END:VEVENT
BEGIN:VEVENT
DTSTART;TZID=America/Denver:20230504T140000
DTEND;TZID=America/Denver:20230504T150000
DTSTAMP:20260424T071034
CREATED:20230417T184616Z
LAST-MODIFIED:20230417T225222Z
UID:10003730-1683208800-1683212400@sernasolutionsllc.com
SUMMARY:Grief Support Group
DESCRIPTION:Thursday – Grief Support Group: online from 2:00-3:00 PM MST.
URL:https://sernasolutionsllc.com/event/grief-support-group-2/2023-05-04/
CATEGORIES:Groups
ATTACH;FMTTYPE=image/png:https://sernasolutionsllc.com/wp-content/uploads/2023/04/Grief-Support-Group.png
ORGANIZER;CN="Serna Solutions%2C LLC":MAILTO:training@sernasolutionsllc.com
END:VEVENT
BEGIN:VEVENT
DTSTART;TZID=America/Denver:20230509T173000
DTEND;TZID=America/Denver:20230509T183000
DTSTAMP:20260424T071034
CREATED:20230417T175311Z
LAST-MODIFIED:20230418T161528Z
UID:10001580-1683653400-1683657000@sernasolutionsllc.com
SUMMARY:Grief Support Group
DESCRIPTION:Tuesday – Grief Support Group Online from 5:30 – 6:30 PM MST
URL:https://sernasolutionsllc.com/event/grief-support-group/2023-05-09/
CATEGORIES:Groups
ATTACH;FMTTYPE=image/png:https://sernasolutionsllc.com/wp-content/uploads/2023/04/Grief-Support-Group.png
ORGANIZER;CN="Serna Solutions%2C LLC":MAILTO:training@sernasolutionsllc.com
END:VEVENT
BEGIN:VEVENT
DTSTART;TZID=America/Denver:20230510T173000
DTEND;TZID=America/Denver:20230510T183000
DTSTAMP:20260424T071034
CREATED:20230417T183951Z
LAST-MODIFIED:20230531T004514Z
UID:10002626-1683739800-1683743400@sernasolutionsllc.com
SUMMARY:Kundalini Yoga Therapy
DESCRIPTION:Wednesday – Kundalini Yoga Therapy from 5:30-6:30 PM on the Southside of Santa Fe. Please call (505) 207-8929 for location. \nThis group will be on a break the week of June 11\, 2023\, and when we come back\, we will be meeting on Mondays\, starting June 19th – be sure to mark your calendars!
URL:https://sernasolutionsllc.com/event/kundalini-yoga-therapy/2023-05-10/
CATEGORIES:Groups
ATTACH;FMTTYPE=image/png:https://sernasolutionsllc.com/wp-content/uploads/2023/04/Kundalini-Yoga-Therapy.png
ORGANIZER;CN="Serna Solutions%2C LLC":MAILTO:training@sernasolutionsllc.com
END:VEVENT
BEGIN:VEVENT
DTSTART;TZID=America/Denver:20230511T140000
DTEND;TZID=America/Denver:20230511T150000
DTSTAMP:20260424T071034
CREATED:20230417T184616Z
LAST-MODIFIED:20230417T225222Z
UID:10003731-1683813600-1683817200@sernasolutionsllc.com
SUMMARY:Grief Support Group
DESCRIPTION:Thursday – Grief Support Group: online from 2:00-3:00 PM MST.
URL:https://sernasolutionsllc.com/event/grief-support-group-2/2023-05-11/
CATEGORIES:Groups
ATTACH;FMTTYPE=image/png:https://sernasolutionsllc.com/wp-content/uploads/2023/04/Grief-Support-Group.png
ORGANIZER;CN="Serna Solutions%2C LLC":MAILTO:training@sernasolutionsllc.com
END:VEVENT
BEGIN:VEVENT
DTSTART;TZID=America/Denver:20230516T173000
DTEND;TZID=America/Denver:20230516T183000
DTSTAMP:20260424T071034
CREATED:20230417T175311Z
LAST-MODIFIED:20230418T161528Z
UID:10001581-1684258200-1684261800@sernasolutionsllc.com
SUMMARY:Grief Support Group
DESCRIPTION:Tuesday – Grief Support Group Online from 5:30 – 6:30 PM MST
URL:https://sernasolutionsllc.com/event/grief-support-group/2023-05-16/
CATEGORIES:Groups
ATTACH;FMTTYPE=image/png:https://sernasolutionsllc.com/wp-content/uploads/2023/04/Grief-Support-Group.png
ORGANIZER;CN="Serna Solutions%2C LLC":MAILTO:training@sernasolutionsllc.com
END:VEVENT
BEGIN:VEVENT
DTSTART;TZID=America/Denver:20230517T173000
DTEND;TZID=America/Denver:20230517T183000
DTSTAMP:20260424T071034
CREATED:20230417T183951Z
LAST-MODIFIED:20230531T004514Z
UID:10002627-1684344600-1684348200@sernasolutionsllc.com
SUMMARY:Kundalini Yoga Therapy
DESCRIPTION:Wednesday – Kundalini Yoga Therapy from 5:30-6:30 PM on the Southside of Santa Fe. Please call (505) 207-8929 for location. \nThis group will be on a break the week of June 11\, 2023\, and when we come back\, we will be meeting on Mondays\, starting June 19th – be sure to mark your calendars!
URL:https://sernasolutionsllc.com/event/kundalini-yoga-therapy/2023-05-17/
CATEGORIES:Groups
ATTACH;FMTTYPE=image/png:https://sernasolutionsllc.com/wp-content/uploads/2023/04/Kundalini-Yoga-Therapy.png
ORGANIZER;CN="Serna Solutions%2C LLC":MAILTO:training@sernasolutionsllc.com
END:VEVENT
BEGIN:VEVENT
DTSTART;TZID=America/Denver:20230517T173000
DTEND;TZID=America/Denver:20230517T190000
DTSTAMP:20260424T071034
CREATED:20230417T184526Z
LAST-MODIFIED:20230417T225249Z
UID:10003408-1684344600-1684350000@sernasolutionsllc.com
SUMMARY:DBT for Parents
DESCRIPTION:Third Wednesday of each month – DBT for Parents 5:30-7:00 online via Zoom. Please call (505) 230-4949 for more information.
URL:https://sernasolutionsllc.com/event/dbt-for-parents/2023-05-17/
CATEGORIES:Groups
ATTACH;FMTTYPE=image/png:https://sernasolutionsllc.com/wp-content/uploads/2023/04/DBT-for-Parents.png
ORGANIZER;CN="Serna Solutions%2C LLC":MAILTO:training@sernasolutionsllc.com
END:VEVENT
BEGIN:VEVENT
DTSTART;TZID=America/Denver:20230518T140000
DTEND;TZID=America/Denver:20230518T150000
DTSTAMP:20260424T071034
CREATED:20230417T184616Z
LAST-MODIFIED:20230417T225222Z
UID:10003732-1684418400-1684422000@sernasolutionsllc.com
SUMMARY:Grief Support Group
DESCRIPTION:Thursday – Grief Support Group: online from 2:00-3:00 PM MST.
URL:https://sernasolutionsllc.com/event/grief-support-group-2/2023-05-18/
CATEGORIES:Groups
ATTACH;FMTTYPE=image/png:https://sernasolutionsllc.com/wp-content/uploads/2023/04/Grief-Support-Group.png
ORGANIZER;CN="Serna Solutions%2C LLC":MAILTO:training@sernasolutionsllc.com
END:VEVENT
BEGIN:VEVENT
DTSTART;TZID=America/Denver:20230523T173000
DTEND;TZID=America/Denver:20230523T183000
DTSTAMP:20260424T071034
CREATED:20230417T175311Z
LAST-MODIFIED:20230418T161528Z
UID:10001582-1684863000-1684866600@sernasolutionsllc.com
SUMMARY:Grief Support Group
DESCRIPTION:Tuesday – Grief Support Group Online from 5:30 – 6:30 PM MST
URL:https://sernasolutionsllc.com/event/grief-support-group/2023-05-23/
CATEGORIES:Groups
ATTACH;FMTTYPE=image/png:https://sernasolutionsllc.com/wp-content/uploads/2023/04/Grief-Support-Group.png
ORGANIZER;CN="Serna Solutions%2C LLC":MAILTO:training@sernasolutionsllc.com
END:VEVENT
BEGIN:VEVENT
DTSTART;TZID=America/Denver:20230524T173000
DTEND;TZID=America/Denver:20230524T183000
DTSTAMP:20260424T071034
CREATED:20230417T183951Z
LAST-MODIFIED:20230531T004514Z
UID:10002628-1684949400-1684953000@sernasolutionsllc.com
SUMMARY:Kundalini Yoga Therapy
DESCRIPTION:Wednesday – Kundalini Yoga Therapy from 5:30-6:30 PM on the Southside of Santa Fe. Please call (505) 207-8929 for location. \nThis group will be on a break the week of June 11\, 2023\, and when we come back\, we will be meeting on Mondays\, starting June 19th – be sure to mark your calendars!
URL:https://sernasolutionsllc.com/event/kundalini-yoga-therapy/2023-05-24/
CATEGORIES:Groups
ATTACH;FMTTYPE=image/png:https://sernasolutionsllc.com/wp-content/uploads/2023/04/Kundalini-Yoga-Therapy.png
ORGANIZER;CN="Serna Solutions%2C LLC":MAILTO:training@sernasolutionsllc.com
END:VEVENT
BEGIN:VEVENT
DTSTART;TZID=America/Denver:20230525T140000
DTEND;TZID=America/Denver:20230525T150000
DTSTAMP:20260424T071034
CREATED:20230417T184616Z
LAST-MODIFIED:20230417T225222Z
UID:10003733-1685023200-1685026800@sernasolutionsllc.com
SUMMARY:Grief Support Group
DESCRIPTION:Thursday – Grief Support Group: online from 2:00-3:00 PM MST.
URL:https://sernasolutionsllc.com/event/grief-support-group-2/2023-05-25/
CATEGORIES:Groups
ATTACH;FMTTYPE=image/png:https://sernasolutionsllc.com/wp-content/uploads/2023/04/Grief-Support-Group.png
ORGANIZER;CN="Serna Solutions%2C LLC":MAILTO:training@sernasolutionsllc.com
END:VEVENT
BEGIN:VEVENT
DTSTART;TZID=America/Denver:20230530T173000
DTEND;TZID=America/Denver:20230530T183000
DTSTAMP:20260424T071034
CREATED:20230417T175311Z
LAST-MODIFIED:20230418T161528Z
UID:10001583-1685467800-1685471400@sernasolutionsllc.com
SUMMARY:Grief Support Group
DESCRIPTION:Tuesday – Grief Support Group Online from 5:30 – 6:30 PM MST
URL:https://sernasolutionsllc.com/event/grief-support-group/2023-05-30/
CATEGORIES:Groups
ATTACH;FMTTYPE=image/png:https://sernasolutionsllc.com/wp-content/uploads/2023/04/Grief-Support-Group.png
ORGANIZER;CN="Serna Solutions%2C LLC":MAILTO:training@sernasolutionsllc.com
END:VEVENT
BEGIN:VEVENT
DTSTART;TZID=America/Denver:20230531T173000
DTEND;TZID=America/Denver:20230531T183000
DTSTAMP:20260424T071034
CREATED:20230417T183951Z
LAST-MODIFIED:20230531T004514Z
UID:10002629-1685554200-1685557800@sernasolutionsllc.com
SUMMARY:Kundalini Yoga Therapy
DESCRIPTION:Wednesday – Kundalini Yoga Therapy from 5:30-6:30 PM on the Southside of Santa Fe. Please call (505) 207-8929 for location. \nThis group will be on a break the week of June 11\, 2023\, and when we come back\, we will be meeting on Mondays\, starting June 19th – be sure to mark your calendars!
URL:https://sernasolutionsllc.com/event/kundalini-yoga-therapy/2023-05-31/
CATEGORIES:Groups
ATTACH;FMTTYPE=image/png:https://sernasolutionsllc.com/wp-content/uploads/2023/04/Kundalini-Yoga-Therapy.png
ORGANIZER;CN="Serna Solutions%2C LLC":MAILTO:training@sernasolutionsllc.com
END:VEVENT
END:VCALENDAR