BEGIN:VCALENDAR
VERSION:2.0
PRODID:-//Serna Solutions LLC - ECPv6.15.20//NONSGML v1.0//EN
CALSCALE:GREGORIAN
METHOD:PUBLISH
X-ORIGINAL-URL:https://sernasolutionsllc.com
X-WR-CALDESC:Events for Serna Solutions LLC
REFRESH-INTERVAL;VALUE=DURATION:PT1H
X-Robots-Tag:noindex
X-PUBLISHED-TTL:PT1H
BEGIN:VTIMEZONE
TZID:America/Denver
BEGIN:DAYLIGHT
TZOFFSETFROM:-0700
TZOFFSETTO:-0600
TZNAME:MDT
DTSTART:20230312T090000
END:DAYLIGHT
BEGIN:STANDARD
TZOFFSETFROM:-0600
TZOFFSETTO:-0700
TZNAME:MST
DTSTART:20231105T080000
END:STANDARD
BEGIN:DAYLIGHT
TZOFFSETFROM:-0700
TZOFFSETTO:-0600
TZNAME:MDT
DTSTART:20240310T090000
END:DAYLIGHT
BEGIN:STANDARD
TZOFFSETFROM:-0600
TZOFFSETTO:-0700
TZNAME:MST
DTSTART:20241103T080000
END:STANDARD
BEGIN:DAYLIGHT
TZOFFSETFROM:-0700
TZOFFSETTO:-0600
TZNAME:MDT
DTSTART:20250309T090000
END:DAYLIGHT
BEGIN:STANDARD
TZOFFSETFROM:-0600
TZOFFSETTO:-0700
TZNAME:MST
DTSTART:20251102T080000
END:STANDARD
END:VTIMEZONE
BEGIN:VEVENT
DTSTART;TZID=America/Denver:20240213T090000
DTEND;TZID=America/Denver:20240214T160000
DTSTAMP:20260421T113502
CREATED:20240205T215527Z
LAST-MODIFIED:20240205T215527Z
UID:10005938-1707814800-1707926400@sernasolutionsllc.com
SUMMARY:Dialectical Behavior Therapy - Level 1 (12 CEUS)
DESCRIPTION:Dialectical Behavioral Therapy or ‘DBT’ is a therapy that was originally created for difficulty in managing mood and personality disorders. It is now an evidence-based practice that assists clients with mood\, personality\, anxiety\, addictive\, and trauma-related disorders. DBT provides clients with skills that promote emotional regulation\, distress tolerance and interpersonal effectiveness. This 2-day training will provide participants with an overview of this approach and its different applications. (12 CEUs)
URL:https://sernasolutionsllc.com/event/dialectical-behavior-therapy-level-1-12-ceus/
LOCATION:ONLINE
CATEGORIES:Trainings
ATTACH;FMTTYPE=image/jpeg:https://sernasolutionsllc.com/wp-content/uploads/2024/02/Serna-Solutions-Web-Graphics-07.jpg
ORGANIZER;CN="Serna Solutions%2C LLC":MAILTO:training@sernasolutionsllc.com
END:VEVENT
END:VCALENDAR