BEGIN:VCALENDAR
VERSION:2.0
PRODID:-//Serna Solutions LLC - ECPv6.15.20//NONSGML v1.0//EN
CALSCALE:GREGORIAN
METHOD:PUBLISH
X-WR-CALNAME:Serna Solutions LLC
X-ORIGINAL-URL:https://sernasolutionsllc.com
X-WR-CALDESC:Events for Serna Solutions LLC
REFRESH-INTERVAL;VALUE=DURATION:PT1H
X-Robots-Tag:noindex
X-PUBLISHED-TTL:PT1H
BEGIN:VTIMEZONE
TZID:America/Denver
BEGIN:DAYLIGHT
TZOFFSETFROM:-0700
TZOFFSETTO:-0600
TZNAME:MDT
DTSTART:20220313T090000
END:DAYLIGHT
BEGIN:STANDARD
TZOFFSETFROM:-0600
TZOFFSETTO:-0700
TZNAME:MST
DTSTART:20221106T080000
END:STANDARD
BEGIN:DAYLIGHT
TZOFFSETFROM:-0700
TZOFFSETTO:-0600
TZNAME:MDT
DTSTART:20230312T090000
END:DAYLIGHT
BEGIN:STANDARD
TZOFFSETFROM:-0600
TZOFFSETTO:-0700
TZNAME:MST
DTSTART:20231105T080000
END:STANDARD
BEGIN:DAYLIGHT
TZOFFSETFROM:-0700
TZOFFSETTO:-0600
TZNAME:MDT
DTSTART:20240310T090000
END:DAYLIGHT
BEGIN:STANDARD
TZOFFSETFROM:-0600
TZOFFSETTO:-0700
TZNAME:MST
DTSTART:20241103T080000
END:STANDARD
END:VTIMEZONE
BEGIN:VEVENT
DTSTART;TZID=America/Denver:20230919T090000
DTEND;TZID=America/Denver:20230919T160000
DTSTAMP:20260422T023853
CREATED:20230824T210234Z
LAST-MODIFIED:20230824T210234Z
UID:10005898-1695114000-1695139200@sernasolutionsllc.com
SUMMARY:Crisis Prevention Institute – De-escalation Training - SOR
DESCRIPTION:Crisis Prevention Institute (CPI) De-escalation Training: The Crisis Prevention Institute (CPI) is an international training organization specializing in safely managing disruptive and assaultive behavior. Our trainer is CPI certified\, having completed the CPI train the trainer program. She will help participants learn and apply person-centered de-escalation and behavior management strategies designed to keep everyone as safe as possible in the workplace. A working camera and microphone are required for this training\, and full and active participation is required for the entire training to receive CEUs. (6 CEUs)
URL:https://sernasolutionsllc.com/event/crisis-prevention-institute-de-escalation-training-sor/
LOCATION:ONLINE
CATEGORIES:Training- SOR,Trainings
ATTACH;FMTTYPE=image/jpeg:https://sernasolutionsllc.com/wp-content/uploads/2023/08/Serna-Solutions-Eventbrite-Grpahics6.jpg
ORGANIZER;CN="Serna Solutions%2C LLC":MAILTO:training@sernasolutionsllc.com
END:VEVENT
BEGIN:VEVENT
DTSTART;TZID=America/Denver:20230919T130000
DTEND;TZID=America/Denver:20230919T160000
DTSTAMP:20260422T023853
CREATED:20230502T031635Z
LAST-MODIFIED:20230824T215622Z
UID:10004004-1695128400-1695139200@sernasolutionsllc.com
SUMMARY:Contingency Management (CM) - SOR
DESCRIPTION:This ONLINE training is focused on Contingency Management\, (CM) is an evidence-based practice in the treatment of alcohol and other drug (AOD) use disorders. It is the systematic reinforcement of desired behaviors and the withholding of reinforcement or punishment of undesired behaviors. It is a behavioral intervention grounded in the principles of operant conditioning\, a method of learning in which desired behaviors are reinforced with prizes\, privileges\, or cash. Simply stated\, “when I do a good thing\, I get a good thing.” CM studies have demonstrated the effectiveness of CM interventions in reducing AOD use; improving treatment attendance; and reinforcing other treatment goals\, such as complying with a medication regimen or obtaining employment. This training will provide participants with an overview of the model and practical tools to help them with implementation. A working microphone and camera are required to register for this client. (3 CEUs)
URL:https://sernasolutionsllc.com/event/contingency-management-cm-sor/
LOCATION:ONLINE
CATEGORIES:Training- SOR,Trainings
ATTACH;FMTTYPE=image/jpeg:https://sernasolutionsllc.com/wp-content/uploads/2023/05/Serna-Solutions-Eventbrite-Grpahics11.jpg
ORGANIZER;CN="Serna Solutions%2C LLC":MAILTO:training@sernasolutionsllc.com
END:VEVENT
BEGIN:VEVENT
DTSTART;TZID=America/Denver:20230919T173000
DTEND;TZID=America/Denver:20230919T183000
DTSTAMP:20260422T023853
CREATED:20230417T175311Z
LAST-MODIFIED:20230418T161528Z
UID:10001599-1695144600-1695148200@sernasolutionsllc.com
SUMMARY:Grief Support Group
DESCRIPTION:Tuesday – Grief Support Group Online from 5:30 – 6:30 PM MST
URL:https://sernasolutionsllc.com/event/grief-support-group/2023-09-19/
CATEGORIES:Groups
ATTACH;FMTTYPE=image/png:https://sernasolutionsllc.com/wp-content/uploads/2023/04/Grief-Support-Group.png
ORGANIZER;CN="Serna Solutions%2C LLC":MAILTO:training@sernasolutionsllc.com
END:VEVENT
END:VCALENDAR