BEGIN:VCALENDAR
VERSION:2.0
PRODID:-//Serna Solutions LLC - ECPv6.15.20//NONSGML v1.0//EN
CALSCALE:GREGORIAN
METHOD:PUBLISH
X-ORIGINAL-URL:https://sernasolutionsllc.com
X-WR-CALDESC:Events for Serna Solutions LLC
REFRESH-INTERVAL;VALUE=DURATION:PT1H
X-Robots-Tag:noindex
X-PUBLISHED-TTL:PT1H
BEGIN:VTIMEZONE
TZID:America/Denver
BEGIN:DAYLIGHT
TZOFFSETFROM:-0700
TZOFFSETTO:-0600
TZNAME:MDT
DTSTART:20220313T090000
END:DAYLIGHT
BEGIN:STANDARD
TZOFFSETFROM:-0600
TZOFFSETTO:-0700
TZNAME:MST
DTSTART:20221106T080000
END:STANDARD
BEGIN:DAYLIGHT
TZOFFSETFROM:-0700
TZOFFSETTO:-0600
TZNAME:MDT
DTSTART:20230312T090000
END:DAYLIGHT
BEGIN:STANDARD
TZOFFSETFROM:-0600
TZOFFSETTO:-0700
TZNAME:MST
DTSTART:20231105T080000
END:STANDARD
BEGIN:DAYLIGHT
TZOFFSETFROM:-0700
TZOFFSETTO:-0600
TZNAME:MDT
DTSTART:20240310T090000
END:DAYLIGHT
BEGIN:STANDARD
TZOFFSETFROM:-0600
TZOFFSETTO:-0700
TZNAME:MST
DTSTART:20241103T080000
END:STANDARD
END:VTIMEZONE
BEGIN:VEVENT
DTSTART;TZID=America/Denver:20230908T090000
DTEND;TZID=America/Denver:20230908T160000
DTSTAMP:20260422T023454
CREATED:20230825T192451Z
LAST-MODIFIED:20230825T192451Z
UID:10005904-1694163600-1694188800@sernasolutionsllc.com
SUMMARY:Therapeutic Games for Groups
DESCRIPTION:This workshop is experiential\, fun\, and practical! Join us as we learn a variety of therapeutic games experientially. These games can be used for team building\, trust building\, problem-solving\, and to gain insight into addiction and mental health challenges experienced by individuals and families. Expect some movement\, lots of practical information\, and loads of laughter. Registration is limited to 30 people.
URL:https://sernasolutionsllc.com/event/therapeutic-games-for-groups/
LOCATION:Duke City Recovery Toolbox\, 912 1st Street NW\, Albuquerque\, NM\, 87102\, United States
CATEGORIES:Training- SOR,Trainings
ATTACH;FMTTYPE=image/jpeg:https://sernasolutionsllc.com/wp-content/uploads/2023/08/Serna-Solutions-Eventbrite-Grpahics13.jpg
ORGANIZER;CN="Serna Solutions%2C LLC":MAILTO:training@sernasolutionsllc.com
END:VEVENT
END:VCALENDAR