BEGIN:VCALENDAR
VERSION:2.0
PRODID:-//Serna Solutions LLC - ECPv6.15.20//NONSGML v1.0//EN
CALSCALE:GREGORIAN
METHOD:PUBLISH
X-ORIGINAL-URL:https://sernasolutionsllc.com
X-WR-CALDESC:Events for Serna Solutions LLC
REFRESH-INTERVAL;VALUE=DURATION:PT1H
X-Robots-Tag:noindex
X-PUBLISHED-TTL:PT1H
BEGIN:VTIMEZONE
TZID:America/Denver
BEGIN:DAYLIGHT
TZOFFSETFROM:-0700
TZOFFSETTO:-0600
TZNAME:MDT
DTSTART:20220313T090000
END:DAYLIGHT
BEGIN:STANDARD
TZOFFSETFROM:-0600
TZOFFSETTO:-0700
TZNAME:MST
DTSTART:20221106T080000
END:STANDARD
BEGIN:DAYLIGHT
TZOFFSETFROM:-0700
TZOFFSETTO:-0600
TZNAME:MDT
DTSTART:20230312T090000
END:DAYLIGHT
BEGIN:STANDARD
TZOFFSETFROM:-0600
TZOFFSETTO:-0700
TZNAME:MST
DTSTART:20231105T080000
END:STANDARD
BEGIN:DAYLIGHT
TZOFFSETFROM:-0700
TZOFFSETTO:-0600
TZNAME:MDT
DTSTART:20240310T090000
END:DAYLIGHT
BEGIN:STANDARD
TZOFFSETFROM:-0600
TZOFFSETTO:-0700
TZNAME:MST
DTSTART:20241103T080000
END:STANDARD
END:VTIMEZONE
BEGIN:VEVENT
DTSTART;TZID=America/Denver:20230907T090000
DTEND;TZID=America/Denver:20230907T160000
DTSTAMP:20260422T023526
CREATED:20230825T191554Z
LAST-MODIFIED:20230825T191817Z
UID:10005903-1694077200-1694102400@sernasolutionsllc.com
SUMMARY:Motivational Interviewing - Advanced Practice - SOR
DESCRIPTION:This workshop provides persons with extensive training and practice with Motivational Interviewing to stretch their skills and creativity in a supportive and fun atmosphere. In this session\, we will explore applications of Motivational Interviewing with other modalities\, engage in MI-based challenges\, and provide supportive feedback to MI colleagues in a structured format. Attendance is limited to 75 people.
URL:https://sernasolutionsllc.com/event/motivational-interviewing-advanced-practice-sor/
LOCATION:CNM Workforce Training Center – Room 103\, 5600 Eagle Rock Ave\, Albuquerque\, NM\, 87113\, United States
CATEGORIES:Training- SOR,Trainings
ATTACH;FMTTYPE=image/jpeg:https://sernasolutionsllc.com/wp-content/uploads/2023/08/Serna-Solutions-Web-Graphics12.jpg
ORGANIZER;CN="Serna Solutions%2C LLC":MAILTO:training@sernasolutionsllc.com
END:VEVENT
BEGIN:VEVENT
DTSTART;TZID=America/Denver:20230907T140000
DTEND;TZID=America/Denver:20230907T150000
DTSTAMP:20260422T023526
CREATED:20230417T184616Z
LAST-MODIFIED:20230417T225222Z
UID:10003748-1694095200-1694098800@sernasolutionsllc.com
SUMMARY:Grief Support Group
DESCRIPTION:Thursday – Grief Support Group: online from 2:00-3:00 PM MST.
URL:https://sernasolutionsllc.com/event/grief-support-group-2/2023-09-07/
CATEGORIES:Groups
ATTACH;FMTTYPE=image/png:https://sernasolutionsllc.com/wp-content/uploads/2023/04/Grief-Support-Group.png
ORGANIZER;CN="Serna Solutions%2C LLC":MAILTO:training@sernasolutionsllc.com
END:VEVENT
END:VCALENDAR