BEGIN:VCALENDAR
VERSION:2.0
PRODID:-//Serna Solutions LLC - ECPv6.15.20//NONSGML v1.0//EN
CALSCALE:GREGORIAN
METHOD:PUBLISH
X-ORIGINAL-URL:https://sernasolutionsllc.com
X-WR-CALDESC:Events for Serna Solutions LLC
REFRESH-INTERVAL;VALUE=DURATION:PT1H
X-Robots-Tag:noindex
X-PUBLISHED-TTL:PT1H
BEGIN:VTIMEZONE
TZID:America/Denver
BEGIN:DAYLIGHT
TZOFFSETFROM:-0700
TZOFFSETTO:-0600
TZNAME:MDT
DTSTART:20220313T090000
END:DAYLIGHT
BEGIN:STANDARD
TZOFFSETFROM:-0600
TZOFFSETTO:-0700
TZNAME:MST
DTSTART:20221106T080000
END:STANDARD
BEGIN:DAYLIGHT
TZOFFSETFROM:-0700
TZOFFSETTO:-0600
TZNAME:MDT
DTSTART:20230312T090000
END:DAYLIGHT
BEGIN:STANDARD
TZOFFSETFROM:-0600
TZOFFSETTO:-0700
TZNAME:MST
DTSTART:20231105T080000
END:STANDARD
BEGIN:DAYLIGHT
TZOFFSETFROM:-0700
TZOFFSETTO:-0600
TZNAME:MDT
DTSTART:20240310T090000
END:DAYLIGHT
BEGIN:STANDARD
TZOFFSETFROM:-0600
TZOFFSETTO:-0700
TZNAME:MST
DTSTART:20241103T080000
END:STANDARD
END:VTIMEZONE
BEGIN:VEVENT
DTSTART;TZID=America/Denver:20230803T090000
DTEND;TZID=America/Denver:20230804T160000
DTSTAMP:20260422T162216
CREATED:20230506T041636Z
LAST-MODIFIED:20230506T041636Z
UID:10004279-1691053200-1691164800@sernasolutionsllc.com
SUMMARY:Adolescent Dialectical Behavioral Therapy - SOR
DESCRIPTION:This ONLINE training is focused on Dialectical Behavioral Therapy or ‘DBT’ – an evidenced based practice that assists clients with mood\, personality\, anxiety\, addictive and trauma related disorders. DBT provides clients with skills that promote emotional regulation\, distress tolerance\, mindfulness and interpersonal effectiveness. This training will provide participants with an explanation of this modality and practice teaching DBT skills to your clients – specifically focusing on applying the modality in a developmentally appropriate way to adolescents. A working camera and microphone are required to register for this event. (12 CEUs)
URL:https://sernasolutionsllc.com/event/adolescent-dialectical-behavioral-therapy-sor/
LOCATION:ONLINE
CATEGORIES:Training- SOR,Trainings
ATTACH;FMTTYPE=image/jpeg:https://sernasolutionsllc.com/wp-content/uploads/2023/05/https___cdn.evbuc_.com_images_505049469_215472727321_1_original-1.jpeg
ORGANIZER;CN="Serna Solutions%2C LLC":MAILTO:training@sernasolutionsllc.com
END:VEVENT
END:VCALENDAR