BEGIN:VCALENDAR
VERSION:2.0
PRODID:-//Serna Solutions LLC - ECPv6.15.20//NONSGML v1.0//EN
CALSCALE:GREGORIAN
METHOD:PUBLISH
X-WR-CALNAME:Serna Solutions LLC
X-ORIGINAL-URL:https://sernasolutionsllc.com
X-WR-CALDESC:Events for Serna Solutions LLC
REFRESH-INTERVAL;VALUE=DURATION:PT1H
X-Robots-Tag:noindex
X-PUBLISHED-TTL:PT1H
BEGIN:VTIMEZONE
TZID:America/Denver
BEGIN:DAYLIGHT
TZOFFSETFROM:-0700
TZOFFSETTO:-0600
TZNAME:MDT
DTSTART:20220313T090000
END:DAYLIGHT
BEGIN:STANDARD
TZOFFSETFROM:-0600
TZOFFSETTO:-0700
TZNAME:MST
DTSTART:20221106T080000
END:STANDARD
BEGIN:DAYLIGHT
TZOFFSETFROM:-0700
TZOFFSETTO:-0600
TZNAME:MDT
DTSTART:20230312T090000
END:DAYLIGHT
BEGIN:STANDARD
TZOFFSETFROM:-0600
TZOFFSETTO:-0700
TZNAME:MST
DTSTART:20231105T080000
END:STANDARD
BEGIN:DAYLIGHT
TZOFFSETFROM:-0700
TZOFFSETTO:-0600
TZNAME:MDT
DTSTART:20240310T090000
END:DAYLIGHT
BEGIN:STANDARD
TZOFFSETFROM:-0600
TZOFFSETTO:-0700
TZNAME:MST
DTSTART:20241103T080000
END:STANDARD
END:VTIMEZONE
BEGIN:VEVENT
DTSTART;TZID=America/Denver:20230713T090000
DTEND;TZID=America/Denver:20230714T160000
DTSTAMP:20260422T195601
CREATED:20230621T174218Z
LAST-MODIFIED:20230627T165304Z
UID:10005608-1689238800-1689350400@sernasolutionsllc.com
SUMMARY:Community Reinforcement and Family Training (CRAFT)
DESCRIPTION:Join us for this 2-day online workshop from 9:00 am – 4:00 pm on July 13th & 14th focused on Community Reinforcement and Family Training is the only evidence-based program to assist families that are challenged by addiction. It uses an overall positive approach and steers clear of any confrontation. CRAFT is a culturally sensitive program that works with families to positively influence the behavior of a person with an active addiction. The program emphasizes learning new skills to cope with old problems. Some of the components include how to stay safe\, understand the function of the addiction\, and teach caregivers how to use positive reinforcers (rewards) and how to let the substance user suffer the natural consequences of their using behavior. CRAFT research has shown that almost 7 out of 10 people who use the program get their substance users to attend treatment and has been shown to be equally effective with Hispanic and Anglo families. (12 CEUs) This is a paid training\, cost is $225.
URL:https://sernasolutionsllc.com/event/community-reinforcement-and-family-training-craft/
LOCATION:ONLINE
CATEGORIES:Trainings
ATTACH;FMTTYPE=image/jpeg:https://sernasolutionsllc.com/wp-content/uploads/2023/06/Commmunity-Reinforcement-Family-Training-Social-Graphic-01-1.jpg
ORGANIZER;CN="Serna Solutions%2C LLC":MAILTO:training@sernasolutionsllc.com
END:VEVENT
BEGIN:VEVENT
DTSTART;TZID=America/Denver:20230714T090000
DTEND;TZID=America/Denver:20230714T160000
DTSTAMP:20260422T195601
CREATED:20230502T020341Z
LAST-MODIFIED:20230506T024207Z
UID:10003995-1689325200-1689350400@sernasolutionsllc.com
SUMMARY:Ethics: Cultural Competency\, Fluency and Humility - SOR
DESCRIPTION:This ONLINE workshop provides participants with an overview of the evolution of ideas relevant to working with culturally diverse clients and communities. Issues around how cultural identity and personal bias can influence behavioral health prevention and treatment programs are explored in depth. Other ideas such as privilege\, intersectionality\, and micro-aggressions will be defined and used to frame larger discussions. A working camera and microphone are required to participate in this training. (6 CEUs)
URL:https://sernasolutionsllc.com/event/cultural-competency-fluency-and-humility-sor/
LOCATION:ONLINE
CATEGORIES:Training- SOR,Trainings
ATTACH;FMTTYPE=image/jpeg:https://sernasolutionsllc.com/wp-content/uploads/2023/05/https___cdn.evbuc_.com_images_505033009_215472727321_1_original.jpeg
ORGANIZER;CN="Serna Solutions%2C LLC":MAILTO:training@sernasolutionsllc.com
END:VEVENT
END:VCALENDAR