BEGIN:VCALENDAR
VERSION:2.0
PRODID:-//Serna Solutions LLC - ECPv6.15.20//NONSGML v1.0//EN
CALSCALE:GREGORIAN
METHOD:PUBLISH
X-ORIGINAL-URL:https://sernasolutionsllc.com
X-WR-CALDESC:Events for Serna Solutions LLC
REFRESH-INTERVAL;VALUE=DURATION:PT1H
X-Robots-Tag:noindex
X-PUBLISHED-TTL:PT1H
BEGIN:VTIMEZONE
TZID:America/Denver
BEGIN:DAYLIGHT
TZOFFSETFROM:-0700
TZOFFSETTO:-0600
TZNAME:MDT
DTSTART:20220313T090000
END:DAYLIGHT
BEGIN:STANDARD
TZOFFSETFROM:-0600
TZOFFSETTO:-0700
TZNAME:MST
DTSTART:20221106T080000
END:STANDARD
BEGIN:DAYLIGHT
TZOFFSETFROM:-0700
TZOFFSETTO:-0600
TZNAME:MDT
DTSTART:20230312T090000
END:DAYLIGHT
BEGIN:STANDARD
TZOFFSETFROM:-0600
TZOFFSETTO:-0700
TZNAME:MST
DTSTART:20231105T080000
END:STANDARD
BEGIN:DAYLIGHT
TZOFFSETFROM:-0700
TZOFFSETTO:-0600
TZNAME:MDT
DTSTART:20240310T090000
END:DAYLIGHT
BEGIN:STANDARD
TZOFFSETFROM:-0600
TZOFFSETTO:-0700
TZNAME:MST
DTSTART:20241103T080000
END:STANDARD
END:VTIMEZONE
BEGIN:VEVENT
DTSTART;TZID=America/Denver:20230710T090000
DTEND;TZID=America/Denver:20230710T160000
DTSTAMP:20260422T194640
CREATED:20230502T015353Z
LAST-MODIFIED:20230506T024216Z
UID:10003994-1688979600-1689004800@sernasolutionsllc.com
SUMMARY:The Basics of Trauma Informed Care - SOR
DESCRIPTION:This ONLINE workshop will provide participants with a solid understanding of how trauma impacts the developing nervous system and interlinks with addictions\, mental health and attachment issues. This training provides introductory strategies for nervous system regulation that can assist clients/patients in managing symptoms\, viewed through a historical trauma lens. A working camera and microphone is required for this training. (6 CEUs)
URL:https://sernasolutionsllc.com/event/the-basics-of-trauma-informed-care-sor/
LOCATION:ONLINE
CATEGORIES:Training- SOR,Trainings
ATTACH;FMTTYPE=image/jpeg:https://sernasolutionsllc.com/wp-content/uploads/2023/05/https___cdn.evbuc_.com_images_505022879_215472727321_1_original.jpeg
ORGANIZER;CN="Serna Solutions%2C LLC":MAILTO:training@sernasolutionsllc.com
END:VEVENT
BEGIN:VEVENT
DTSTART;TZID=America/Denver:20230710T173000
DTEND;TZID=America/Denver:20230710T183000
DTSTAMP:20260422T194640
CREATED:20230531T004709Z
LAST-MODIFIED:20230531T004709Z
UID:10004556-1689010200-1689013800@sernasolutionsllc.com
SUMMARY:Kundalini Yoga Therapy
DESCRIPTION:Wednesday – Kundalini Yoga Therapy from 5:30-6:30 PM on the Southside of Santa Fe. Please call (505) 207-8929 for location. \nThis group will be on a break the week of June 11\, 2023\, and when we come back\, we will be meeting on Mondays\, starting June 19th – be sure to mark your calendars!
URL:https://sernasolutionsllc.com/event/kundalini-yoga-therapy-2/2023-07-10/
CATEGORIES:Groups
ATTACH;FMTTYPE=image/png:https://sernasolutionsllc.com/wp-content/uploads/2023/04/Kundalini-Yoga-Therapy.png
ORGANIZER;CN="Serna Solutions%2C LLC":MAILTO:training@sernasolutionsllc.com
END:VEVENT
END:VCALENDAR