BEGIN:VCALENDAR
VERSION:2.0
PRODID:-//Serna Solutions LLC - ECPv6.15.20//NONSGML v1.0//EN
CALSCALE:GREGORIAN
METHOD:PUBLISH
X-ORIGINAL-URL:https://sernasolutionsllc.com
X-WR-CALDESC:Events for Serna Solutions LLC
REFRESH-INTERVAL;VALUE=DURATION:PT1H
X-Robots-Tag:noindex
X-PUBLISHED-TTL:PT1H
BEGIN:VTIMEZONE
TZID:America/Denver
BEGIN:DAYLIGHT
TZOFFSETFROM:-0700
TZOFFSETTO:-0600
TZNAME:MDT
DTSTART:20220313T090000
END:DAYLIGHT
BEGIN:STANDARD
TZOFFSETFROM:-0600
TZOFFSETTO:-0700
TZNAME:MST
DTSTART:20221106T080000
END:STANDARD
BEGIN:DAYLIGHT
TZOFFSETFROM:-0700
TZOFFSETTO:-0600
TZNAME:MDT
DTSTART:20230312T090000
END:DAYLIGHT
BEGIN:STANDARD
TZOFFSETFROM:-0600
TZOFFSETTO:-0700
TZNAME:MST
DTSTART:20231105T080000
END:STANDARD
BEGIN:DAYLIGHT
TZOFFSETFROM:-0700
TZOFFSETTO:-0600
TZNAME:MDT
DTSTART:20240310T090000
END:DAYLIGHT
BEGIN:STANDARD
TZOFFSETFROM:-0600
TZOFFSETTO:-0700
TZNAME:MST
DTSTART:20241103T080000
END:STANDARD
END:VTIMEZONE
BEGIN:VEVENT
DTSTART;TZID=America/Denver:20230621T090000
DTEND;TZID=America/Denver:20230621T160000
DTSTAMP:20260422T194931
CREATED:20230417T184835Z
LAST-MODIFIED:20230417T224550Z
UID:10003989-1687338000-1687363200@sernasolutionsllc.com
SUMMARY:Grief and Loss: Clinical Applications for Helpers
DESCRIPTION:This presentation is designed for anyone wanting to understand both the conceptual framework and practical applications for working with grief & loss in a clinical context. This training will include: basic grief psycho-education\, manifestations of grief in clinical presentation\, the tenets of grief companioning (“heart-set” for grief work\,) conceptual models to understand grief\, developmental & ethical considerations when working with grief\, and interventions to assist grief processing. Grief and loss touch everyone\, clients\, and clinicians\, and this training is highly experiential and interactive.  Bring your tissues! (6 CEUs)
URL:https://sernasolutionsllc.com/event/grief-and-loss-clinical-applications-for-helpers/
CATEGORIES:Trainings
ATTACH;FMTTYPE=image/jpeg:https://sernasolutionsllc.com/wp-content/uploads/2023/04/https___cdn.evbuc_.com_images_467938179_215472727321_1_original.jpeg
ORGANIZER;CN="Serna Solutions%2C LLC":MAILTO:training@sernasolutionsllc.com
END:VEVENT
BEGIN:VEVENT
DTSTART;TZID=America/Denver:20230621T173000
DTEND;TZID=America/Denver:20230621T190000
DTSTAMP:20260422T194931
CREATED:20230417T184526Z
LAST-MODIFIED:20230417T225249Z
UID:10003409-1687368600-1687374000@sernasolutionsllc.com
SUMMARY:DBT for Parents
DESCRIPTION:Third Wednesday of each month – DBT for Parents 5:30-7:00 online via Zoom. Please call (505) 230-4949 for more information.
URL:https://sernasolutionsllc.com/event/dbt-for-parents/2023-06-21/
CATEGORIES:Groups
ATTACH;FMTTYPE=image/png:https://sernasolutionsllc.com/wp-content/uploads/2023/04/DBT-for-Parents.png
ORGANIZER;CN="Serna Solutions%2C LLC":MAILTO:training@sernasolutionsllc.com
END:VEVENT
END:VCALENDAR